BEGIN:VCALENDAR
VERSION:2.0
PRODID:-//The MasterMind Group - Organization of Medical Conferences and Scientific Events - Modern Medical Education | Organizing your success ... - ECPv4.0.4//NONSGML v1.0//EN
CALSCALE:GREGORIAN
METHOD:PUBLISH
X-WR-CALNAME:The MasterMind Group - Organization of Medical Conferences and Scientific Events - Modern Medical Education | Organizing your success ...
X-ORIGINAL-URL:https://tmg.gr/en
X-WR-CALDESC:Events for The MasterMind Group - Organization of Medical Conferences and Scientific Events - Modern Medical Education | Organizing your success ...
BEGIN:VEVENT
DTSTART;VALUE=DATE:20190208
DTEND;VALUE=DATE:20190210
DTSTAMP:20260425T023748
CREATED:20181107
LAST-MODIFIED:20190131
UID:14536-1549584000-1549843199@tmg.gr
SUMMARY:10ο Καρδιολογικό Συνέδριο Ανατολικής Μακεδονίας και Θράκης
DESCRIPTION:\n\n\n\n\n\n\nRegistration Form\n\n\n\n● Program\n\nΧορηγούνται 14 μόρια Συνεχιζόμενης Ιατρικής Εκπαίδευσης\n(CME-CPD credits) από τον Πανελλήνιο Ιατρικό Σύλλογο\n\n10ο Καρδιολογικό Συνέδριο Ανατολικής Μακεδονίας και Θράκης\nΑπό την Πανεπιστημιακή Καρδιολογική Κλινική του Δ.Π.Θ.\nΘεραπεία Kαρδιαγγειακών Nοσημάτων 2019\nΥγιής καρδιά σε κάθε ηλικία\n8 - 10 Φεβρουαρίου 2019\, Αλεξανδρούπολη\nGrecotel Egnatia\,\nAstir Hotel\nXαιρετισμός\nΑγαπητές και αγαπητοί συνάδελφοι\,\n\nΜε μεγάλη χαρά σας προσκαλούμε στο 10ο Ετήσιο Καρδιολογικό Συνέδριο που διοργανώνει η Καρδιολογική Κλινική του Δημοκριτείου Πανεπιστημίου Θράκης υπό την αιγίδα της Ελληνικής Καρδιολογικής Εταιρείας. Το Συνέδριο θα διεξαχθεί από τις 8 ως τις 10 Φεβρουαρίου 2019 στο Συνεδριακό Κέντρο του ξενοδοχείου Astir\, στην Αλεξανδρούπολη.\nΑυτή τη χρονιά\, το κεντρικό θέμα του Συνεδρίου είναι «Υγιής Καρδιά σε Κάθε Ηλικία». Η συνεχιζόμενη αύξηση του προσδόκιμου επιβίωσης στον πληθυσμό συνεπάγεται μεγάλες νέες προκλήσεις για την καρδιολογία. Οι προκλήσεις - αλλά και ευκαιρίες - αυτές σχετίζονται με την έγκαιρη διάγνωση και αντιμετώπιση των κυριότερων καρδιαγγειακών νοσημάτων που εμφανίζονται ή επιδεινώνονται στους ηλικιωμένους\, όπως η στεφανιαία και περιφερική αθηροσκληρωτική νόσος\, οι παθήσεις της αορτικής\, μιτροειδούς\, αλλά και τριγλώχινας βαλβίδας\, η φλεβοθρόμβωση και πνευμονική εμβολή\, η κολπική μαρμαρυγή και οι συνέπειές της\, καθώς και η καρδιακή ανεπάρκεια με μειωμένο ή διατηρημένο κλάσμα εξώθησης. Η χρονιά που μας πέρασε χαρακτηρίστηκε από σημαντικές τεχνικές εξελίξεις και προόδους όχι μόνο στην αντιμετώπιση\, αλλά και - το σημαντικότερο - στην πρόληψη των νοσημάτων αυτών μέσω τροποποίησης των παραγόντων κινδύνου. Τις νέες ελπίδες και προοπτικές που γεννούν τα αποτελέσματα των πρόσφατων μελετών\, ώστε να φθάσουν όσο το δυνατόν περισσότεροι άνθρωποι σε μία προχωρημένη ηλικία μέ όσο το δυνατόν «υγιέστερη» καρδιά και αγγεία\, επιθυμούμε να σας παρουσιάσουμε και να συζητήσουμε μαζί σας.\nΠαράλληλα με το κεντρικό θέμα\, οι συνεργάτες της Κλινικής μας και μεγάλος αριθμός διεθνώς αναγνωρισμένων ειδικών από όλη την Ελλάδα θα αναλύσουν όπως κάθε χρόνο τις πρόσφατες επιστημονικές εξελίξεις σε ευρύτατο φάσμα καίριων τομέων της Καρδιολογίας. Η εκκίνηση του Συνεδρίου γίνεται με τα διαδραστικά Νοσηλευτικά και Κλινικά Εργαστήρια στη βάση παρουσίασης απαιτητικών κλινικών περιστατικών και σχολιασμού τους υπό το πρίσμα των πρόσφατων Κατευθυντηρίων Οδηγιών. Θα εστιάσουμε επίσης στις αλληλεπιδράσεις καρδιάς και άλλων οργάνων και τις νεότερες στρατηγικές θεραπείας του σακχαρώδη διαβήτη\, της αρτηριακής υπέρτασης και της υπερλιπιδαιμίας. Ιδιαίτερη θέση καταλαμβάνουν όπως κάθε χρόνο η οξεία και χρόνια αντιμετώπιση του ασθενή με έμφραγμα του μυοκαρδίου και η πρόοδος στην αντιμετώπιση των αρρυθμιών και των παθήσεων της πνευμονικής κυκλοφορίας.\nΠιστεύουμε ότι τα άκρως επίκαιρα θέματα που θα συζητηθούν στο Συνέδριο ενδιαφέρουν άμεσα όχι μόνο τους Καρδιολόγους\, αλλά και τους Συναδέλφους πολλών άλλων ειδικοτήτων καθώς και Νοσηλεύτριες / Νοσηλευτές. Για το λόγο αυτό\, εκ μέρους της Οργανωτικής Επιτροπής του Συνεδρίου\, θα χαρούμε ιδιαίτερα αν μας τιμήσετε όπως κάθε χρόνο με την παρουσία και τη συμμετοχή σας.\nΜε θερμούς φιλικούς χαιρετισμούς\,\n\nΣταύρος Β. Κωνσταντινίδης           Δημήτριος Ν. Τζιακάς\nΚαθηγητής Καρδιολογίας Δ.Π.Θ.        Καθηγητής Καρδιολογίας Δ.Π.Θ.
URL:https://tmg.gr/en/event/10o-kardiologiko-sinedrio-anatolikis-makedonias-ke-thrakis/
LOCATION: Λεωφ. Δημοκρατίας\, Αλεξανδρούπολη\, Αλεξανδρούπολης\, 681 00\, Greece
ATTACH;FMTTYPE=application/pdf:https://tmg.gr/en/wp-content/uploads/2019/01/FinalProgram_10thCardiology_Updated.pdf
END:VEVENT
END:VCALENDAR