BEGIN:VCALENDAR
VERSION:2.0
PRODID:-//The MasterMind Group - Organization of Medical Conferences and Scientific Events - Modern Medical Education | Organizing your success ... - ECPv4.0.4//NONSGML v1.0//EN
CALSCALE:GREGORIAN
METHOD:PUBLISH
X-WR-CALNAME:The MasterMind Group - Organization of Medical Conferences and Scientific Events - Modern Medical Education | Organizing your success ...
X-ORIGINAL-URL:https://tmg.gr/en
X-WR-CALDESC:Events for The MasterMind Group - Organization of Medical Conferences and Scientific Events - Modern Medical Education | Organizing your success ...
BEGIN:VEVENT
DTSTART;VALUE=DATE:20200911
DTEND;VALUE=DATE:20200913
DTSTAMP:20260425T234035
CREATED:20191218
LAST-MODIFIED:20200915
UID:15143-1599782400-1600041599@tmg.gr
SUMMARY:10ο ΠΑΝΕΛΛΗΝΙΟ ΣΥΝΕΔΡΙΟ ΙΝΣΤΙΤΟΥΤΟΥ ΜΕΛΕΤΗΣ\, ΕΡΕΥΝΑΣ & ΕΚΠΑΙΔΕΥΣΗΣ ΓΙΑ ΤΟ ΣΑΚΧΑΡΩΔΗ ΔΙΑΒΗΤΗ & ΤΑ ΜΕΤΑΒΟΛΙΚΑ ΝΟΣΗΜΑΤΑ
DESCRIPTION:Χορήγηση πιστοποιητικού με 24 μόρια (credits)\nΣυνεχιζόμενης ιατρικής εκπαίδευσης (CME-CPD)\n\n\n\n\n \n \n\n\n\n\n\n\n\nPreview abstracts\n\n\n\n\n\n\n\n\n\nFinal program\n\n\n\n \n\nΓΕΝΙΚΕΣ ΠΛΗΡΟΡΟΦΙΕΣ\n\nΣτο 10o Πανελλήνιο Συνέδριο του Ινστιτούτου Διαβήτη\,  κύριο μέλημα μας είναι η απαρέγκλιτη τήρηση όλων των κανόνων υγιεινής και μέτρων για την διασφάλιση της υγείας τόσο των εργαζομένων στους συνεδριακούς χώρους\, των συναδέλφων μας\, όσο και της δημόσιας υγείας γενικότερα.\n\nΣας ενημερώνουμε ότι έχουν παρθεί όλα τα προληπτικά μέτρα ασφαλείας μη μετάδοσης του Covid-19 που έχουμε λάβει μέχρι σήμερα από την Πολιτεία\, λαμβάνοντας υπόψη τις επίσημες οδηγίες και συστάσεις που έχουν δοθεί από το Υπουργείο Υγείας\, το Υπουργείο Τουρισμού και τον ΕΟΔΥ.\n\nΕΓΓΡΑΦΕΣ:\n\nΔικαίωμα συμμετοχής με φυσική παρουσία: \n\n \tΦυσική παρουσία περιορισμένου και προκαθορισμένου αριθμού συνέδρων στο χώρο του συνεδρίου\, με όλους τους υγειονομικούς κανόνες που έχουν επιβληθεί από την πολιτεία για την αποφυγή μετάδοσης του Covid-19.\n \tΑπαραίτητη προϋπόθεση για την εγγραφή στο Συνέδριο είναι η υποβολή της Φόρμας Εγγραφής την οποία μπορείτε να βρείτε στην ιστοσελίδα του Συνεδρίου.\n \tΟι εγγεγραμμένοι σύνεδροι θα λάβουν την ηλεκτρονική κονκάρδα (e-badge) στο email που καταχωρούν κατά την εγγραφή τους\, η οποία θα περιλαμβάνει το προσωπικό barcode για την αναγκαία σάρωση κατά την είσοδό και έξοδο τους στις αίθουσες καθώς και το Τελικό Πρόγραμματου Συνεδρίου σε ηλεκτρονική μορφή (e-Program) μέσω ενός QR code.\n \tΟι εγγεγραμμένοι σύνεδροι που έχουν ήδη υποβάλλει το Δελτίο Συμμετοχής δεν χρειάζεται να το υποβάλλουν εκ νέου.\n \tΚαινούργιες εγγραφές θα γίνονται ηλεκτρονικά στη γραμματεία του συνεδρίου\, αν υπάρχουν διαθέσιμες κενές θέσεις\, από όπου θα παραλαμβάνεται και το e-badge.\n \tΣε περίπτωση κάλυψης του μέγιστου αριθμού καθήμενων εντός της συνεδριακής αίθουσας βάσει όλων των υγειονομικών κανόνων θα παρέχεται ταυτόχρονη διαδικτυακή μετάδοση (live-streaming).\n\nΠαρακολούθηση μέσω διαδικτύου:\n\n \tΤο Συνέδριο θα αναμεταδοθεί ζωντανά μέσω της ιστοσελίδας Ζωντανή αναμετάδοση.\n \tΑπαραίτητη προϋπόθεση είναι η συμπλήρωση του email που έχετε υποβάλλει στην φόρμα εγγραφής σας καθώς και του προσωπικού σας barcode (περιλαμβάνεται στο e-badge).\n \tΗ διαδραστικότητα θα επιτευχθεί μέσω της on-line φόρμας υποβολής σχολίων\, η οποία θα είναι διαθέσιμη καθ’ όλη τη διάρκεια της εκδήλωσης\, έτσι ώστε να υποβάλλεται τα ερωτήματα σας στους ομιλητές.\n\n ΠΛΗΡΟΦΟΡΙΕΣ:\n\n \tΣτις αίθουσες ομιλιών\, στον εκθεσιακό χώρο\, καθώς και σε όλους τους χώρους του Συνεδρίου (γραμματεία\, χώροι επισιτιστικών παροχών) θα τηρούνται όλες οι ισχύουσες διατάξεις και μέτρα προστασίας της υγείας.\n \tΘα υπάρχει η δυνατότητα παρακολούθησης ζωντανής αναμετάδοσης (live-streaming) της κύριας αίθουσας στο χώρο προσφοράς των διαλειμμάτων καφέ.\n \tΟι Σύνεδροι πριν την είσοδό τους στις αίθουσες ομιλιών θα ενημερώνονται για τις διαθέσιμες / κενές θέσεις.\n \tΟι εγγεγραμμένοι σύνεδροι θα παραλάβουν ηλεκτρονικά Πιστοποιητικό Παρακολούθησης (e-Certificate)\, στην ηλεκτρονική διεύθυνση (e-mail) που έχουν δηλώσει στο Δελτίο Συμμετοχής τους.\n \tΧορηγούνται 24 Μόρια Συνεχιζόμενης Ιατρικής Εκπαίδευσης από τον Πανελλήνιο Ιατρικό Σύλλογο.\n \tΟ χρόνος παρακολούθησηςθα καταγράφεται τόσο από τη φυσική παρουσία των συνέδρων εντός της εκάστοτε αίθουσας ομιλιών\, όσο και από το χρόνο της on-line παρακολούθησης στην πλατφόρμα μετάδοσης.\n \tΤο προσωπικό του ομίλου εταιριών The Mastermind Groupέχει εκπαιδευτεί και πιστοποιηθεί για την προφύλαξη και μέτρα πρόληψης από τον SARS-CoV-2 για τον Συνεδριακό Τουρισμό\, Εστίαση\, Τουριστικά Καταλύματα\, Τουριστικά Γραφεία.\n\nΚΕΝΤΡΟ ΠΑΡΑΛΑΒΗΣ ΔΙΑΦΑΝΕΙΩΝ:\n\nΕνθαρρύνεται η αποστολή των ομιλιών στη γραμματεία με ηλεκτρονικό τρόπο 2 ημέρες πριν την έναρξη του συνεδρίου. Σε περίπτωση που οι ομιλητές παραδίδουν το σχετικό υλικό των εισηγήσεων τους στην τεχνική γραμματεία κρίνεται απαραίτητη η χρήση μάσκας και αντισηπτικού υγρού.\n\n\n\n\n\n\n\n\n\n\n \nΧαιρετισμός Προέδρου\nΑγαπητοί Συνάδελφοι\nΕίναι  ιδιαίτερη  χαρά  και  τιμή  για  μένα  να  σας  καλωσορίσω  εκ  μέρους  της Οργανωτικής Επιτροπής στο 10ο Πανελλήνιο Συνέδριο του Ινστιτούτου Μελέτης\,  Έρευνας  και  Εκπαίδευσης\,  για  το  Σακχαρώδη  Διαβήτη  και  τα  Μεταβολικά Νοσήματα\, που θα πραγματοποιηθεί \n11 – 13 Σεπτεμβρίου 2020 στα Ιωάννινα\, στο Ξενοδοχείο Grand Serai.\n\nΣτις  ημέρες  μας  η  αυξανόμενη  συχνότητα\,  νοσηρότητα  και  θνητότητα  των νοσημάτων του μεταβολισμού (Παχυσαρκία\, Μεταβολικό Σύνδρομο\, Σακχαρώδης  Διαβήτης\,  Υπέρταση\,  Δυσλιπιδαιμία)  και  των  επιπλοκών  τους  -  κύρια  των    καρδιαγγειακών  νοσημάτων  -  επιβάλλει  την  πρόληψη\,  την  έγκαιρη διάγνωση και τη σωστή αντιμετώπισή τους.\n\nΜε στόχο να συμβάλλουμε στη μείωση της επίπτωσης των μεταβολικών νοσημάτων\,  παρεμβαίνουμε  με  τις  εκδηλώσεις  του  Ινστιτούτου  και  με  την  οργάνωση του 10ου Πανελλήνιου Συνεδρίου.\n\nΣτο πρόγραμμα του Συνεδρίου με τη συμμετοχή καταξιωμένων επιστημόνων θα  συζητηθούν  επίκαιρα  θέματα  καθώς  και  οι  νέες  εξελίξεις  που  αφορούν  στην  πρόληψη  και  στη  θεραπευτική  αντιμετώπιση  με  εξατομίκευση  στην  κλινική  πράξη  των  παραπάνω  παθολογικών  καταστάσεων  σύμφωνα  με  τις  σύγχρονες κατευθυντήριες οδηγίες.\n\nΙδιαίτερη συμβολή στους στόχους του Συνεδρίου έχει η παρουσίαση του ερευνητικού  έργου  αξιόλογων  συναδέλφων\,  τους  οποίους  ευχαριστούμε  ιδαίτερα.\n\nΣε  εποχές  μεγάλης  οικονομικής  κρίσης\,  ιδιαίτερα  δύσκολης  για  τη  χώρα    μας  αλλά  και  για  όλους  μας\,  η  Οργανωτική  Επιτροπή  έχει  καταβάλει  κάθε δυνατή προσπάθεια\, ώστε το 10ο Πανελλήνιο Συνέδριο να είναι μια ευχάριστη και παραγωγική διαδικασία που θα συμβάλλει στη συνεχιζόμενη εκπαίδευσή μας.\n\nΠροσδοκούμε και αναμένουμε την παρουσία και την ενεργό συμμετοχή σας\n\n\nΓια την Οργανωτική Επιτροπή\nΜε εκτίμηση\nΣταύρος Ι. Παππάς 
URL:https://tmg.gr/en/event/10o-panellinio-sinedrio-institoutou-meletis-erevnas-ekpedefsis-gia-to-sakcharodi-diaviti-ta-metavolika-nosimata/
LOCATION:Δωδώνης 33\, Ιωάννινα\, 452 21\, Ελλάδα
ATTACH;FMTTYPE=application/pdf:https://tmg.gr/en/wp-content/uploads/2020/09/10thDIAVITIS_PP_final-24-7-20.pdf
END:VEVENT
END:VCALENDAR