BEGIN:VCALENDAR
VERSION:2.0
PRODID:-//The MasterMind Group - Organization of Medical Conferences and Scientific Events - Modern Medical Education | Organizing your success ... - ECPv4.0.4//NONSGML v1.0//EN
CALSCALE:GREGORIAN
METHOD:PUBLISH
X-WR-CALNAME:The MasterMind Group - Organization of Medical Conferences and Scientific Events - Modern Medical Education | Organizing your success ...
X-ORIGINAL-URL:https://tmg.gr/en
X-WR-CALDESC:Events for The MasterMind Group - Organization of Medical Conferences and Scientific Events - Modern Medical Education | Organizing your success ...
BEGIN:VEVENT
DTSTART;VALUE=DATE:20181108
DTEND;VALUE=DATE:20181110
DTSTAMP:20260420T130726
CREATED:20180131
LAST-MODIFIED:20181010
UID:14096-1541635200-1541894399@tmg.gr
SUMMARY:12th Congress of the Hellenic Society of Thoracic & Cardiovascular Surgeons 2018
DESCRIPTION:Official web site: www.athenscrossroad.com\n\n\n\n\n\n \nRegistration\n\nAccommodation Form\n\n\n\n\n \tPOSTER\nPRELIMINARY PROGRAM\n\n8-10 NOVEMBER 2018\nZAPPEION MEGARON | ATHENS - GREECE\nI N C O N J U N C T I O N W I T H\n• 2018 ISMICS Workshop\n• 14th Annual meeting of the “Euro-Asian Bridge” Society\n• 2nd World Meeting of the Hellenic Cardiothoracic Diaspora\n\nMessage from the chairman\n\nDear Colleagues\,\n\nOn behalf of the organizing committee\, it is our great pleasure to invite you to the “Athens Crossroad” Congress\, which will be held on 8-10 November 2018 in Athens\, at the Zappeion Megaron Hall of Athens\, a historical place since it is the first building in the world to be constructed in order to serve Olympic needs. It will be a multidisciplinary event \, within the organization of the 12th Congress of the Hellenic Society of Thoracic & Cardiovascular Surgeons\, in conjunction with the 2018 ISMICS Workshop\, the 14th Annual meeting of the Euro-Asian Bridge Society and the 2nd World congress of the Greek Cardiovascular & Thoracic Diaspora.\n\nThe organization of this event makes us happy for a series of events. The positive response of distinguished speakers from all over the world creates\, from the outset\, the certainty of a high level scientific program. Over 60 top surgeons from around the world\, via lectures\, workshops and interdisciplinary sessions will cove the whole spectrum of the modern Cardiovascular & Thoracic field. Greek colleagues will be able to present their work through their presentations \, creating at the same time a scientific bridge which connects the pioneer surgeons of the world\, and those of the Greek Diaspora\, return with a sense of offer to their place of origin\, strengthening their ties with their homeland.\n\nAll together\, we welcome the pioneers of the “International Society of Minimally Invasive Cardiac Surgeons” and our neighbours from the “Euro-Asian Bridge Society“\, making this meeting a global event. At the same time doctors related to our practice\, nurses and students of Medicine join our efforts\, while the Hellenic Society of Extra-Corporeal circulation will be organizing their 12th own meeting.\n\nAthens will be an international scientific crossroad for 3 days to exchange experience\, knowledge and synergies for our profession to evolve\, through friendship and cooperation.\n\nAdditionally with the help of the local authorities we set the basis for cultural events that will take place during the congress. Athens\, the birthplace and foundation of the western civilization is ideal for a historical study. A modern\, yet charming\, metropolis that combines the old with the new.\n\nOur ambition is to organize an event of the highest level\, bridging the global Cardiothoracic community with the Greek and our specialty with other colleagues indirectly related. We look forward to your participation and involvement for a successful congress. The Greek hospitality has always been among our core values.\n\nSincerely\,\nSotirios Prapas
URL:https://tmg.gr/en/event/12th-congress-hellenic-society-thoracic-cardiovascular-surgeons-2018/
LOCATION:Zappeion\, Athens\, 105 57\, Greece
ATTACH;FMTTYPE=application/pdf:https://tmg.gr/en/wp-content/uploads/2018/01/CROSS-ROADS-final_low-31-1-18.pdf
END:VEVENT
END:VCALENDAR