BEGIN:VCALENDAR
VERSION:2.0
PRODID:-//The MasterMind Group - Organization of Medical Conferences and Scientific Events - Modern Medical Education | Organizing your success ... - ECPv4.0.4//NONSGML v1.0//EN
CALSCALE:GREGORIAN
METHOD:PUBLISH
X-WR-CALNAME:The MasterMind Group - Organization of Medical Conferences and Scientific Events - Modern Medical Education | Organizing your success ...
X-ORIGINAL-URL:https://tmg.gr/en
X-WR-CALDESC:Events for The MasterMind Group - Organization of Medical Conferences and Scientific Events - Modern Medical Education | Organizing your success ...
BEGIN:VEVENT
DTSTART;VALUE=DATE:20211110
DTEND;VALUE=DATE:20211113
DTSTAMP:20260425T043010
CREATED:20210830
LAST-MODIFIED:20220104
UID:16068-1636502400-1636847999@tmg.gr
SUMMARY:13th Global Forum on Humanitarian Medicine in Cardiology and Cardiac Surgery & 4th Euro-Asian Symposium of Paediatric Cardiology and Cardiac Surgery
DESCRIPTION:The Conference will be held Online\n\n \n\n \n\n\n\n\n\n\n\n\nVideo Gallery\n\n\n\n \n\n\n\n \n\n● Poster\n\n● Program\n\n \n\n\n\n\n\n\n\n\n\n\n
URL:https://tmg.gr/en/event/13th-global-forum-on-humanitarian-medicine-in-cardiology-and-cardiac-surgery-4th-euro-asian-symposium-of-paediatric-cardiology-and-cardiac-surgery/
LOCATION:Greece
ATTACH;FMTTYPE=application/pdf:https://tmg.gr/en/wp-content/uploads/2021/08/13GFHM-Poster.pdf
ORGANIZER;CN="The%20MasterMind%20Group":MAILTO:info@tmg.gr
END:VEVENT
END:VCALENDAR