BEGIN:VCALENDAR
VERSION:2.0
PRODID:-//The MasterMind Group - Organization of Medical Conferences and Scientific Events - Modern Medical Education | Organizing your success ... - ECPv4.0.4//NONSGML v1.0//EN
CALSCALE:GREGORIAN
METHOD:PUBLISH
X-WR-CALNAME:The MasterMind Group - Organization of Medical Conferences and Scientific Events - Modern Medical Education | Organizing your success ...
X-ORIGINAL-URL:https://tmg.gr/en
X-WR-CALDESC:Events for The MasterMind Group - Organization of Medical Conferences and Scientific Events - Modern Medical Education | Organizing your success ...
BEGIN:VEVENT
DTSTART;VALUE=DATE:20181123
DTEND;VALUE=DATE:20181124
DTSTAMP:20260420T211354
CREATED:20180525
LAST-MODIFIED:20181115
UID:14246-1542931200-1543103999@tmg.gr
SUMMARY:1st Congress_Structural Heart & Valvular Diseases
DESCRIPTION:\n\n\n\n \n Registration Form\n\n\n\n● Final Program\nΧαιρετισμός\n\nΑγαπητοί συνάδελφοι\,\n\nTo Ινστιτούτο Επεμβατικής Καρδιολογίας και Καρδιαγγειακών Παθήσεων διοργανώνει το 1ο Συνέδριο Δομικών Παθήσεων Καρδιάς και Βαλβιδοπαθειών\, το οποίο θα πραγματοποιηθεί 23-24 Νοεμβρίου 2018\, στην Αθήνα\, στην Αίγλη Ζαππείου (αίθουσα Privé) σε συνεργασία με τις Γ΄ και Α΄ Καρδιολογικές Κλινικές του Πανεπιστημίου Αθηνών.\n\nΜε μεγάλη μας χαρά θα σας καλωσορίσουμε στο 1ο αυτό συνέδριο\, το οποίο συμπεριλαμβάνει στρογγυλά τραπέζια\, διαλέξεις και παρουσιάσεις περιστατικών με στόχο την ενημέρωση των καρδιολόγων σε θέματα αιχμής σε σχέση με την ειδικότητά τους.\n\nΔιακεκριμένοι ειδικοί παρουσιάζουν τις τελευταίες εξελίξεις σε όλο το φάσμα της καρδιολογίας\, με έμφαση στις δομικές παθήσεις της καρδιάς\, συμβάλλοντας ουσιαστικά όχι μόνο στην επιμόρφωση των ιατρών αλλά και στην διαμόρφωση της σύγχρονης κλινικής πρακτικής τακτικής στην αντιμετώπιση αυτών των ασθενών.\n\nΜέσα από το συνέδριο αυτό οι συμμετέχοντες θα ενημερωθούν για ότι πιο σύγχρονο υπάρχει στη χρήση των διαγνωστικών και θεραπευτικών τεχνικών που χρησιμοποιούνται στην αντιμετώπιση των ασθενών με βαλβιδοπάθειες και στεφανιαία νόσο. Παράλληλα θα αποκτήσουν γνώση για τη διαχείριση ασθενών με συνοδά προβλήματα που υποβάλλονται σε διακαθετηριακές επεμβάσεις.\n\nΗ παρουσία σας και η ενεργή συμμετοχή σας είναι απαραίτητα στοιχεία για την επιτυχία της επιστημονικής εκδήλωσης.\n\nΜε συναδελφικούς χαιρετισμούς\,\n\nΕμμανουήλ Βαβουρανάκης\n\nΚαθηγητής Καρδιολογίας Πανεπιστημίου Αθηνών\nΔιευθυντής Γ΄ Πανεπιστημιακής Καρδιολογικής Κλινικής\nΠρόεδρος Ινστιτούτου Επεμβατικής Καρδιολογίας και Καρδιαγγειακών Παθήσεων\n
URL:https://tmg.gr/en/event/1o-sinedrio-domikon-pathiseon-balbe/
LOCATION:Λεωφ. Βασιλίσσης Όλγας\, Athens\, Greece
ATTACH;FMTTYPE=application/pdf:https://tmg.gr/en/wp-content/uploads/2018/11/1st_SHVD_FP_2018-barcode.pdf
END:VEVENT
END:VCALENDAR