BEGIN:VCALENDAR
VERSION:2.0
PRODID:-//The MasterMind Group - Organization of Medical Conferences and Scientific Events - Modern Medical Education | Organizing your success ... - ECPv4.0.4//NONSGML v1.0//EN
CALSCALE:GREGORIAN
METHOD:PUBLISH
X-WR-CALNAME:The MasterMind Group - Organization of Medical Conferences and Scientific Events - Modern Medical Education | Organizing your success ...
X-ORIGINAL-URL:https://tmg.gr/en
X-WR-CALDESC:Events for The MasterMind Group - Organization of Medical Conferences and Scientific Events - Modern Medical Education | Organizing your success ...
BEGIN:VEVENT
DTSTART;VALUE=DATE:20220128
DTEND;VALUE=DATE:20220129
DTSTAMP:20260425T030411
CREATED:20210720
LAST-MODIFIED:20211013
UID:16034-1643328000-1643500799@tmg.gr
SUMMARY:32ο ετήσιο συνέδριο "Εξελίξεις στην Καρδιολογία"
DESCRIPTION:Στο 32ο ετήσιο συνέδριο "Εξελίξεις στην Καρδιολογία"\,  κύριο μέλημά μας είναι η απαρέγκλιτη τήρηση όλων των κανόνων υγιεινής και η λήψη μέτρων για την διασφάλιση της υγείας τόσο των εργαζομένων στους συνεδριακούς χώρους\, των συναδέλφων μας\, όσο και της δημόσιας υγείας.\nΣας ενημερώνουμε ότι έχουν ληφθεί όλα τα προληπτικά μέτρα ασφαλείας μη μετάδοσης του COVID-19 που έχουν ανακοινωθεί μέχρι σήμερα ως επίσημες οδηγίες και συστάσεις από το Υπουργείο Υγείας και τον ΕΟΔΥ.\n \n\n\n\n\nRegistration Form\nLive Streaming\n\n\n\n \n\n \n\n● Poster\n\n \n\n 
URL:https://tmg.gr/en/event/32o-etisio-sinedrio-exelixis-stin-kardiologia/
LOCATION:Vassileos Alexandrou 2\, Athens\, Athens\, 16121\, Greece
ATTACH;FMTTYPE=image/png:https://tmg.gr/en/wp-content/uploads/2021/07/32ndAnnualCardiology_2022-QRP_Page_1.png
ORGANIZER;CN="The%20MasterMind%20Group":MAILTO:info@tmg.gr
END:VEVENT
END:VCALENDAR