BEGIN:VCALENDAR
VERSION:2.0
PRODID:-//The MasterMind Group - Organization of Medical Conferences and Scientific Events - Modern Medical Education | Organizing your success ... - ECPv4.0.4//NONSGML v1.0//EN
CALSCALE:GREGORIAN
METHOD:PUBLISH
X-WR-CALNAME:The MasterMind Group - Organization of Medical Conferences and Scientific Events - Modern Medical Education | Organizing your success ...
X-ORIGINAL-URL:https://tmg.gr/en
X-WR-CALDESC:Events for The MasterMind Group - Organization of Medical Conferences and Scientific Events - Modern Medical Education | Organizing your success ...
BEGIN:VEVENT
DTSTART;VALUE=DATE:20181123
DTEND;VALUE=DATE:20181125
DTSTAMP:20260420T174629
CREATED:20180227
LAST-MODIFIED:20181115
UID:14143-1542931200-1543190399@tmg.gr
SUMMARY:8ο ΕΛΛΑΔΟΚΥΠΡΙΑΚΟ ΣΕΜΙΝΑΡΙΟ ΚΑΡΔΙΑΓΓΕΙΑΚΩΝ ΠΑΘΗΣΕΩΝ
DESCRIPTION:\n\n\n\n \n\n \n\n\n\n\n● Final Program\n● Sponsorship\n● Αccommodation\n\nΙΝΣΤΙΤΟΥΤΟ ΚΑΡΔΙΑΓΓΕΙΑΚΗΣ ΕΚΠΑΙΔΕΥΣΗΣ ΚΑΙ ΕΡΕΥΝΑΣ & ΠΑΓΚΥΠΡΙΟΣ ΙΑΤΡΙΚΟΣ ΣΥΛΛΟΓΟΣ \nΦ. ΤΡΥΠΟΣΚΙΑΔΗΣ - Π. ΑΓΑΘΑΓΓΕΛΟΥ
URL:https://tmg.gr/en/event/8o-elladokipriako-seminario-kardiangiakon-pathiseon/
LOCATION:Λευκωσία - Κύπρος
ATTACH;FMTTYPE=application/pdf:https://tmg.gr/en/wp-content/uploads/2018/11/8thCardiovascular_Disease_Seminar_Program_barcode.pdf
END:VEVENT
END:VCALENDAR