BEGIN:VCALENDAR
VERSION:2.0
PRODID:-//The MasterMind Group - Organization of Medical Conferences and Scientific Events - Modern Medical Education | Organizing your success ... - ECPv4.0.4//NONSGML v1.0//EN
CALSCALE:GREGORIAN
METHOD:PUBLISH
X-WR-CALNAME:The MasterMind Group - Organization of Medical Conferences and Scientific Events - Modern Medical Education | Organizing your success ...
X-ORIGINAL-URL:https://tmg.gr/en
X-WR-CALDESC:Events for The MasterMind Group - Organization of Medical Conferences and Scientific Events - Modern Medical Education | Organizing your success ...
BEGIN:VEVENT
DTSTART;VALUE=DATE:20220408
DTEND;VALUE=DATE:20220409
DTSTAMP:20260424T214728
CREATED:20220321
LAST-MODIFIED:20220405
UID:16238-1649376000-1649548799@tmg.gr
SUMMARY:CardioAthena 2022 Meeting on Cardiovascular Medicine
DESCRIPTION:  Στο CardioAthena 2022 - Συνέδριο Καρδιαγγειακής Ιατρικής\, κύριο μέλημά μας είναι η απαρέγκλιτη τήρηση όλων των κανόνων υγιεινής και η λήψη μέτρων για την διασφάλιση της υγείας τόσο των εργαζομένων στους συνεδριακούς χώρους\, των συναδέλφων μας\, όσο και της δημόσιας υγείας γενικότερα. Σας ενημερώνουμε ότι έχουν παρθεί όλα τα προληπτικά μέτρα ασφαλείας μη μετάδοσης του COVID-19 που έχουμε λάβει μέχρι σήμερα από την Πολιτεία\, λαμβάνοντας υπόψη τις επίσημες οδηγίες και συστάσεις που έχουν δοθεί από το Υπουργείο Υγείας και τον ΕΟΔΥ.\n\n\nΜΕΤΡΑ ΠΡΟΣΤΑΣΙΑΣ ΥΒΡΙΔΙΚΩΝ ΕΠΙΣΤΗΜΟΝΙΚΩΝ\, ΕΠΑΓΓΕΛΜΑΤΙΚΩΝ & ΛΟΙΠΩΝ ΣΥΝΕΔΡΙΩΝ\n\n• Η είσοδος επιτρέπεται αποκλειστικά και μόνο σε όσους επιδεικνύουν α) πιστοποιητικό εμβολιασμού\, β) πιστοποιητικό νόσησης\n\n• Οι επισκέπτες προσέρχονται μόνο κατόπιν ηλεκτρονικής προεγγραφής.\n\n• Υποχρεωτική η χρήση μάσκας για όλους ανεξαιρέτως καθ΄ όλη τη διάρκεια παραμονής τους στους στεγασμένους χώρους του εκθεσιακού κέντρου / ξενοδοχείου.\n\n• Τήρηση απόστασης ενάμιση (1\,5) μέτρου σε όλους τους χώρους του συνεδρίου.\n\n\nOfficial Website: www.cardioathena2022.gr\n\n\n\n\n\nRegistration Form\nLive Streaming\n\n\n\n\n\n 
URL:https://tmg.gr/en/event/cardioathena-2021-meeting-on-cardiovascular-medicine-2/
LOCATION:Vassileos Alexandrou 2\, Athens\, Athens\, 16121\, Greece
ATTACH;FMTTYPE=application/pdf:https://tmg.gr/en/wp-content/uploads/2022/03/CardioAthena2022-QRP.pdf
END:VEVENT
END:VCALENDAR