BEGIN:VCALENDAR
VERSION:2.0
PRODID:-//The MasterMind Group - Organization of Medical Conferences and Scientific Events - Modern Medical Education | Organizing your success ... - ECPv4.0.4//NONSGML v1.0//EN
CALSCALE:GREGORIAN
METHOD:PUBLISH
X-WR-CALNAME:The MasterMind Group - Organization of Medical Conferences and Scientific Events - Modern Medical Education | Organizing your success ...
X-ORIGINAL-URL:https://tmg.gr/en
X-WR-CALDESC:Events for The MasterMind Group - Organization of Medical Conferences and Scientific Events - Modern Medical Education | Organizing your success ...
BEGIN:VEVENT
DTSTART;VALUE=DATE:20190215
DTEND;VALUE=DATE:20190216
DTSTAMP:20260425T023518
CREATED:20190116
LAST-MODIFIED:20200303
UID:14630-1550188800-1550361599@tmg.gr
SUMMARY:CARDIOLOGY 2019 METROPOLITAN GENERAL
DESCRIPTION:\n\n\n\n \n\n \nRegistration Form\n\n\n\n\n\n● Final Program\n● Media
URL:https://tmg.gr/en/event/cardiology-2019-metropolitan-general/
LOCATION:Λεωφ. Βασιλίσσης Όλγας\, Athens\, Greece
ATTACH;FMTTYPE=application/pdf:https://tmg.gr/en/wp-content/uploads/2019/02/Cardiology-program-metro2019.pdf
END:VEVENT
END:VCALENDAR