BEGIN:VCALENDAR
VERSION:2.0
PRODID:-//The MasterMind Group - Organization of Medical Conferences and Scientific Events - Modern Medical Education | Organizing your success ... - ECPv4.0.4//NONSGML v1.0//EN
CALSCALE:GREGORIAN
METHOD:PUBLISH
X-WR-CALNAME:The MasterMind Group - Organization of Medical Conferences and Scientific Events - Modern Medical Education | Organizing your success ...
X-ORIGINAL-URL:https://tmg.gr/en
X-WR-CALDESC:Events for The MasterMind Group - Organization of Medical Conferences and Scientific Events - Modern Medical Education | Organizing your success ...
BEGIN:VEVENT
DTSTART;VALUE=DATE:20181123
DTEND;VALUE=DATE:20181124
DTSTAMP:20260420T192802
CREATED:20180430
LAST-MODIFIED:20181120
UID:14214-1542931200-1543103999@tmg.gr
SUMMARY:Diabetes 2017
DESCRIPTION:\n\n\n\n\n    \nRegistration Form\n\n\n\n\n● Final program\n\nΧαιρετισμός\nΟ διαβήτης αφορά πλέον ένα μεγάλο μέρος της κοινωνίας και αυξάνεται παράλληλα με τη γήρανση του πληθυσμού. Το 14\,5% του πληθυσμού στις ΗΠΑ\, σύμφωνα με επιδημιολογική έρευνα του 2018\, πάσχει από Σακχαρώδη Διαβήτη. Από αυτούς το 91% περίπου είναι τύπου 2 και το 5% τύπου 1.\n\nΣε αντίθεση με ότι πιστεύουν οι ασθενείς\, ο διαβήτης δεν έχει σχέση μόνο με την διατροφή\, ούτε φυσικά αφορά την υπερκατανάλωση γλυκών\, ούτε σχετίζεται απλά με υψηλές τιμές σακχάρου στο αίμα.\n\nΟ Σακχαρώδης Διαβήτης αφορά και επηρεάζει όλα τα όργανα\, τον μεταβολισμό του ανθρώπινου σώματος και η ινσουλίνη είναι η ορμόνη με την σημαντικότερη αναβολική δράση στο σώμα μας.\n\nΟ Σακχαρώδης Διαβήτης μειώνει το προσδόκιμο και την ποιότητα επιβίωσης!\n\nΕίναι πλέον κατανοητό και αποδεκτό από όλες τις επιστημονικές εταιρείες πως η ρύθμιση διαβήτη δεν στοχεύει απλά σε χαμηλές τιμές σακχάρου.\n\nΟ Σακχαρώδης διαβήτης αφορά ένα σύνολο επιπλοκών που απαιτούν θεραπευτική στρατηγική και συνεργασία μεταξύ των ιατρικών ειδικοτήτων.\n\nΟι νέες κατευθυντήριες οδηγίες του 2018 και από την Αμερικανική Διαβητολογική Εταιρεία (ADA) αλλά και την Ευρωπαϊκή (EASD)\, μιλούν ευθέως πλέον για πρόληψη και αντιμετώπιση του πολύ υψηλού καρδιαγγειακού κινδύνου\, που υπάρχει ήδη από το στάδιο του Προδιαβήτη και φυσικά όλες τις μακροχρόνιες επιπλοκές που συνυπάρχουν μαζί του και δυστυχώς είναι πολλαπλές.\n\nΕυτυχώς ο διαβήτης είναι από τις λίγες παθήσεις για τις οποίες έχει γίνει επανάσταση από το 2000 και μετά\, τόσο σε καινούργιες τεχνολογίες\, όσο σε νέες θεραπείες αλλά κυρίως σε διαφορετικές θεραπευτικές στρατηγικές και αντιλήψεις.\n\nΕίναι ο τέταρτος χρόνος που το Διαβητολογικό Κέντρο και η Παθολογική-Διαβητολογική κλινική του Metropolitan General\, συνεχίζουν την εκπαιδευτική συνεργασία μεταξύ των εξειδικευμένων συναδέλφων για την ενημέρωση και «ολιστική» προσέγγιση στο διαβήτη και τις συνοσηρότητές του.\n\nΤα θέματα και φέτος είναι πολλά\, σύγχρονα και πολύ ενδιαφέροντα.\n\nΌπως και τις προηγούμενες φορές\, θα διαπραγματευθούν σφαιρικά από εξαίρετους ομιλητές\, που θα διασταυρώσουν τις απόψεις τους με εποικοδομητικό διάλογο\, τόσο μεταξύ τους όσο και με το ακροατήριο.\n\nΗ δική σας συμμετοχή και η διεπιστημονική άριστη συνεργασία μεταξύ μας δίνει χαρά και κουράγιο να συνεχίσουμε.\n\n\nΑντώνιος Λέπουρας\nΠαθολόγος- Διαβητολόγος\nΔιευθυντής Παθολογικής & Διαβητολογικής Κλινικής\nMETROPOLITAN HOSPITAL\nΠρόεδρος Συνεδρίου
URL:https://tmg.gr/en/event/diabetes-2017/
LOCATION:Αθανασίου Διάκου 28\, Αθήνα\, 117 43\, Ελλάδα
ATTACH;FMTTYPE=application/pdf:https://tmg.gr/en/wp-content/uploads/2018/11/TELIKO_metropolitan-pr12-11-18.pdf
END:VEVENT
END:VCALENDAR