BEGIN:VCALENDAR
VERSION:2.0
PRODID:-//The MasterMind Group - Organization of Medical Conferences and Scientific Events - Modern Medical Education | Organizing your success ... - ECPv4.0.4//NONSGML v1.0//EN
CALSCALE:GREGORIAN
METHOD:PUBLISH
X-WR-CALNAME:The MasterMind Group - Organization of Medical Conferences and Scientific Events - Modern Medical Education | Organizing your success ...
X-ORIGINAL-URL:https://tmg.gr/en
X-WR-CALDESC:Events for The MasterMind Group - Organization of Medical Conferences and Scientific Events - Modern Medical Education | Organizing your success ...
BEGIN:VEVENT
DTSTART;VALUE=DATE:20190301
DTEND;VALUE=DATE:20190303
DTSTAMP:20260425T011030
CREATED:20180717
LAST-MODIFIED:20190227
UID:14347-1551398400-1551657599@tmg.gr
SUMMARY:Ημέρες Νευρολογίας 2019
DESCRIPTION:\n\n\n\n\n\nANNOUNCEMENT\nSubscriptions will now be made only on-site at the Conference Secretariat.\nRegistration via online registration was closed.\n\n\n\n● Save The Date\n● Scientific Program\n
URL:https://tmg.gr/en/event/imeres-nevrologias-2019/
LOCATION:Farsala 182\, Larissa\, Larissa\, 413 35\, Greece
ATTACH;FMTTYPE=application/pdf:https://tmg.gr/en/wp-content/uploads/2018/07/SAVE-THE-DATE-psix-17-7-2018.pdf
END:VEVENT
END:VCALENDAR