BEGIN:VCALENDAR
VERSION:2.0
PRODID:-//The MasterMind Group - Organization of Medical Conferences and Scientific Events - Modern Medical Education | Organizing your success ... - ECPv4.0.4//NONSGML v1.0//EN
CALSCALE:GREGORIAN
METHOD:PUBLISH
X-WR-CALNAME:The MasterMind Group - Organization of Medical Conferences and Scientific Events - Modern Medical Education | Organizing your success ...
X-ORIGINAL-URL:https://tmg.gr/en
X-WR-CALDESC:Events for The MasterMind Group - Organization of Medical Conferences and Scientific Events - Modern Medical Education | Organizing your success ...
BEGIN:VEVENT
DTSTART;VALUE=DATE:20190301
DTEND;VALUE=DATE:20190302
DTSTAMP:20260425T023518
CREATED:20181026
LAST-MODIFIED:20190228
UID:14498-1551398400-1551571199@tmg.gr
SUMMARY:New Trends in Cardiology 2019
DESCRIPTION: \n\n\n\n\n\n\n\nANNOUNCEMENT\nSubscriptions will now be made only on-site at the Conference Secretariat.\nRegistration via online registration was closed.\n\n\n\n● Poster\n● Scientific Program\n
URL:https://tmg.gr/en/event/new-trends-cardiology-2019/
LOCATION:Πλατεία Αριστοτέλους 9\, Θεσσαλονίκη\, 54624
ATTACH;FMTTYPE=application/pdf:https://tmg.gr/en/wp-content/uploads/2018/10/19th-New-trends-in-Cardiology2019.pdf
END:VEVENT
END:VCALENDAR