BEGIN:VCALENDAR
VERSION:2.0
PRODID:-//The MasterMind Group - Organization of Medical Conferences and Scientific Events - Modern Medical Education | Organizing your success ... - ECPv4.0.4//NONSGML v1.0//EN
CALSCALE:GREGORIAN
METHOD:PUBLISH
X-WR-CALNAME:The MasterMind Group - Organization of Medical Conferences and Scientific Events - Modern Medical Education | Organizing your success ...
X-ORIGINAL-URL:https://tmg.gr/en
X-WR-CALDESC:Events for The MasterMind Group - Organization of Medical Conferences and Scientific Events - Modern Medical Education | Organizing your success ...
BEGIN:VEVENT
DTSTART;VALUE=DATE:20190405
DTEND;VALUE=DATE:20190407
DTSTAMP:20260425T130020
CREATED:20190117
LAST-MODIFIED:20190403
UID:14634-1554422400-1554681599@tmg.gr
SUMMARY:Πανελλήνιο Πολυθεματικό Συνέδριο Αυτοάνοσων Νοσημάτων\, Ρευματολογίας και Κλινικής Ανοσολογίας
DESCRIPTION:Official site: www.ird2019.gr\n\n\n\n\n\n\n\n\n\n\nΑΝΑΚΟΙΝΩΣΗ \nΟι εγγραφές πλέον γίνονται μόνο επιτόπου στη Γραμματεία του Συνεδρίου.\nΗ εγγραφή μέσω ηλεκτρονικής υποβολής (on-line registration) έκλεισε.  \nΗ Φόρμα Υποβολής Περιλήψεων Εργασιών έκλεισε.\n\n\n\n● First Announcement\n● Second Announcement\n● Scientific Program\n\nGreetings\n\nDear Colleagues\,\n\nWe are delighted to invite you to our Congress on 5-7 April 2019 at the Portaria Hotel Conference Center in Pelion.\nThe themes of our Conference will focus exclusively on recent developments in Autoimmune Diseases of five specialties\, namely Rheumatology\, Gastroenterology\, Neurology\, Dermatology and Clinical Immunology. Particular emphasis will be placed on the most recent diagnostic problems\, clinical dilemmas and therapeutic options as they have emerged from clinical experience and published work over the last two years.\nThe conference is addressed to doctors of the relevant specialties\, physicians\, general practitioners\, life science/biomedicine scientists\, dietologists/nutritionists\, nurses and students. More than 100 distinguished scientists\, clinical and laboratory researchers from Greece and abroad will lecture and comment on the conference. Particular emphasis is placed on recent developments and controversies in the treatment of autoimmune rheumatic\, gastrointestinal\, neurological and skin disorders. The more recent data will be presented in immunopathogenesis\, with direct applications in therapy.\nThe role of environmental factors and nutrition in the development of autoimmune diseases will be developed. Clinical problems\, prevention measures\, nursing needs\, surgical options and rehabilitation treatments will also be discussed.\nEmphasis is given to juniors through the Young Investigators Forum through oral and poster presentations and 3 Prizes to the best presentations. The program includes the 1st Nursing Rheumatology Seminar of Central Greece aiming at the holistic treatment of the diseases and the improvement of the provided health services.\nAll abstracts (oral and e-posters) will be published in Anosia\, the official journal of the Hellenic Society of Immunology. Selected speeches / papers will be published in the Mediterranean Journal of Rheumatology.\nWe are delighted to welcome you to the enchanting Portaria.\n\n\n\n\n\nLazaros I. Sakkas\nChairman of the Congress\n\nDimitrios P. Bogdanos\nCo-Chairman of the Congress\n\n\n\n 
URL:https://tmg.gr/en/event/panellinio-polithematiko-sinedrio-aftoanoson-nosimaton-revmatologias-ke-klinikis-anosologias/
LOCATION:Πορταριά Πηλίου\, Πορταριά Πηλίου\, Ελλάδα
ATTACH;FMTTYPE=application/pdf:https://tmg.gr/en/wp-content/uploads/2019/02/PPC_AA-05_02_19.pdf
END:VEVENT
END:VCALENDAR