BEGIN:VCALENDAR
VERSION:2.0
PRODID:-//The MasterMind Group - Organization of Medical Conferences and Scientific Events - Modern Medical Education | Organizing your success ... - ECPv4.0.4//NONSGML v1.0//EN
CALSCALE:GREGORIAN
METHOD:PUBLISH
X-WR-CALNAME:The MasterMind Group - Organization of Medical Conferences and Scientific Events - Modern Medical Education | Organizing your success ...
X-ORIGINAL-URL:https://tmg.gr/en
X-WR-CALDESC:Events for The MasterMind Group - Organization of Medical Conferences and Scientific Events - Modern Medical Education | Organizing your success ...
BEGIN:VEVENT
DTSTART;VALUE=DATE:20201020
DTEND;VALUE=DATE:20201020
DTSTAMP:20260425T220117
CREATED:20200910
LAST-MODIFIED:20201127
UID:15532-1603152000-1603238399@tmg.gr
SUMMARY:Webinar «Εξελίξεις στην Covid-19» 2020 ΕΤΑΙΡΕΙΑ ΠΑΘΟΛΟΓΙΑΣ ΕΛΛΑΔΟΣ
DESCRIPTION:\n\n\n\n   \n\n\n\n\n   \nVideos\n\n\n\n\n\n\n\n\n\n\n\n\n\n● Program\nΧαιρετισμός\nΑγαπητοί Συνάδελφοι\,\n\nΗ Εταιρεία Παθολογίας Ελλάδος\, εναρμονισμένη στις εξελίξεις\, συνεχίζει το έργο της διοργανώνοντας την διαδικτυακή συνάντηση με τίτλο «Εξελίξεις στην Cοvid - 19».\nΟι  εισηγητές  μας\,  καταξιωμένοι  επιστήμονες\,  θα  μας  ενημερώσουν  για  τα  σημερινά  δεδομένα της πανδημίας και θα δώσουν οδηγίες για την αντιμετώπιση των ασθενών αυτών στο μέλλον. \n\nΜε εκτίμηση\,\n\nΜατίνα Παγώνη\n\nΠρόεδρος Δ.Σ. Εταιρείας Παθολογίας Ελλάδος (Ε.Π.Ε.) \nΣυντονίστρια Διευθύντρια Γ΄ Παθολογικής Κλινικής\, Γ.Ν.Α. «Γ. Γεννηματάς» \nΕπιστημονικά Υπεύθυνη Λιπιδαιμικού Ιατρείου\, Γ.Ν.Α. «Γ. Γεννηματάς» \nΠρόεδρος Επιστημονικού Συμβουλίου Γ.Ν.Α. «Γ. Γεννηματάς» \nΠρόεδρος Ανωτάτου Πειθαρχικού Π.Ι.Σ. \nΠρόεδρος ΕΙΝΑΠ\nΑντιπρόεδρος ΟΕΝΓΕ\n\n \n\n\n\n
URL:https://tmg.gr/en/event/webinar-exelixis-ston-covid-19-2020-eteria-pathologias-ellados/
LOCATION:Greece
ATTACH;FMTTYPE=application/pdf:https://tmg.gr/en/wp-content/uploads/2020/09/Webinar_Covid19_20-10-2020p.pdf
END:VEVENT
END:VCALENDAR