BEGIN:VCALENDAR
VERSION:2.0
PRODID:-//The MasterMind Group - Organization of Medical Conferences and Scientific Events - Modern Medical Education | Organizing your success ... - ECPv4.0.4//NONSGML v1.0//EN
CALSCALE:GREGORIAN
METHOD:PUBLISH
X-WR-CALNAME:The MasterMind Group - Organization of Medical Conferences and Scientific Events - Modern Medical Education | Organizing your success ...
X-ORIGINAL-URL:https://tmg.gr/en
X-WR-CALDESC:Events for The MasterMind Group - Organization of Medical Conferences and Scientific Events - Modern Medical Education | Organizing your success ...
BEGIN:VEVENT
DTSTART;VALUE=DATE:20200612
DTEND;VALUE=DATE:20200613
DTSTAMP:20260426T033042
CREATED:20200205
LAST-MODIFIED:20200428
UID:15176-1591920000-1592092799@tmg.gr
SUMMARY:2η Επιστημονική Διημερίδα της Καρδιολογικής & Αγγειοχειρουργικής Κλινικής\, ΓΝΑ ΚΑΤ\, 2020
DESCRIPTION:ANNOUNCEMENT\nThe scientific event is postponed. \n«Καρδιά │ Αγγεία │ Τρέχουσες εξελίξεις»\n\n\n\n\n\n\n\nRegistration Form\n\n\n\n● Poster\nΕΓΓΡΑΦΗ – ΔΙΚΑΙΩΜΑ ΣΥΜΜΕΤΟΧΗΣ ΔΩΡΕΑΝ\n\n\n\n\n\n\n\n\n\n\n\n\n\nΑγαπητοί Συνάδελφοι και Φίλοι\n\nΧρόνια Πολλά \n\nΣτη παρούσα δύσκολη κατάσταση που βιώνουμε λόγω της πανδημίας του COVID-19\,\nη οποία έχει δημιουργήσει σημαντικά προβλήματα\, όλοι οφείλουμε να σεβαστούμε και να ακολουθήσομε τις οδηγίες της Πολιτείας και να εφαρμόσουμε πιστά τα μέτρα κοινωνικής αποστασιοποίησης.\n\nΈτσι θα θέλαμε να σας ενημερώσουμε για την αναβολή της πραγματοποίησης\,\nτης 2ης Επιστημονικής Διημερίδας της Καρδιολογικής και Αγγειοχειρουργικής Κλινικής του ΓΝΑΚΑΤμε τίτλο «Καρδιά │ Αγγεία │ Τρέχουσες εξελίξεις 2020»\nπου ήταν προγραμματισμένη για την 12-13/6/2020 στο PRESIDENT HOTEL Αθήνα.\n\nΗ νέα ημερομηνία διεξαγωγής του συνεδρίου\, θα ανακοινωθεί στο επόμενο διάστημα.\n\nΜε τις θερμότερες ευχές\, το τέλος αυτής της κατάστασης\, να μας βρει όλους υγιείς.\nΣας ευχαριστούμε εκ των προτέρων για την ανταπόκριση και συνεργασία και είμαστε στη διάθεση σας για κάθε διευκρίνιση.\n\nΜε φιλικούς χαιρετισμούς\, \n\n\n\n\nΔρ. Νικόλαος Καυκάς\n   \nΔρ. Χρυσόστομος Μαλτέζος\n\n\n Επεμβατικός Καρδιολόγος\, \nΔιευθυντής Καρδιολογικής Κλινικής Γ.Ν.Α. «ΚΑΤ»\n\n   \nΑγγειοχειρουργός\,\nΣυντ. Διευθυντής Αγγειοχειρουργικής Κλινικής\, Γ.Ν.Α. «ΚΑΤ»\n\n\n\n\n\n
URL:https://tmg.gr/en/event/2i-epistimoniki-diimerida-tis-kardiologikis-angiochirourgikis-klinikis-gna-kat-2020/
LOCATION: 43\, Kifissias Av\, Athens\, 11523\, Greece
ATTACH;FMTTYPE=application/pdf:https://tmg.gr/en/wp-content/uploads/2020/04/KAT2020_Samples-TELIKO1.pdf
END:VEVENT
BEGIN:VEVENT
DTSTART;VALUE=DATE:20200612
DTEND;VALUE=DATE:20200614
DTSTAMP:20260426T033042
CREATED:20200513
LAST-MODIFIED:20200604
UID:15326-1591920000-1592179199@tmg.gr
SUMMARY:Ημέρες Νευρολογίας 2020
DESCRIPTION:\n.tribe-events-schedule\, div.tribe-events-meta-group:nth-child(1) { display:none; }\n\n  ANNOUNCEMENT \nNew dates 2-4 Oct. 2020\nDivani Palace Larissa\n\n\n\n\n   \nRegistration Form\n\n\n\n● Poster\n\n\n\n\n\n\n\n\n\n\n\n\nΧαιρετισμός\n\nΑγαπητοί Συνάδελφοι\,\n\nΣας προσκαλούμε στο συνέδριο «ΗΜΕΡΕΣ ΝΕΥΡΟΛΟΓΙΑΣ 2020» που διοργανώνει το Ινστιτούτο Πρόληψης\, Εκπαίδευσης και Έρευνας Νευρολογικών Νοσημάτων και η Νευρολογική Κλινική του Πανεπιστημίου Θεσσαλίας για δέκατη συνεχή χρονιά.\n\nΤο επιστημονικό πρόγραμμα χωρίζεται σε τρεις ενότητες.\n\nΗ πρώτη ενότητα αναφέρεται στο μεγάλο θέμα της Νευροαποκατάστασης\, δεδομένου ότι τα περισσότερα νευρολογικά νοσήματα οδηγούν σε κινητική ή νοητική αναπηρία. Η πρόοδος που παρατηρήθηκε τα τελευταία χρόνια τόσο με τη δημιουργία ειδικών μονάδων (μερικές από αυτές στολίζουν την χώρα μας) όσο και με τα επιστημονικά επιτεύγματα αυτού του κλάδου συμβάλλει στην αποκατάσταση των ασθενών και έδωσε διέξοδο στον προβληματισμό των Νευρολόγων …… «Και τώρα τί;;;». Το Νευρολογικό Τμήμα του Πανεπιστημίου Θεσσαλίας με την οργάνωση του 1ου Μεταπτυχιακού Προγράμματος για τη Νευροαποκατάσταση συνεισφέρει στην περαιτέρω επιμόρφωση των μεταπτυχιακών φοιτητών.\n\nΗ δεύτερη ενότητα αναφέρεται στο θέμα της αντιμετώπισης των Αγγειακών Εγκεφαλικών Επεισοδίων\, ένα θέμα που όχι μόνο λόγω της συχνότητας αλλά και των σύγχρονων θεραπευτικών παρεμβάσεων είναι επίκαιρο και σημαντικό. Η νευρολογική κοινότητα και οι νευρολόγοι ως οι μόνοι αρμόδιοι οφείλουν να κινητοποιήσουν κυβερνητικούς και άλλους φορείς για την δημιουργία Μονάδων Αγγειακών Εγκεφαλικών Επεισοδίων. Η Θεσσαλία\, όπως και άλλες περιοχές της χώρας έχουν έμπειρους νοσοκομειακούς νευρολόγους στους οποίους πρέπει να στηριχθούν οι αρμόδιοι\, όπως συμβαίνει σε ολόκληρη την Ευρώπη\, για τη λειτουργία των μονάδων.\n\nΗ τρίτη ενότητα περιλαμβάνει το «Τι νεότερο» προέκυψε σε πρακτικό\, θεραπευτικό επίπεδο τα τελευταία χρόνια για τη Σκλήρυνση Κατά Πλάκας\, τη νόσο Parkinson\, τη νόσο Alzheimer\, την ημικρανία\, αλλά και σε άλλα σπανιότερα νοσήματα\, που μέχρι τώρα ήταν ανίατα και μπορούν τώρα να αντιμετωπιστούν (νωτιαία μυϊκή ατροφία\, αμυλοείδωση\, οζώδης σκλήρυνση).\nΣας προσκαλούμε στο Βόλο και σας παρακαλούμε να συμμετάσχετε στις συζητήσεις που θα πραγματοποιηθούν για τους προβληματισμούς και τα διλήμματα που αντιμετωπίζουμε στην καθημερινή ιατρική πράξη.\n\n\nΜε συναδελφικούς χαιρετισμούς\,\n\n\n\nΑλέξανδρος Παπαδημητρίου\nΟμότιμος Καθηγητής Νευρολογίας\nΠανεπιστημίου Θεσσαλίας\nΠρόεδρος Ινστιτούτου Πρόληψης\,\nΕκπαίδευσης και Έρευνας\nΝευρολογικών Νοσημάτων  \nΓεώργιος Χατζηγεωργίου\nΚαθηγητής Νευρολογίας\nΠανεπιστημίου Κύπρου  \nΕυθύμιος Δαρδιώτης\nΑναπληρωτής Καθηγητής\nΝευρολογίας\nΠανεπιστημίου Θεσσαλίας\n\n\n\n
URL:https://tmg.gr/en/event/imeres-nevrologias-2020-3/
LOCATION:Βόλος\, Ελλάδα
ATTACH;FMTTYPE=application/pdf:https://tmg.gr/en/wp-content/uploads/2020/05/NeurologyDays2020_abort-nn.pdf
END:VEVENT
BEGIN:VEVENT
DTSTART;TZID="Europe/Athens":20200612T130000
DTEND;TZID="Europe/Athens":20200613T130000
DTSTAMP:20260426T033042
CREATED:20200213T074836
LAST-MODIFIED:20200604T155652
UID:15185-1591966800-1592053200@tmg.gr
SUMMARY:Μετεκπαιδευτικό Σεμινάριο Λοιμώξεων «Λοιμώξεις στο Σταυροδρόμι του 2020»
DESCRIPTION:\n.tribe-events-schedule\, div.tribe-events-meta-group:nth-child(1) { display:none; }\n\nΑΝΑΚΟΙΝΩΣΗ Αλλαγή ημερομηνίας του συνεδρίου \nΝέες ημερομηνίες: Παρασκευή\, 30 Οκτωβρίου 2020   - Κυριακή\, 1  Νοεμβρίου 2020  \nΣυνεδριακό κέντρο: ΖΑΠΠΕΙΟΝ ΜΕΓΑΡΟΝ\n\n\n\n\n    \nRegistration Form\n\n\n\n● Poster\n\n\n\n\n\n\n\n
URL:https://tmg.gr/en/event/metekpedeftiko-seminario-limoxeon-limoxis-sto-stavrodromi-tou-2020/
LOCATION:Αθανασίου Διάκου 28\, Αθήνα\, 117 43\, Ελλάδα
ATTACH;FMTTYPE=application/pdf:https://tmg.gr/en/wp-content/uploads/2020/06/Infections-2020_35x50cm-new-3.pdf
ORGANIZER;CN="The%20MasterMind%20Group":MAILTO:info@tmg.gr
END:VEVENT
END:VCALENDAR