BEGIN:VCALENDAR
VERSION:2.0
PRODID:-//The MasterMind Group - Organization of Medical Conferences and Scientific Events - Modern Medical Education | Organizing your success ... - ECPv4.0.4//NONSGML v1.0//EN
CALSCALE:GREGORIAN
METHOD:PUBLISH
X-WR-CALNAME:The MasterMind Group - Organization of Medical Conferences and Scientific Events - Modern Medical Education | Organizing your success ...
X-ORIGINAL-URL:https://tmg.gr/en
X-WR-CALDESC:Events for The MasterMind Group - Organization of Medical Conferences and Scientific Events - Modern Medical Education | Organizing your success ...
BEGIN:VEVENT
DTSTART;VALUE=DATE:20200925
DTEND;VALUE=DATE:20200927
DTSTAMP:20260425T233848
CREATED:20200612
LAST-MODIFIED:20200923
UID:15384-1600992000-1601251199@tmg.gr
SUMMARY:2ο Πανελλήνιο Πολυθεματικό Συνέδριο Αυτοάνοσων Νοσημάτων\, Ρευματολογίας και Κλινικής Ανοσολογίας
DESCRIPTION:Official site: www.ird2020.gr\n\n\n\n\n  \n\n\n\nLive streaming\n\nRegistration Form\n\n\nANNOUNCEMENT \n\nAbstract Submission form was closed.\n\n\n\n\n● Program\nΧαιρετισμός\n\nΑγαπητές και Αγαπητοί συνάδελφοι\,\n\nΜε ιδιαίτερη χαρά θα θέλαμε να σας ενημερώσουμε για την πραγματοποίηση του 2ου Πανελλήνιου Πολυθεματικού Συνεδρίου Αυτοάνοσων Νοσημάτων\, Ρευματολογίας και Κλινικής Ανοσολογίας\, με\nΔιεθνή Συμμετοχή\, 25-27 Σεπτεμβρίου 2020\, στο Συνεδριακό Κέντρο NATURA\, στη Λίμνη Πλαστήρα. \n\nΤο συνέδριο διοργανώνεται από το Ινστιτούτο Ρευματικών Παθήσεων και την Κλινική Ρευματολογίας και κλινικής Ανοσολογίας\, του Πανεπιστημιακού Γενικού Νοσοκομείου Λάρισας\, Τμήμα Ιατρικής του Πανεπιστημίου Θεσσαλίας. \n\nΗ τεράστια επιτυχία και διάκριση του 1ου Πανελλήνιου Πολυθεματικού Συνεδρίου στη Πορταριά του Πηλίου\, στις εργασίες του οποίου συμμετείχαν περισσότεροι από 400 σύνεδροι διαφορών ειδικοτήτων\, αποτελεί την καλύτερη εγγύηση για την επιτυχία του 2ου Συνεδρίου στη Λίμνη Πλαστήρα\, 25-27 Σεπτεμβρίου 2020.\n\nΗ θεματολογία του Συνεδρίου μας θα εστιαστεί αποκλειστικά στις πρόσφατες εξελίξεις των Αυτοάνοσων Παθήσεων\, με έμφαση στη Ρευματολογία\, Δερματολογία\, Πνευμονολογία\, Καρδιολογία\, Νεφρολογία και την Κλινική Ανοσολογία. Ιδιαίτερη έμφαση θα δοθεί στα διαγνωστικά προβλήματα\, κλινικά διλήμματα και θεραπευτικές επιλογές\, με έμφαση στις συννοσηρότητες και την αντιμετώπισή τους όπως αυτές έχουν προκύψει από την κλινική εμπειρία και τη διεθνή βιβλιογραφία τα δύο τελευταία έτη. Η σωστή διατροφή\, η βελτιστοποίηση της ποιότητας ζωής και της ευεξίας και η αντιμετώπιση του πόνου\, θα αποτελέσουν επίσης αντικείμενα του επιστημονικού προγράμματος.\n\nΘα έχουμε την ευκαιρία να συζητήσουμε με έγκριτους επιστήμονες\, κλινικούς και εργαστηριακούς ερευνητές\, από την Ελλάδα και το εξωτερικό. θα παρουσιαστούν νεώτερα δεδομένα στην\nανοσοπαθογένεια\, με άμεσες εφαρμογές στην θεραπεία . Θα συζητηθούν επίσης κλινικά προβλήματα\, μέτρα πρόληψης\, νοσηλευτικές ανάγκες\, χειρουργικές επιλογές και θεραπείες αποκατάστασης και αντιμετώπισης του πόνου\, του άγχους και της καταθλιπτικής συνδρομής.\n\nΘα παρουσιαστεί επίσης η ερευνητική και κλινική δραστηριότητα των νέων επιστημόνων με προφορικές και αναρτημένες ανακοινώσεις και θα συζητηθούν συνέργειες βελτίωσης της ενίσχυσης των νέων Ελλήνων ερευνητών.\n\nΗ ενεργός συμμετοχή και άλλων ειδικοτήτων επαγγελματιών υγείας όπως εκείνης των νοσηλευτών τονίζεται μέσω της 2ης Πολυθεματικής Νοσηλευτικής Ημερίδας Ρευματολογίας Κεντρικής Ελλάδας\n\nΣτο Επιστημονικό πρόγραμμα του Συνεδρίου συμμετέχουν πάνω από 100 διακεκριμένοι επιστήμονες από τη χώρα μας αλλά και από το εξωτερικό.\n\nΑναμένουμε τη συμμετοχή πάνω από 250 ιατρών από όλη την Ελλάδα και ισάριθμων συνέδρων σχετιζόμενων ειδικοτήτων\, παθολόγων\, γενικών ιατρών\, νοσηλευτών-ιών\, φυσικοθεραπευτών\,\nδιαιτολόγων-διατροφολόγων και φοιτητών(μεταπτυχιακών και προπτυχιακών) βιοιατρικών επιστημών.\n\nΤο πρόγραμμα του Συνεδρίου θα ικανοποιήσει τις απαιτήσεις σας και θα συμβάλλει στην σύγχρονη και αποτελεσματικότερη αντιμετώπιση των αυτοανόσων παθήσεων στη χώρα μας.\n\nΗ Οργανωτική και Επιστημονική Επιτροπή και εμείς προσωπικά θεωρούμε τη συμμετοχή σας τιμητική και καθοριστική για την επιτυχία του Συνεδρίου.\n\n\n\n\n\nΟ Πρόεδρος\nτου Συνεδρίου\nΛάζαρος Ι. Σακκάς\n     \nΟ Αντιπρόεδρος του Συνεδρίου\n& Πρόεδρος της Οργανωτικής Επιτροπής\nΔημήτριος Π. Μπόγδανος\n\n\n\n\n
URL:https://tmg.gr/en/event/2o-panellinio-polithematiko-sinedrio-aftoanoson-nosimaton-revmatologias-ke-klinikis-anosologias/
LOCATION:Λίμνη Πλαστήρα\, Λίμνη Πλαστήρα\, Ελλάδα
ATTACH;FMTTYPE=application/pdf:https://tmg.gr/en/wp-content/uploads/2020/08/2ndPPC_Program_28_08.pdf
END:VEVENT
END:VCALENDAR