BEGIN:VCALENDAR
VERSION:2.0
PRODID:-//The MasterMind Group - Organization of Medical Conferences and Scientific Events - Modern Medical Education | Organizing your success ... - ECPv4.0.4//NONSGML v1.0//EN
CALSCALE:GREGORIAN
METHOD:PUBLISH
X-WR-CALNAME:The MasterMind Group - Organization of Medical Conferences and Scientific Events - Modern Medical Education | Organizing your success ...
X-ORIGINAL-URL:https://tmg.gr/en
X-WR-CALDESC:Events for The MasterMind Group - Organization of Medical Conferences and Scientific Events - Modern Medical Education | Organizing your success ...
BEGIN:VEVENT
DTSTART;VALUE=DATE:20201030
DTEND;VALUE=DATE:20201101
DTSTAMP:20260425T203019
CREATED:20190725
LAST-MODIFIED:20201126
UID:14879-1604016000-1604275199@tmg.gr
SUMMARY:6th Workshop-Arrhythmia & Pacing
DESCRIPTION:Χορήγηση Πιστοποιητικού με 21 μόρια (Credits)\nΣυνεχιζόμενης Ιατρικής Εκπαίδευσης (CME-CPD)\n\n\n\n\n\n\n\n\nVideo Gallery\n\n\n\n\n\n\n\n● Poster\n\n\n\n\n\n\n\n\n\n\n\n\n\n\n\n\n
URL:https://tmg.gr/en/event/6th-workshop-arrhythmia-pacing/
LOCATION:Vassileos Alexandrou 2\, Athens\, Athens\, 16121\, Greece
ATTACH;FMTTYPE=application/pdf:https://tmg.gr/en/wp-content/uploads/2020/10/6th-Workshop-Arrhythmia-2020-QRP.pdf
END:VEVENT
BEGIN:VEVENT
DTSTART;TZID="Europe/Athens":20201030T130000
DTEND;TZID="Europe/Athens":20201101T130000
DTSTAMP:20260425T203019
CREATED:20200604T112744
LAST-MODIFIED:20201119T115402
UID:15366-1604062800-1604235600@tmg.gr
SUMMARY:Συνέδριο Λοιμώξεων «Λοιμώξεις στο Σταυροδρόμι του 2020»
DESCRIPTION:\n\n\n\n\n    \n\nΑναρτημένες Ανακοινώσεις\n\nVideo Gallery\n\n\n\n\n\n\n\nΧορήγηση πιστοποιητικού παρακολούθησης με 22 μόρια Συνεχιζόμενης Ιατρικής Εκπαίδευσης\n(CME – CPD credits) από τον Πανελλήνιο Ιατρικό Σύλλογο\n● Program\n● General Information\n\nΥπό την Αιγίδα:\n    \n\n\n\n\n\n\n\n\n\n\n\n\n\n\nΧαιρετισμός\n \nΜε μεγάλη χαρά θα θέλαμε να σας ενημερώσουμε για την πραγματοποίηση  συνεδρίου με τίτλο «Λοιμώξεις στο Σταυροδρόμι του 2020»\, το οποίο διοργανώνεται από το Μεσογειακό Ινστιτούτο Μελέτης & Εκπαίδευσης στην Πρόληψη & Αντιμετώπιση των Λοιμώξεων.\n\nΤο εφετινό ετήσιο συνέδριο θα πραγματοποιηθεί  30 Οκτωβρίου – 1 Νοεμβρίου 2020 στην Αθήνα\, στο DIVANI-CARAVEL και θα αποτελέσει ένα ακόμα σημαντικό γεγονός για την  επιστημονική  κοινότητα\, αφού εκτός των άλλων σοβαρών λοιμώξεων που θα συζητηθούν\, κύριο θέμα του θα αποτελέσουν οι εξελίξεις της πανδημίας του COVID 19\, με βασικούς ομιλητές καταξιωμένους επιστήμονες και μέσα από την επιστημονική ομάδα του Υπουργείου Υγείας\, που διαχειρίζονται με απόλυτη επιτυχία τη πανδημία\, αποτρέποντας μια σοβαρή κρίση Δημόσιας Υγείας.\n\nΣτο πλαίσιο του Συνεδρίου θα αναλυθούν\, εκτός ενός μεγάλου φάσματος λοιμώξεων όλες οι εξελίξεις της πανδημίας\, επιδημιολογικά και ιατρικά\, καθώς και ζητήματα κοινωνικής και πολιτικής προστασίας. Επίσης θα αναλυθούν\, θέματα μετάλλαξης του ιού\, ανοσίας\, δυνατότητες θεραπείας- πιθανού εμβολίου και αποτελεσματικότητας του\, καθώς-και οι τελευταίες εξελίξεις στον τομέα της πρόληψης και  ελέγχου των λοιμώξεων.\n\nΜε τη βεβαιότητα ότι η παρουσία και η ενεργός συμμετοχή σας αποτελούν την καλύτερη εγγύηση για την επιτυχία του Συνεδρίου μας\,\nσας περιμένουμε στο Συνέδριο «Λοιμώξεις στο Σταυροδρόμι του 2020».\n\nΜε συναδελφικούς χαιρετισμούς\,\n\n\n\nΓεώργιος Πετρίκκος\nΕμμανουήλ Ροηλίδης\nΓεώργιος Λ. Δαΐκος\n\n\n  \nΠρόεδρος\n\nΜεσογειακού Ινστιτούτου Μελέτης & Εκπαίδευσης στην Πρόληψη & Αντιμετώπιση των Λοιμώξεων\nΠρόεδρος\n\nΟργανωτικής Επιτροπής\nΣυνεδρίου\nΠρόεδρος\n\nΕπιστημονικής Επιτροπής\nΣυνεδρίου\n\n\n\n\nΤο συνέδριο θα είναι υβριδικό δηλ. θα υπάρχει ζωντανή παρουσία και ταυτόχρονη μετάδοση με Live Streaming\nΗ συμμετοχή είναι ΔΩΡΕΑΝ\nΒάση των νέων κανονισμού λόγω COVID 19\, απαραίτητη η προεγγραφή σας
URL:https://tmg.gr/en/event/metekpedeftiko-seminario-limoxeon-limoxis-sto-stavrodromi-tou-2020-2/
LOCATION:Vassileos Alexandrou 2\, Athens\, Athens\, 16121\, Greece
ATTACH;FMTTYPE=application/pdf:https://tmg.gr/en/wp-content/uploads/2020/10/Infections-crossroad-2020-QRP.pdf
ORGANIZER;CN="The%20MasterMind%20Group":MAILTO:info@tmg.gr
END:VEVENT
END:VCALENDAR