BEGIN:VCALENDAR
VERSION:2.0
PRODID:-//The MasterMind Group - Organization of Medical Conferences and Scientific Events - Modern Medical Education | Organizing your success ... - ECPv4.0.4//NONSGML v1.0//EN
CALSCALE:GREGORIAN
METHOD:PUBLISH
X-WR-CALNAME:The MasterMind Group - Organization of Medical Conferences and Scientific Events - Modern Medical Education | Organizing your success ...
X-ORIGINAL-URL:https://tmg.gr/en
X-WR-CALDESC:Events for The MasterMind Group - Organization of Medical Conferences and Scientific Events - Modern Medical Education | Organizing your success ...
BEGIN:VEVENT
DTSTART;VALUE=DATE:20201211
DTEND;VALUE=DATE:20201213
DTSTAMP:20260425T190454
CREATED:20201009
LAST-MODIFIED:20201214
UID:15597-1607644800-1607903999@tmg.gr
SUMMARY:Πανελλήνιο Συνέδριο Δερματικές Παθήσεις & Διαβήτης 2020
DESCRIPTION:ΑΝΑΚΟΙΝΩΣΗ\nThe conference will be held online\nNew date 11-13 December 2020\n\n\n\n\n\n\n\n\n\n\n\n\n\n\n\n● Final Program\n\n \n\n\n\n\n\n\n\n\nΓΕΝΙΚΕΣ ΠΛΗΡΟΡΟΦΙΕΣ\n\nΓλώσσα Συνεδρίου:\n\nΕπίσημη γλώσσα του Συνεδρίου είναι η Ελληνική.\n\nΜοριοδότηση: \n\nΟ Πανελλήνιος Ιατρικός Σύλλογος θα χορηγήσει με μόρια Συνεχιζόμενης Ιατρικής Εκπαίδευσης σύμφωνα με τα κριτήρια της EACCME - UEMS στους ιατρούς που θα παρακολουθήσουν το Συνέδριο.\n\nΕΓΓΡΑΦΕΣ:\n\n\n\n \t\n\n \tΑπαραίτητη προϋπόθεση για την εγγραφή στο Συνέδριο είναι η υποβολή της Φόρμας Εγγραφής την οποία μπορείτε να βρείτε στην ιστοσελίδα του Συνεδρίου.\n\n\n\n\n\n \t\n\n \tΟι εγγεγραμμένοι σύνεδροι που έχουν ήδη υποβάλλει το Δελτίο Συμμετοχής δεν χρειάζεται να το υποβάλλουν εκ νέου.\n\n\n\n\n\n\n\n\n\n\n  ΔΙΚΑΙΩΜΑ ΣΥΜΜΕΤΟΧΗΣ \n\n  Με διαδικτυακή παρουσία \n\n\n  Συντονιστής/Ομιλητής/Σχολιαστής\n\n  ΔΩΡΕΑΝ\n\n\n  Ειδικευμένοι – Ειδικευόμενοι - Ιατροί\n(εν αναμονή\, αγροτικός ιατρός κτλ.)\n\n  49\,6€\n\n\n  Νοσηλευτές / Λοιπά επαγγέλματα υγείας\n\n  49\,6€\n\n\n  Sponsor\n\n  49\,6€\n\n\n  Άλλο\n\n  49\,6€\n\n\n  Φοιτητές\n\n  ΔΩΡΕΑΝ\n\n\n\n \n\nΠαρακολούθηση μέσω διαδικτύου:\n\n \tΤο Συνέδριο θα αναμεταδοθεί ζωντανά μέσω της ιστοσελίδας https://tmg.gr/skindiseases-diabetes2020-livestream/.\n \tΑπαραίτητη προϋπόθεση είναι η συμπλήρωση του email που έχετε υποβάλλει στην φόρμα εγγραφής σας καθώς και του προσωπικού σας barcode (περιλαμβάνεται στο e-badge).\n \tΗ διαδραστικότητα θα επιτευχθεί μέσω της on-line φόρμας υποβολής σχολίων\, η οποία θα είναι διαθέσιμη καθ’ όλη τη διάρκεια της εκδήλωσης\, έτσι ώστε να υποβάλλεται τα ερωτήματα σας στους ομιλητές.\n\nΠΛΗΡΟΦΟΡΙΕΣ:\n\n \t\n\n \tΟι εγγεγραμμένοι σύνεδροι θα παραλάβουν ηλεκτρονικά Πιστοποιητικό Παρακολούθησης (e-Certificate)\, στην ηλεκτρονική διεύθυνση (e-mail) που έχουν δηλώσει στο Δελτίο Συμμετοχής τους.\n\n\n\n\n\n \t\n\n \tΟ χρόνος παρακολούθησης θα καταγράφεται  από το χρόνο της on-line παρακολούθησης στην πλατφόρμα μετάδοσης.\n\n\n\n\n\nΚΕΝΤΡΟ ΠΑΡΑΛΑΒΗΣ ΔΙΑΦΑΝΕΙΩΝ:\n\nΕνθαρρύνεται η αποστολή των ομιλιών στη γραμματεία με ηλεκτρονικό τρόπο 2 ημέρες πριν την έναρξη του συνεδρίου. \n\n Χαιρετισμός\nΤο Ελληνικό Κολλέγιο Δερματολογίας - Αφροδισιολογίας σε συνεργασία με το Ινστιτούτο Μελέτης Έρευνας & Εκπαίδευσης για το Σακχαρώδη Διαβήτη & τα Μεταβολικά Νοσήματα διοργανώνει το «1ο Πανελλήνιο Συνέδριο Δερματικές Παθήσεις & Διαβήτης»\, 11-13 Δεκεμβρίου 2020 διαδικτυακά.\n\nΗ συνεργασία κρίθηκε αναγκαία δεδομένου ότι ο Σακχαρώδης Διαβήτης και τα Μεταβολικά Νοσήματα πολλές φορές συνυπάρχουν με τις Δερματικές Παθήσεις.\n\nΠιστεύω ακράδαντα ότι η συνεργασία αυτή θα συνεισφέρει σημαντικά στη συνεχιζόμενη εκπαίδευση ειδικά των γιατρών της πρωτοβάθμιας φροντίδας.\n\nΣτο πρόγραμμα του Συνεδρίου με τη συμμετοχή καταξιωμένων επιστημόνων θα συζητηθούν επίκαιραθέματα καθώς και οι νέες εξελίξεις που αφορούν στην πρόληψη και στη θεραπευτική αντιμετώπιση με εξατομίκευση στην κλινική πράξη των παραπάνω παθολογικών καταστάσεων σύμφωνα με τις σύγχρονες κατευθυντήριες οδηγίες.\n\nΙδιαίτερη συμβολή στους στόχους του Συνεδρίου έχει η παρουσίαση του ερευνητικού έργου αξιόλογων συναδέλφων\, τους οποίους ευχαριστούμε ιδαίτερα.\n\nΣε εποχές μεγάλης οικονομικής κρίσης\, ιδιαίτερα δύσκολης για τη χώρα μας αλλά και για όλουςμας\, η Οργανωτική Επιτροπή έχει καταβάλει κάθε δυνατή προσπάθεια\, ώστε το\n1ο Πανελλήνιο Συνέδριο Δερματικές Παθήσεις & Διαβήτης να είναι μια ευχάριστη και παραγωγική διαδικασία που θα συμβάλλει στη συνεχιζόμενη εκπαίδευσή μας.\nΓια την Οργανωτική Επιτροπή\nΝικόλαος Σταυριανέας          Σταύρος Ι. Παππάς
URL:https://tmg.gr/en/event/panellinio-sinedrio-dermatikes-pathisis-diavitis-2020/
LOCATION:Greece
ATTACH;FMTTYPE=application/pdf:https://tmg.gr/en/wp-content/uploads/2020/10/DIABDERM2020-QRP.pdf
ORGANIZER;CN="The%20MasterMind%20Group":MAILTO:info@tmg.gr
END:VEVENT
END:VCALENDAR