BEGIN:VCALENDAR
VERSION:2.0
PRODID:-//The MasterMind Group - Organization of Medical Conferences and Scientific Events - Modern Medical Education | Organizing your success ... - ECPv4.0.4//NONSGML v1.0//EN
CALSCALE:GREGORIAN
METHOD:PUBLISH
X-WR-CALNAME:The MasterMind Group - Organization of Medical Conferences and Scientific Events - Modern Medical Education | Organizing your success ...
X-ORIGINAL-URL:https://tmg.gr/en
X-WR-CALDESC:Events for The MasterMind Group - Organization of Medical Conferences and Scientific Events - Modern Medical Education | Organizing your success ...
BEGIN:VEVENT
DTSTART;VALUE=DATE:20201217
DTEND;VALUE=DATE:20201219
DTSTAMP:20260425T190459
CREATED:20200206
LAST-MODIFIED:20201229
UID:15181-1608163200-1608422399@tmg.gr
SUMMARY:ΤΙ ΝΕΟΤΕΡΟ ΣΤΗΝ ΚΑΡΔΙΟΛΟΓΙΑ: 16o ΕΤΗΣΙΟ ΣΥΝΕΔΡΙΟ "ΕΞΕΛΙΞΕΙΣ 2020 & ΠΡΟΟΠΤΙΚΕΣ 2021 ΣΤΗΝ ΚΑΡΔΙΟΛΟΓΙΑ"
DESCRIPTION:ANNOUNCEMENT\n\nThe conference will be held online\n\n \n\n \n\n\n\n\n\n   Video Gallery\n\n\n\n\n● Scientific Program\n● Οpening Ceremony Program\n\n \n\n\n\n\n\n \n\n \n\n \n\n \n\n \n\n\n\n\n\n\n\n \n\n \nΧαιρετισμός\nΑγαπητές και αγαπητοί Συνάδελφοι\,\nΗ Β΄ Πανεπιστημιακή Καρδιολογική Κλινική του Π.Γ.Ν. «Αττικόν»\, οργανώνει διαδικτυακά\nτο ετήσιο Συνέδριο της «Τι νεότερο στην Καρδιολογία: 16ο Ετήσιο Συνέδριο Εξελίξεις2020 και Προοπτικές 2021 στην Καρδιολογία»\, 17-19 Δεκεμβρίου 2020.\nΤα στελέχη της Β΄ Πανεπιστημιακής Καρδιολογικής Κλινικής και έγκριτοι προσκεκλημένοι συνάδελφοι από την Ελλάδα και το εξωτερικό θα σας παρουσιάσουν\nτις σημαντικότερες εξελίξεις στο χώρο της καρδιαγγειακής ιατρικής\, τις πρακτικές τους\nεφαρμογές και το μέλλον στην Καρδιολογία.\nΘα είναι μεγάλη μας χαρά να συμμετάσχετε ενεργά στο Συνέδριο μας.\nΜε συναδελφικούς χαιρετισμούς\nΕυστάθιος Ηλιοδρομίτης\nΚαθηγητής Καρδιολογίας\nΔιευθυντής Β΄ Πανεπιστημιακής Καρδιολογικής Κλινικής Π.Γ.Ν. «Αττικόν»\nΠρόεδρος της Οργανωτικής Επιτροπής\n 
URL:https://tmg.gr/en/event/ti-neotero-stin-kardiologia-16o-etisio-sinedrio-exelixis-2020-prooptikes-2021-stin-kardiologia/
LOCATION:Greece
ATTACH;FMTTYPE=application/pdf:https://tmg.gr/en/wp-content/uploads/2020/02/CardiologyNews_2020-QRP.pdf
ORGANIZER;CN="The%20MasterMind%20Group":MAILTO:info@tmg.gr
END:VEVENT
BEGIN:VEVENT
DTSTART;VALUE=DATE:20201217
DTEND;VALUE=DATE:20201219
DTSTAMP:20260425T190459
CREATED:20200921
LAST-MODIFIED:20201228
UID:15545-1608163200-1608422399@tmg.gr
SUMMARY:8o Κλινικό Φροντιστήριο\, Πνευμονικής Υπέρτασης & Θρόμβωσης
DESCRIPTION:ΑΝΑΚΟΙΝΩΣΗ\nThe conference will be held online\nNew date\, 17-19 Δεκεμβρίου 2020.\nOfficial site: pulmonaryhypertension2020.gr\n\n \n\n\n\n\n\n     Video Gallery\n\n\n\n\n● Poster\n\n● Program\nΧορήγηση πιστοποιητικού παρακολούθησης με 17 μόρια (credits)\nΣυνεχιζόμενης Ιατρικής Εκπαίδευσης (CME - CPD) από τον Πανελλήνιο Ιατρικό Σύλλογο.\n\n\n\n\n\n\n\n\n\n\n\n\n \n\nΓΕΝΙΚΕΣ ΠΛΗΡΟΡΟΦΙΕΣ\n\n Στο 8ο Κλινικό Φροντιστήριο Πνευμονικής Υπέρτασης & Θρόμβωσης κύριο μέλημα μας είναι η απαρέγκλιτη τήρηση όλων των κανόνων υγιεινής και μέτρων για την διασφάλιση της υγείας τόσο των εργαζομένων στους συνεδριακούς χώρους\, των συναδέλφων μας\, όσο και της δημόσιας υγείας γενικότερα.\n\nΣας ενημερώνουμε ότι έχουν παρθεί όλα τα προληπτικά μέτρα ασφαλείας μη μετάδοσης του Covid-19 που έχουμε λάβει μέχρι σήμερα από την Πολιτεία\, λαμβάνοντας υπόψη τις επίσημες οδηγίες και συστάσεις που έχουν δοθεί από το Υπουργείο Υγείας\, το Υπουργείο Τουρισμού και τον ΕΟΔΥ.\n\nΕΓΓΡΑΦΕΣ:\n\nΔικαίωμα συμμετοχής:\n\n \tΑπαραίτητη προϋπόθεση για την εγγραφή στο Συνέδριο είναι η υποβολή της Φόρμας Εγγραφής την οποία μπορείτε να βρείτε στην ιστοσελίδα του Συνεδρίου (https://www.pulmonaryhypertension2020.gr/).\n\n\n \tΟι εγγεγραμμένοι σύνεδροι θα λάβουν την ηλεκτρονική κονκάρδα (e-badge) η οποία θα περιλαμβάνει το προσωπικό barcode καθώς και το Τελικό Πρόγραμμα του Συνεδρίου σε ηλεκτρονική μορφή (e-Program) μέσω ενός QR code.\n \tΟι εγγεγραμμένοι σύνεδροι που έχουν ήδη υποβάλλει το Δελτίο Συμμετοχής δεν χρειάζεται να το υποβάλλουν εκ νέου.\n\nΠαρακολούθηση μέσω διαδικτύου:\n\n \tΤο Συνέδριο θα αναμεταδοθεί ζωντανά μέσω της ιστοσελίδας: https://www.pulmonaryhypertension2020.gr/.\n\n\n \tΑπαραίτητη προϋπόθεση είναι η συμπλήρωση του email που έχετε υποβάλλει στην φόρμα εγγραφής σας καθώς και του προσωπικού σας barcode (περιλαμβάνεται στο e-badge).\n \tΗ διαδραστικότητα θα επιτευχθεί μέσω της on-line φόρμας υποβολής σχολίων\, η οποία θα είναι διαθέσιμη καθ΄ όλη τη διάρκεια της εκδήλωσης\, έτσι ώστε να υποβάλλεται τα ερωτήματα σας στους ομιλητές.\n\nΠληροφορίες:\n\n \tΟι εγγεγραμμένοι σύνεδροι θα λάβουν σχετικές οδηγίες λήψης του ηλεκτρονικού Πιστοποιητικού Παρακολούθησης (e-Certificate)\, στην ηλεκτρονική διεύθυνση (e-mail) που έχουν δηλώσει στο Δελτίο Συμμετοχής τους\, μετά την λήξη του Συνεδρίου.\n \tΧορηγούνται 17 Μόρια Συνεχιζόμενης Ιατρικής Εκπαίδευσης από τον Πανελλήνιο Ιατρικό\n\nΣύλλογο.\n\n \tΟ χρόνος παρακολούθησης θα καταγράφεται από το χρόνο της on-line παρακολούθησης στην πλατφόρμα μετάδοσης.\n\nΧαιρετισμός\nΈχω τη χαρά να σας προσκαλέσω στο 8ο Κλινικό Φροντιστήριο Πνευμονικής Υπέρτασης & Θρόμβωσης\, το οποίο πρόκειται να διεξαχθεί 17 - 19 Δεκεμβρίου 2020 μέσω διαδικτύου.\nΤο Κλινικό Φροντιστήριο διοργανώνεται από την Α΄ Πανεπιστημιακή Καρδιολογική Κλινική του Πανεπιστημιακού Γενικού Νοσοκομείου Θεσσαλονίκης «ΑΧΕΠΑ» σε συνεργασία με το Κολλέγιο Καρδιολογίας Βορείου Ελλάδος.\nΘερμές ευχαριστίες για τη συνεχή υποστήριξη σας στο Κλινικό Φροντιστήριο.\nΜε εκτίμηση\,\nΧαράλαμπος Καρβούνης\nΠρόεδρος Οργανωτικής Επιτροπής\nΚαθηγητής Καρδιολογίας Αριστοτελείου Πανεπιστημίου Θεσσαλονίκης\,\nΔιευθυντής Α’ Πανεπιστημιακής Καρδιολογικής Κλινικής\, Π.Γ.Ν.Θ. «ΑΧΕΠΑ»
URL:https://tmg.gr/en/event/8o-kliniko-frontistirio-pnevmonikis-ipertasis-thromvosis/
LOCATION:Greece
ATTACH;FMTTYPE=application/pdf:https://tmg.gr/en/wp-content/uploads/2020/09/8th-Lung-Hypertension-2020_35x50cm-1.pdf
ORGANIZER;CN="The%20MasterMind%20Group":MAILTO:info@tmg.gr
END:VEVENT
END:VCALENDAR