BEGIN:VCALENDAR
VERSION:2.0
PRODID:-//The MasterMind Group - Organization of Medical Conferences and Scientific Events - Modern Medical Education | Organizing your success ... - ECPv4.0.4//NONSGML v1.0//EN
CALSCALE:GREGORIAN
METHOD:PUBLISH
X-WR-CALNAME:The MasterMind Group - Organization of Medical Conferences and Scientific Events - Modern Medical Education | Organizing your success ...
X-ORIGINAL-URL:https://tmg.gr/en
X-WR-CALDESC:Events for The MasterMind Group - Organization of Medical Conferences and Scientific Events - Modern Medical Education | Organizing your success ...
BEGIN:VEVENT
DTSTART;VALUE=DATE:20201218
DTEND;VALUE=DATE:20201220
DTSTAMP:20260425T190453
CREATED:20200526
LAST-MODIFIED:20201228
UID:15344-1608249600-1608508799@tmg.gr
SUMMARY:Nephrological Symposium 2020
DESCRIPTION:Announcement\nThe conference will be held online\nNew date\, 18 - 20 December 2020\nΘα χορηγηθούν Μόρια Συνεχιζόμενης Ιατρικής Εκπαίδευσης\n(CME-CPD credits) από τον Πανελλήνιο Ιατρικό Σύλλογο (Π.Ι.Σ.)\n\n \n\n\n\n\n     Video Gallery\n\n\n\n\n● Poster\n\n● Program\n\n\n\n\n\n\n\n\n\n\n\n\n\n\n\n\nΧαιρετισμός\nΑγαπητοί συνάδελφοι\,\nΒρίσκομαι στην εξαιρετικά ευχάριστη θέση να σας προσκαλέσω στο Νεφρολογικό Συμπόσιο 2020\, που θα πραγματοποιηθεί διαδικτυακά\, 18- 20 Δεκεμβρίου 2020.\nΤο Συμπόσιο διοργανώνεται από την Ακαδημία Νεφρολογίας & Νεφρολογικής Φροντίδας και την Πανεπιστημιακή Νεφρολογική Κλινική του Πανεπιστημιακού Γενικού Νοσοκομείου Λάρισας\, του Τμήματος Ιατρικής του Πανεπιστημίου Θεσσαλίας και διεξάγεται για όγδοη συνεχόμενη χρονιά.\nΤο Νεφρολογικό Συμπόσιο 2020\, ως επιστημονική εκδήλωση Κεντρικής Ελλάδος\, πρόκειται και εφέτος να καλύψει σύγχρονες επιστημονικές εξελίξεις στις νεφρικές παθήσεις που αφορούν τη διάγνωση\, την πρόληψη και τη θεραπεία. Θα παρουσιαστούν ποικίλα θέματα\, τα οποία\, παράλληλα με τη νεφρολογία\, θα αφορούν και μεγάλο φάσμα των άλλων ιατρικών ειδικοτήτων.\nΒασικός στόχος της εκδήλωσης είναι η συμβολή σε μια αποτελεσματικότερη και ορθότερη αντιμετώπιση των νεφρικών παθήσεων. Προς την κατεύθυνση αυτή\, η συνεργασία τόσο σε επιστημονικό επίπεδο όσο και στον εργασιακό χώρο όλων των επαγγελματιών υγείας είναι απολύτως απαραίτητη. Στο πρόγραμμα θα συμπεριληφθούν διακεκριμένοι επιστήμονες με καταξιωμένο κλινικό και ερευνητικό έργο στη Νεφρολογία και σε άλλους τομείς της ιατρικής.\nΜε τις πιο θερμές ευχαριστίες για το ενδιαφέρον σας στο Συμπόσιό μας.\nΜε εκτίμηση\,\nΙωάννης Στεφανίδης\nΚαθηγητής Παθολογίας - Νεφρολογίας\nΠρόεδρος Οργανωτικής Επιτροπής
URL:https://tmg.gr/en/event/nephrological-symposium-2020/
LOCATION:Greece
ATTACH;FMTTYPE=application/pdf:https://tmg.gr/en/wp-content/uploads/2020/05/Nephrology-Larisa_2020-newP.pdf
ORGANIZER;CN="The%20MasterMind%20Group":MAILTO:info@tmg.gr
END:VEVENT
BEGIN:VEVENT
DTSTART;VALUE=DATE:20201220
DTEND;VALUE=DATE:20201220
DTSTAMP:20260425T190453
CREATED:20200415
LAST-MODIFIED:20201228
UID:15298-1608422400-1608508799@tmg.gr
SUMMARY:5η Εκπαιδευτική Ημερίδα: ΟΜΑΔΕΣ ΚΑΡΔΙΑΣ & ΑΟΡΤΗΣ. ΠΑΡΟΝ ΚΑΙ ΜΕΛΛΟΝ.
DESCRIPTION:Announcement\nThe conference will be held online\nNew date\, 20 December 2020\n \n\n\n\n\n  Video Gallery\n\n\n\n● Program\n\n\n\n \n\n\nΗ Εγγραφή στην Ημερίδα είναι ΔΩΡΕΑΝ\nXoρήγηση πιστοποιητικού παρακολούθησης με 8 μόρια (credits) Συνεχιζόμενης Ιατρικής Εκπαίδευσης (CME - CPD)\n\n \n    \n\n\n\n\n \n\n\n\nΠΡΟΕΔΡΟΣ ΟΡΓΑΝΩΤΙΚΗΣ ΕΠΙΤΡΟΠΗΣ : ΑΘΑΝΑΣΙΟΣ ΜΑΓΓΙΝΑΣ\n\n \nΧαιρετισμός\nΑγαπητοί συνάδελφοι\,\nΤο Mediterraneo Hospital και η Εταιρεία Μελέτης Καρδιαγγειακών Παθήσεων διοργανώνουν την 5η κατά σειρά Εκπαιδευτική Ημερίδα: «Ομάδες Καρδιάς & Αορτής. Παρόν και Μέλλον»\nστις 20 Δεκεμβρίου 2020\, αμιγώς διαδικτυακά.\nΚαι η φετινή διαδραστική ημερίδα θα διατηρήσει σαν κύρια δομή τις παρουσιάσεις πολύπλοκων περιστατικών ασθενών με στεφανιαία νόσο\, καρδιακή ανεπάρκεια\, βαλβιδοπάθειες\, απεικονιστικά διλήμματα\, σύμπλοκα αγγειακά προβλήματα\, διαταραχές της πνευμονικής κυκλοφορίας και συγγενείς καρδιακές παθήσεις.\nΟι παρουσιάσεις θα συνοδεύονται από ερωτήσεις-απαντήσεις\, σχόλια και συμβουλές (tips and tricks).\nΗ πολύτιμη παρουσία των συναδέλφων\, που θα συνεισφέρουν τους δύσκολους κλινικούς τους προβληματισμούς\, αποτελεί ιδιαίτερη τιμή για όλους μας και τους ευχαριστούμε θερμά.\nΜε την βεβαιότητα ότι η ενεργός συμμετοχή σας αποτελεί την καλύτερη εγγύηση για την επιτυχία της Ημερίδας μας\, θα χαρούμε να σας καλωσορίσουμε και να γνωρίσουμε μαζί τις νεότερες εξελίξεις στο χώρο της Καρδιολογίας/Καρδιοχειρουργικής.\nΜε εκτίμηση\,\nΟργανωτική και Επιστημονική Επιτροπή
URL:https://tmg.gr/en/event/omades-kardias-ke-aortis-5i-ekpedeftiki-imerida/
LOCATION:Greece
ATTACH;FMTTYPE=application/pdf:https://tmg.gr/en/wp-content/uploads/2020/04/MedHeartAorta_2020-QRP.pdf
ORGANIZER;CN="The%20MasterMind%20Group":MAILTO:info@tmg.gr
END:VEVENT
END:VCALENDAR