BEGIN:VCALENDAR
VERSION:2.0
PRODID:-//The MasterMind Group - Organization of Medical Conferences and Scientific Events - Modern Medical Education | Organizing your success ... - ECPv4.0.4//NONSGML v1.0//EN
CALSCALE:GREGORIAN
METHOD:PUBLISH
X-WR-CALNAME:The MasterMind Group - Organization of Medical Conferences and Scientific Events - Modern Medical Education | Organizing your success ...
X-ORIGINAL-URL:https://tmg.gr/en
X-WR-CALDESC:Events for The MasterMind Group - Organization of Medical Conferences and Scientific Events - Modern Medical Education | Organizing your success ...
BEGIN:VEVENT
DTSTART;VALUE=DATE:20210129
DTEND;VALUE=DATE:20210130
DTSTAMP:20260425T175723
CREATED:20200928
LAST-MODIFIED:20210209
UID:15556-1611878400-1612051199@tmg.gr
SUMMARY:31st Annual Cardiology "Εξελίξεις στην Καρδιολογία" 2021
DESCRIPTION:ANNOUNCEMENT: Τhe conference will be held online.\n\n \n\n\n\n\nVideo Gallery\n\n\n\n \n\n● Program\n\n \n\nClick HERE:\n\n\n\n\n     \n\n \n\n \n\n\n\n\n\n\n\n\n\n\n\n\n\n
URL:https://tmg.gr/en/event/31st-annual-cardiology-exelixis-stin-kardiologia-2021/
LOCATION:Greece
ATTACH;FMTTYPE=application/pdf:https://tmg.gr/en/wp-content/uploads/2020/09/31st-Annual_Cardiology-2021-QRP-1.pdf
ORGANIZER;CN="The%20MasterMind%20Group":MAILTO:info@tmg.gr
END:VEVENT
END:VCALENDAR