BEGIN:VCALENDAR
VERSION:2.0
PRODID:-//The MasterMind Group - Organization of Medical Conferences and Scientific Events - Modern Medical Education | Organizing your success ... - ECPv4.0.4//NONSGML v1.0//EN
CALSCALE:GREGORIAN
METHOD:PUBLISH
X-WR-CALNAME:The MasterMind Group - Organization of Medical Conferences and Scientific Events - Modern Medical Education | Organizing your success ...
X-ORIGINAL-URL:https://tmg.gr/en
X-WR-CALDESC:Events for The MasterMind Group - Organization of Medical Conferences and Scientific Events - Modern Medical Education | Organizing your success ...
BEGIN:VEVENT
DTSTART;VALUE=DATE:20210219
DTEND;VALUE=DATE:20210219
DTSTAMP:20260425T163949
CREATED:20210203
LAST-MODIFIED:20210419
UID:15781-1613692800-1613779199@tmg.gr
SUMMARY:EANS Winter e-Summit 2021
DESCRIPTION:\n\n\n\nVideo Gallery\n\n\n\n \n\n \n\n● Poster\n● Program\n\n\nTopic: Policy Making – How nursing could make the difference?\n\nThe EANS Winter Summit\n\nThe EANS Winter e-Summit 2021 will be a gathering of nurse scientists from across Europe and worldwide who come together to progress the scientific aims of EANS\, develop collaborations and deepen their understanding of nursing. In addition\, the Summit seeks to increase our understanding of nursing research in its various contexts within and outside Europe\, during the current era of web-based meetings and communication.\n\nAim\n\nThis year’s Winter e-summit aims to provide a platform for EANS members and also non-members\, to learn\, discuss\, network\, and get and provide new ideas and inspiration on an important topic. The e-summit is concerned with policy making in nursing. So far\, nursing does not have an established strong voice in policy-making and political decision making across Europe. However\, there are examples of successful influencers with a nursing background and nurses with outstanding roles in politics. In order to developing strong voices in policy making\, it is essential to upgrade nurses’ knowledge\, skills and competences in leadership\, power gaming and advocacy and their ability to change.\n\nFormat\n\nParallel workshops\, roundtables\, interviewing\, e-posters and informal talks will allow to address this topic from different angles and viewpoints. Policy making in education\, research\, clinical practice\, European funding\, political decision making\, and examples of good practice within Europe or abroad\, are some of the topics that will be addressed.\n\nWeb based Format\n\nInterview\, interactive keynotes and discussion\, round tables and discussion\, e-posters and informal talks.\n\n 
URL:https://tmg.gr/en/event/eans-winter-e-summit-2021/
LOCATION:Greece
ATTACH;FMTTYPE=image/jpeg:https://tmg.gr/en/wp-content/uploads/2021/02/WEBINAR-final.jpg
END:VEVENT
END:VCALENDAR