BEGIN:VCALENDAR
VERSION:2.0
PRODID:-//The MasterMind Group - Organization of Medical Conferences and Scientific Events - Modern Medical Education | Organizing your success ... - ECPv4.0.4//NONSGML v1.0//EN
CALSCALE:GREGORIAN
METHOD:PUBLISH
X-WR-CALNAME:The MasterMind Group - Organization of Medical Conferences and Scientific Events - Modern Medical Education | Organizing your success ...
X-ORIGINAL-URL:https://tmg.gr/en
X-WR-CALDESC:Events for The MasterMind Group - Organization of Medical Conferences and Scientific Events - Modern Medical Education | Organizing your success ...
BEGIN:VEVENT
DTSTART;VALUE=DATE:20210609
DTEND;VALUE=DATE:20210609
DTSTAMP:20260425T112132
CREATED:20210507
LAST-MODIFIED:20210615
UID:15962-1623196800-1623283199@tmg.gr
SUMMARY:WEBINAR «Εξελίξεις στις καρδιο-νεφρο-μεταβολικές παθήσεις στην εποχή του SARS-COV-2»
DESCRIPTION: \n\n\n\n\nVideo Gallery\n\n\n\n \n\n● Poster\n● Program\n\n 
URL:https://tmg.gr/en/event/webinar-exelixis-stis-kardio-nefro-metavolikes-pathisis-stin-epochi-tou-sars-cov-2/
LOCATION:Greece
ATTACH;FMTTYPE=application/pdf:https://tmg.gr/en/wp-content/uploads/2021/05/WEBINAR_HNMDiseases-QRP-1.pdf
ORGANIZER;CN="The%20MasterMind%20Group":MAILTO:info@tmg.gr
END:VEVENT
END:VCALENDAR