BEGIN:VCALENDAR
VERSION:2.0
PRODID:-//The MasterMind Group - Organization of Medical Conferences and Scientific Events - Modern Medical Education | Organizing your success ... - ECPv4.0.4//NONSGML v1.0//EN
CALSCALE:GREGORIAN
METHOD:PUBLISH
X-WR-CALNAME:The MasterMind Group - Organization of Medical Conferences and Scientific Events - Modern Medical Education | Organizing your success ...
X-ORIGINAL-URL:https://tmg.gr/en
X-WR-CALDESC:Events for The MasterMind Group - Organization of Medical Conferences and Scientific Events - Modern Medical Education | Organizing your success ...
BEGIN:VEVENT
DTSTART;VALUE=DATE:20210624
DTEND;VALUE=DATE:20210627
DTSTAMP:20260425T112056
CREATED:20210201
LAST-MODIFIED:20210628
UID:15769-1624492800-1624838399@tmg.gr
SUMMARY:11ο ΠΑΝΕΛΛΗΝΙΟ ΣΥΝΕΔΡΙΟ ΙΝΣΤΙΤΟΥΤΟΥ ΜΕΛΕΤΗΣ\, ΕΡΕΥΝΑΣ & ΕΚΠΑΙΔΕΥΣΗΣ ΓΙΑ ΤΟ ΣΑΚΧΑΡΩΔΗ ΔΙΑΒΗΤΗ & ΤΑ ΜΕΤΑΒΟΛΙΚΑ ΝΟΣΗΜΑΤΑ
DESCRIPTION:  Στο 11ο Πανελλήνιο Συνέδριο-ΙΝΣΤΙΤΟΥΤΟ ΜΕΛΕΤΗΣ\, ΕΡΕΥΝΑΣ & ΕΚΠΑΙΔΕΥΣΗΣ ΓΙΑ ΤΟ ΣΑΚΧΑΡΩΔΗ ΔΙΑΒΗΤΗ ΚΑΙ ΤΑ ΜΕΤΑΒΟΛΙΚΑ ΝΟΣΗΜΑΤΑ\, κύριο μέλημά μας είναι η απαρέγκλιτη τήρηση όλων των κανόνων υγιεινής και η λήψη μέτρων για την διασφάλιση της υγείας τόσο των εργαζομένων στους συνεδριακούς χώρους\, των συναδέλφων μας\, όσο και της δημόσιας υγείας γενικότερα.\nΣας ενημερώνουμε ότι έχουν παρθεί όλα τα προληπτικά μέτρα ασφαλείας μη μετάδοσης του COVID-19 που έχουμε λάβει μέχρι σήμερα από την Πολιτεία\, λαμβάνοντας υπόψη τις επίσημες οδηγίες και συστάσεις που έχουν δοθεί από το Υπουργείο Υγείας και τον ΕΟΔΥ.\nΘα θέλαμε να σας ενημερώσουμε ότι για την Φυσική σας παρουσία στο «11ο Πανελλήνιο Συνέδριο του Ινστιτούτου»\, απαιτείται η επίδειξη πιστοποιητικού εμβολιασμού\, ή η επίδειξη βεβαίωσης αρνητικού PCR test ή rapid test (εγκεκριμένα αντιγονικά test). Οι διοργανωτές του Συνεδρίου\, σε συνεργασία με επαγγελματίες υγείας\, έχουν τη δυνατότητα πραγματοποίησης σε όλους τους παρευρισκόμενους\, rapid test (εγκεκριμένα αντιγονικά test) κατά την άφιξη σας στη γραμματεία του Συνεδρίου\, σε ειδικά διαμορφωμένο χώρο.\n\nΧορήγηση πιστοποιητικού με 18 μόρια (credits)\nΣυνεχιζόμενης ιατρικής εκπαίδευσης (CME-CPD)\n \n\n\n\n\n\n\n\n\n\n \n\n\n\n\n\n\n \tProgram\n\n\n\n
URL:https://tmg.gr/en/event/11o-panellinio-sinedrio-institoutou-meletis-erevnas-ekpedefsis-gia-to-sakcharodi-diaviti-ta-metavolika-nosimata-2/
LOCATION:Δωδώνης 33\, Ιωάννινα\, 452 21\, Ελλάδα
ATTACH;FMTTYPE=image/jpeg:https://tmg.gr/en/wp-content/uploads/2021/02/11thDIAVITIS-QRP_Page_1.jpeg
END:VEVENT
BEGIN:VEVENT
DTSTART;VALUE=DATE:20210625
DTEND;VALUE=DATE:20210627
DTSTAMP:20260425T112056
CREATED:20210203
LAST-MODIFIED:20210709
UID:15779-1624579200-1624838399@tmg.gr
SUMMARY:8o Συνέδριο - Αττικές Δερματολογικές Ημέρες
DESCRIPTION:  Στο 8o Συνέδριο - Αττικές Δερματολογικές Ημέρες \, κύριο μέλημά μας είναι η απαρέγκλιτη τήρηση όλων των κανόνων υγιεινής και η λήψη μέτρων για την διασφάλιση της υγείας τόσο των εργαζομένων στους συνεδριακούς χώρους\, των συναδέλφων μας\, όσο και της δημόσιας υγείας γενικότερα. Σας ενημερώνουμε ότι έχουν παρθεί όλα τα προληπτικά μέτρα ασφαλείας μη μετάδοσης του COVID-19 που έχουμε λάβει μέχρι σήμερα από την Πολιτεία\, λαμβάνοντας υπόψη τις επίσημες οδηγίες και συστάσεις που έχουν δοθεί από το Υπουργείο Υγείας και τον ΕΟΔΥ.\nOfficial Website: www.add2021.gr\n\n\n\n\n\nVideo Gallery\n\n\n\n\n● Poster\n● Scientific Program\n\n\n \n\n\n\n\n\n\n\n\n\n\n\n\n\n\n \n\nΧαιρετισμός\n\n \n\nΑγαπητοί συνάδελφοι\,\n\nΜε ιδιαίτερη χαρά σας ανακοινώνω την οργάνωση του 8ου Συνεδρίου «Αττικές Δερματολογικές Ημέρες» από το Ελληνικό Κολλέγιο Δερματολογίας-Αφροδισιολογίας\, που θα πραγματοποιηθεί με υβριδικό τρόπο στην Αθήνα\, στις 25-27 Ιουνίου 2021.\n\nΟι «Αττικές Δερματολογικές Ημέρες» οργανώθηκαν για πρώτη φορά το 2005 από τον τότε Διευθυντή της Β’ Κλινικής Δερματικών και Αφροδισίων Νόσων\, Καθηγητή κ. Ν. Σταυριανέα\, λίγο μετά την ίδρυση της νέας Πανεπιστημιακής Κλινικής και την εγκατάσταση της στο Π.Γ.Ν. «Αττικόν» το 2003\, ως η κεντρική ετήσια επιστημονική εκδήλωση της Κλινικής\, δημιουργώντας έναν εξαιρετικά επιτυχημένο θεσμό που έτυχε ευρείας θετικής αναγνώρισης και αποδοχής.\n\nΣυνεχίζοντας με το ίδιο πνεύμα και ενθουσιασμό\, φιλοδοξούμε να οργανώσουμε ένα συνέδριο με διεθνή συμμετοχή\, που να προβάλλει και να προάγει τον ρόλο της Ακαδημαϊκής Δερματολογίας-Αφροδισιολογίας  μέσα στον χώρο της Εσωτερικής Παθολογίας και της Ιατρικής γενικότερα και στο πλαίσιο του Γενικού Πανεπιστημιακού Νοσοκομείου.\n\nΑνυπομονούμε να σας καλωσορίσουμε στις 8ες « Αττικές Δερματολογικές Ημέρες».\n\n \n\nΟ Πρόεδρος της Οργανωτικής Επιτροπής\n\n \n\nΑλέξανδρος Κ. Κατούλης\n\nΚαθηγητής Δερματολογίας-Αφροδισιολογίας
URL:https://tmg.gr/en/event/8o-sinedrio-attikes-dermatologikes-imeres/
LOCATION:Vassileos Alexandrou 2\, Athens\, Athens\, 16121\, Greece
ATTACH;FMTTYPE=image/jpeg:https://tmg.gr/en/wp-content/uploads/2021/02/8οADD_POSTER_1_R3-020221-final.jpg
END:VEVENT
END:VCALENDAR