BEGIN:VCALENDAR
VERSION:2.0
PRODID:-//The MasterMind Group - Organization of Medical Conferences and Scientific Events - Modern Medical Education | Organizing your success ... - ECPv4.0.4//NONSGML v1.0//EN
CALSCALE:GREGORIAN
METHOD:PUBLISH
X-WR-CALNAME:The MasterMind Group - Organization of Medical Conferences and Scientific Events - Modern Medical Education | Organizing your success ...
X-ORIGINAL-URL:https://tmg.gr/en
X-WR-CALDESC:Events for The MasterMind Group - Organization of Medical Conferences and Scientific Events - Modern Medical Education | Organizing your success ...
BEGIN:VEVENT
DTSTART;VALUE=DATE:20211110
DTEND;VALUE=DATE:20211113
DTSTAMP:20260425T042715
CREATED:20210830
LAST-MODIFIED:20220104
UID:16068-1636502400-1636847999@tmg.gr
SUMMARY:13th Global Forum on Humanitarian Medicine in Cardiology and Cardiac Surgery & 4th Euro-Asian Symposium of Paediatric Cardiology and Cardiac Surgery
DESCRIPTION:The Conference will be held Online\n\n \n\n \n\n\n\n\n\n\n\n\nVideo Gallery\n\n\n\n \n\n\n\n \n\n● Poster\n\n● Program\n\n \n\n\n\n\n\n\n\n\n\n\n
URL:https://tmg.gr/en/event/13th-global-forum-on-humanitarian-medicine-in-cardiology-and-cardiac-surgery-4th-euro-asian-symposium-of-paediatric-cardiology-and-cardiac-surgery/
LOCATION:Greece
ATTACH;FMTTYPE=application/pdf:https://tmg.gr/en/wp-content/uploads/2021/08/13GFHM-Poster.pdf
ORGANIZER;CN="The%20MasterMind%20Group":MAILTO:info@tmg.gr
END:VEVENT
BEGIN:VEVENT
DTSTART;VALUE=DATE:20211112
DTEND;VALUE=DATE:20211114
DTSTAMP:20260425T042715
CREATED:20210323
LAST-MODIFIED:20211115
UID:15895-1636675200-1636934399@tmg.gr
SUMMARY:7o Πανελλήνιο Συνέδριο Επεμβατικής Καρδιολογίας - cardioact - 2021
DESCRIPTION:Θα θέλαμε να σας ενημερώσουμε ότι στα πλαίσια διεξαγωγής της 7η Διημερίδα Επεμβατικής Καρδιολογίας Cardioact 2021\, κύριο μέλημά μας είναι η απαρέγκλιτη τήρηση όλων των κανόνων υγιεινής και η λήψη μέτρων για την διασφάλιση της υγείας τόσο των εργαζομένων στους συνεδριακούς χώρους\, των συναδέλφων μας\, όσο και της δημόσιας υγείας.\nΣας ενημερώνουμε ότι έχουν ληφθεί όλα τα προληπτικά μέτρα ασφαλείας μη μετάδοσης της COVID-19 που έχουν ανακοινωθεί μέχρι σήμερα ως επίσημες οδηγίες και συστάσεις από το Υπουργείο Υγείας και τον ΕΟΔΥ.\n\n\nΜΕΤΡΑ ΠΡΟΣΤΑΣΙΑΣ ΥΒΡΙΔΙΚΩΝ ΕΠΙΣΤΗΜΟΝΙΚΩΝ\, ΕΠΑΓΓΕΛΜΑΤΙΚΩΝ & ΛΟΙΠΩΝ ΣΥΝΕΔΡΙΩΝ\n\n• Η είσοδος επιτρέπεται αποκλειστικά και μόνο σε όσους επιδεικνύουν:\nα) πιστοποιητικό εμβολιασμού\, β) πιστοποιητικό νόσησης\n• Οι επισκέπτες προσέρχονται μόνο κατόπιν ηλεκτρονικής προεγγραφής.\n• Υποχρεωτική η χρήση μάσκας για όλους ανεξαιρέτως καθ΄ όλη τη διάρκεια παραμονής τους στους στεγασμένους χώρους του εκθεσιακού κέντρου / ξενοδοχείου.\n• Τήρηση απόστασης ενάμιση (1\,5) μέτρου σε όλους τους χώρους του συνεδρίου.\n\n\n\n\n\n\n\n\n\n\n\n \n\n● Program\n\n \n\n\n\n\n\n\n\n
URL:https://tmg.gr/en/event/7i-diimerida-epemvatikis-kardiologias-cardioact-2021/
LOCATION:Λεωφ. Βασιλίσσης Σοφίας 72\, Αθήνα\, 115 28
ATTACH;FMTTYPE=application/pdf:https://tmg.gr/en/wp-content/uploads/2021/03/7INT_POSTER.pdf
ORGANIZER;CN="The%20MasterMind%20Group":MAILTO:info@tmg.gr
END:VEVENT
BEGIN:VEVENT
DTSTART;VALUE=DATE:20211113
DTEND;VALUE=DATE:20211113
DTSTAMP:20260425T042715
CREATED:20210311
LAST-MODIFIED:20211115
UID:15876-1636761600-1636847999@tmg.gr
SUMMARY:6η Εκπαιδευτική Ημερίδα: ΟΜΑΔΕΣ ΚΑΡΔΙΑΣ & ΑΟΡΤΗΣ. ΠΑΡΟΝ ΚΑΙ ΜΕΛΛΟΝ
DESCRIPTION:Στην 6η Εκπαιδευτική Ημερίδα: ΟΜΑΔΕΣ ΚΑΡΔΙΑΣ & ΑΟΡΤΗΣ. ΠΑΡΟΝ ΚΑΙ ΜΕΛΛΟΝ\, κύριο μέλημά μας είναι η απαρέγκλιτη τήρηση όλων των κανόνων υγιεινής και η λήψη μέτρων για την διασφάλιση της υγείας τόσο των εργαζομένων στους συνεδριακούς χώρους\, των συναδέλφων μας\, όσο και της δημόσιας υγείας γενικότερα. Σας ενημερώνουμε ότι έχουν παρθεί όλα τα προληπτικά μέτρα ασφαλείας μη μετάδοσης του COVID-19 που έχουμε λάβει μέχρι σήμερα από την Πολιτεία\, λαμβάνοντας υπόψη τις επίσημες οδηγίες και συστάσεις που έχουν δοθεί από το Υπουργείο Υγείας και τον ΕΟΔΥ.\n \n\n\n\n\n\n\n\n\n\n\n ● Poster\n\n \n\nΗ Εγγραφή στην Ημερίδα είναι ΔΩΡΕΑΝ\nXoρήγηση πιστοποιητικού παρακολούθησης με μόρια (credits) Συνεχιζόμενης Ιατρικής Εκπαίδευσης (CME - CPD)\n\n\n\n\n\n\n\n\n\n\n\n\n\n \n\nΧαιρετισμός\n\n \n\nΤο Mediterraneo Hospital και η Εταιρεία Μελέτης Καρδιαγγειακών Παθήσεων διοργανώνουν την 6η κατά σειρά Εκπαιδευτική Ημερίδα:\n«Ομάδες Καρδιάς & Αορτής. Παρόν και Μέλλον»\nΗ ημερίδα θα πραγματοποιηθεί στις 13 Νοεμβρίου 2021\, στην Αθήνα\, στην Αμερικανική Σχολή Κλασικών Σπουδών (αμφιθέατρο «The Cotsen Hall») και με τις παρούσες συνθήκες θα γίνει με υβριδικό τρόπο συμμετοχής.\n\nΚαι η φετινή διαδραστική ημερίδα θα διατηρήσει σαν κύρια δομή τις παρουσιάσεις πολύπλοκων περιστατικών ασθενών με στεφανιαία νόσο\, καρδιακή ανεπάρκεια\, βαλβιδοπάθειες\, απεικονιστικά διλήμματα\, σύμπλοκα αγγειακά προβλήματα\, διαταραχές της πνευμονικής κυκλοφορίας και συγγενείς καρδιακές παθήσεις. Οι παρουσιάσεις θα συνοδεύονται από ερωτήσεις-απαντήσεις\, σχόλια και συμβουλές (tips and tricks).\n\nΗ πολύτιμη παρουσία των συναδέλφων\, που θα συνεισφέρουν τους δύσκολους κλινικούς τους προβληματισμούς\, αποτελεί ιδιαίτερη τιμή για όλους μας και τους ευχαριστούμε θερμά. Με την βεβαιότητα ότι η ενεργός συμμετοχή σας αποτελεί την καλύτερη εγγύηση για την επιτυχία της Ημερίδας μας\, θα χαρούμε να σας καλωσορίσουμε και να γνωρίσουμε μαζί τις νεότερες εξελίξεις στο χώρο της Καρδιολογίας/Καρδιοχειρουργικής.\n\nΜε εκτίμηση\,\n\nΟργανωτική και Επιστημονική Επιτροπή
URL:https://tmg.gr/en/event/6i-ekpedeftiki-imerida-omades-kardias-aortis-paron-ke-mellon/
LOCATION:Αθήνα
ATTACH;FMTTYPE=application/pdf:https://tmg.gr/en/wp-content/uploads/2021/03/MedHeartAorta-QRP-1.pdf
ORGANIZER;CN="The%20MasterMind%20Group":MAILTO:info@tmg.gr
END:VEVENT
END:VCALENDAR