BEGIN:VCALENDAR
VERSION:2.0
PRODID:-//The MasterMind Group - Organization of Medical Conferences and Scientific Events - Modern Medical Education | Organizing your success ... - ECPv4.0.4//NONSGML v1.0//EN
CALSCALE:GREGORIAN
METHOD:PUBLISH
X-WR-CALNAME:The MasterMind Group - Organization of Medical Conferences and Scientific Events - Modern Medical Education | Organizing your success ...
X-ORIGINAL-URL:https://tmg.gr/en
X-WR-CALDESC:Events for The MasterMind Group - Organization of Medical Conferences and Scientific Events - Modern Medical Education | Organizing your success ...
BEGIN:VEVENT
DTSTART;VALUE=DATE:20211119
DTEND;VALUE=DATE:20211120
DTSTAMP:20260425T042714
CREATED:20210316
LAST-MODIFIED:20211122
UID:15885-1637280000-1637452799@tmg.gr
SUMMARY:4th Congress_Structural Heart & Valvular Diseases
DESCRIPTION:  Στο 4o ΣΥΝΕΔΡΙΟ ΔΟΜΙΚΩΝ ΠΑΘΗΣΕΩΝ ΚΑΡΔΙΑΣ ΚΑΙ ΒΑΛΒΙΔΟΠΑΘΕΙΩΝ\, κύριο μέλημά μας είναι η απαρέγκλιτη τήρηση όλων των κανόνων υγιεινής και η λήψη μέτρων για την διασφάλιση της υγείας τόσο των εργαζομένων στους συνεδριακούς χώρους\, των συναδέλφων μας\, όσο και της δημόσιας υγείας γενικότερα.\nΣας ενημερώνουμε ότι έχουν παρθεί όλα τα προληπτικά μέτρα ασφαλείας μη μετάδοσης του COVID-19 που έχουμε λάβει μέχρι σήμερα από την Πολιτεία\, λαμβάνοντας υπόψη τις επίσημες οδηγίες και συστάσεις που έχουν δοθεί από το Υπουργείο Υγείας και τον ΕΟΔΥ.\n \n\n\n\n\n\n\n\n\n \n\n \tProgram\n\n \n\n \n\n \n\n 
URL:https://tmg.gr/en/event/4th-congress_structural-heart-valvular-diseases/
LOCATION:Vassileos Alexandrou 2\, Athens\, Athens\, 16121\, Greece
ATTACH;FMTTYPE=application/pdf:https://tmg.gr/en/wp-content/uploads/2021/03/4th_SHVD_Poster-3.pdf
ORGANIZER;CN="The%20MasterMind%20Group":MAILTO:info@tmg.gr
END:VEVENT
END:VCALENDAR