BEGIN:VCALENDAR
VERSION:2.0
PRODID:-//The MasterMind Group - Organization of Medical Conferences and Scientific Events - Modern Medical Education | Organizing your success ... - ECPv4.0.4//NONSGML v1.0//EN
CALSCALE:GREGORIAN
METHOD:PUBLISH
X-WR-CALNAME:The MasterMind Group - Organization of Medical Conferences and Scientific Events - Modern Medical Education | Organizing your success ...
X-ORIGINAL-URL:https://tmg.gr/en
X-WR-CALDESC:Events for The MasterMind Group - Organization of Medical Conferences and Scientific Events - Modern Medical Education | Organizing your success ...
BEGIN:VEVENT
DTSTART;VALUE=DATE:20211209
DTEND;VALUE=DATE:20211211
DTSTAMP:20260425T030236
CREATED:20211102
LAST-MODIFIED:20211213
UID:16132-1639008000-1639267199@tmg.gr
SUMMARY:5ο Forum - Αντιμετώπιση στην καθημερινή κλινική πράξη του Διαβητικού Ασθενή σε περίοδο κρίσης
DESCRIPTION:ANNOUNCEMENT:\nThe conference will be held online.\n\n\n\n\n\n\n\n\n \n\n \tProgram\n\n\n\n\n\n\n\n\n\n\n\n\n \n\n \n\n 
URL:https://tmg.gr/en/event/panellinio-sinedrio-antimetopisi-stin-kathimerini-kliniki-praxi-tou-diavitikou-astheni-se-periodo-krisis/
LOCATION:Greece
ATTACH;FMTTYPE=application/pdf:https://tmg.gr/en/wp-content/uploads/2021/11/FDCR_Poster.pdf
ORGANIZER;CN="The%20MasterMind%20Group":MAILTO:info@tmg.gr
END:VEVENT
BEGIN:VEVENT
DTSTART;VALUE=DATE:20211210
DTEND;VALUE=DATE:20211211
DTSTAMP:20260425T030236
CREATED:20211027
LAST-MODIFIED:20211213
UID:16128-1639094400-1639267199@tmg.gr
SUMMARY:1η Συνάντηση με τους Ειδικούς: “H καθημερινότητα συναντά την καρδιολογία”
DESCRIPTION:  Στην 1η Συνάντηση με τους Ειδικούς: “H καθημερινότητα συναντά την καρδιολογία”\, κύριο μέλημά μας είναι η απαρέγκλιτη τήρηση όλων των κανόνων υγιεινής και η λήψη μέτρων για την διασφάλιση της υγείας τόσο των εργαζομένων στους συνεδριακούς χώρους\, των συναδέλφων μας\, όσο και της δημόσιας υγείας. Σας ενημερώνουμε ότι έχουν ληφθεί όλα τα προληπτικά μέτρα ασφαλείας μη μετάδοσης της COVID-19 που έχουν ανακοινωθεί μέχρι σήμερα ως επίσημες οδηγίες και συστάσεις από το Υπουργείο Υγείας και τον ΕΟΔΥ.\n\n\nΜΕΤΡΑ ΠΡΟΣΤΑΣΙΑΣ ΥΒΡΙΔΙΚΩΝ ΕΠΙΣΤΗΜΟΝΙΚΩΝ\, ΕΠΑΓΓΕΛΜΑΤΙΚΩΝ & ΛΟΙΠΩΝ ΣΥΝΕΔΡΙΩΝ\n\n• Η είσοδος επιτρέπεται αποκλειστικά και μόνο σε όσους επιδεικνύουν:\nα) πιστοποιητικό εμβολιασμού\, β) πιστοποιητικό νόσησης\n• Οι επισκέπτες προσέρχονται μόνο κατόπιν ηλεκτρονικής προεγγραφής.\n• Υποχρεωτική η χρήση μάσκας για όλους ανεξαιρέτως καθ΄ όλη τη διάρκεια παραμονής τους στους στεγασμένους χώρους του εκθεσιακού κέντρου / ξενοδοχείου.\n• Τήρηση απόστασης ενάμιση (1\,5) μέτρου σε όλους τους χώρους του συνεδρίου.\n\n\n\n\n\n\n\n\n\n\n\n\n\n\n\n \n\n \tPoster\n \t\n\n 
URL:https://tmg.gr/en/event/1-synantisi-kathimerinotita-kardiologia/
LOCATION:Vassileos Alexandrou 2\, Athens\, Athens\, 16121\, Greece
ATTACH;FMTTYPE=application/pdf:https://tmg.gr/en/wp-content/uploads/2021/10/1SME_CARDIO-QRP-1.pdf
ORGANIZER;CN="The%20MasterMind%20Group":MAILTO:info@tmg.gr
END:VEVENT
END:VCALENDAR