BEGIN:VCALENDAR
VERSION:2.0
PRODID:-//The MasterMind Group - Organization of Medical Conferences and Scientific Events - Modern Medical Education | Organizing your success ... - ECPv4.0.4//NONSGML v1.0//EN
CALSCALE:GREGORIAN
METHOD:PUBLISH
X-WR-CALNAME:The MasterMind Group - Organization of Medical Conferences and Scientific Events - Modern Medical Education | Organizing your success ...
X-ORIGINAL-URL:https://tmg.gr/en
X-WR-CALDESC:Events for The MasterMind Group - Organization of Medical Conferences and Scientific Events - Modern Medical Education | Organizing your success ...
BEGIN:VEVENT
DTSTART;VALUE=DATE:20220210
DTEND;VALUE=DATE:20220210
DTSTAMP:20260425T000230
CREATED:20220110
LAST-MODIFIED:20220211
UID:16165-1644451200-1644537599@tmg.gr
SUMMARY:2o Webinar - Καρδιογυναικολογικές  συζητήσεις της Πέμπτης
DESCRIPTION: \n\n\n\n\n\n\n\n\n\n\n \n\n \tProgram\n\n\n\n\n\n\n\n\n\n\n\n\n\n\n
URL:https://tmg.gr/en/event/2o-webinar-kardioginekologikes-sizitisis-tis-pemptis/
LOCATION:Greece
ATTACH;FMTTYPE=image/png:https://tmg.gr/en/wp-content/uploads/2022/01/CGThursdays_Webinar2_QRP_Page_1.png
ORGANIZER;CN="The%20MasterMind%20Group":MAILTO:info@tmg.gr
END:VEVENT
BEGIN:VEVENT
DTSTART;VALUE=DATE:20220210
DTEND;VALUE=DATE:20220210
DTSTAMP:20260425T000230
CREATED:20220110
LAST-MODIFIED:20220211
UID:16173-1644451200-1644537599@tmg.gr
SUMMARY:Webinar - The Bright Side of the Moon
DESCRIPTION: \n\n\n\n\n\n\n\n\n\n\n \n\n 
URL:https://tmg.gr/en/event/webinar-the-bright-side-of-the-moon/
LOCATION:Greece
ATTACH;FMTTYPE=image/jpeg:https://tmg.gr/en/wp-content/uploads/2022/01/WB_BRIGHTSIDE_1920x1080-01.jpg
ORGANIZER;CN="The%20MasterMind%20Group":MAILTO:info@tmg.gr
END:VEVENT
END:VCALENDAR