BEGIN:VCALENDAR
VERSION:2.0
PRODID:-//The MasterMind Group - Organization of Medical Conferences and Scientific Events - Modern Medical Education | Organizing your success ... - ECPv4.0.4//NONSGML v1.0//EN
CALSCALE:GREGORIAN
METHOD:PUBLISH
X-WR-CALNAME:The MasterMind Group - Organization of Medical Conferences and Scientific Events - Modern Medical Education | Organizing your success ...
X-ORIGINAL-URL:https://tmg.gr/en
X-WR-CALDESC:Events for The MasterMind Group - Organization of Medical Conferences and Scientific Events - Modern Medical Education | Organizing your success ...
BEGIN:VEVENT
DTSTART;VALUE=DATE:20220215
DTEND;VALUE=DATE:20220215
DTSTAMP:20260425T000847
CREATED:20220110
LAST-MODIFIED:20220110
UID:16175-1644883200-1644969599@tmg.gr
SUMMARY:WEBINAR «Τελευταίες Εξελίξεις στη νόσο COVID-19»
DESCRIPTION:\n\n\n\nRegistration Form\nLive Streaming\n\n\n\n \n\n \n\n\n\n\n\n\n\n\n\n\n\n\n\n\n 
URL:https://tmg.gr/en/event/webinar-teleftees-exelixis-sti-noso-covid-19/
LOCATION:Greece
ATTACH;FMTTYPE=application/pdf:https://tmg.gr/en/wp-content/uploads/2022/01/Webinar_Covid19_2022-QRP-1.pdf
ORGANIZER;CN="The%20MasterMind%20Group":MAILTO:info@tmg.gr
END:VEVENT
END:VCALENDAR