BEGIN:VCALENDAR
VERSION:2.0
PRODID:-//The MasterMind Group - Organization of Medical Conferences and Scientific Events - Modern Medical Education | Organizing your success ... - ECPv4.0.4//NONSGML v1.0//EN
CALSCALE:GREGORIAN
METHOD:PUBLISH
X-WR-CALNAME:The MasterMind Group - Organization of Medical Conferences and Scientific Events - Modern Medical Education | Organizing your success ...
X-ORIGINAL-URL:https://tmg.gr/en
X-WR-CALDESC:Events for The MasterMind Group - Organization of Medical Conferences and Scientific Events - Modern Medical Education | Organizing your success ...
BEGIN:VEVENT
DTSTART;VALUE=DATE:20220505
DTEND;VALUE=DATE:20220508
DTSTAMP:20260424T201309
CREATED:20220321
LAST-MODIFIED:20220321
UID:16241-1651708800-1652054399@tmg.gr
SUMMARY:12ο Πανελλήνιο Συνέδριο: Σακχαρώδης Διαβήτης\, Συννοσηρότητες\, Μεταβολικά Νοσήματα στην εποχή της πανδημίας Covid-19
DESCRIPTION:\n\n  Στο 12ο Πανελλήνιο Συνέδριο: Σακχαρώδης Διαβήτης\, Συννοσηρότητες\, Μεταβολικά Νοσήματα στην εποχή της πανδημίας Covid-19 κύριο μέλημά μας είναι η απαρέγκλιτη τήρηση όλων των κανόνων υγιεινής και η λήψη μέτρων για την διασφάλιση της υγείας τόσο των εργαζομένων στους συνεδριακούς χώρους\, των συναδέλφων μας\, όσο και της δημόσιας υγείας γενικότερα.Σας ενημερώνουμε ότι έχουν παρθεί όλα τα προληπτικά μέτρα ασφαλείας μη μετάδοσης του COVID-19 που έχουμε λάβει μέχρι σήμερα από την Πολιτεία\, λαμβάνοντας υπόψη τις επίσημες οδηγίες και συστάσεις που έχουν δοθεί από το Υπουργείο Υγείας και τον ΕΟΔΥ.\n\n\n\n\nΜΕΤΡΑ ΠΡΟΣΤΑΣΙΑΣ ΥΒΡΙΔΙΚΩΝ ΕΠΙΣΤΗΜΟΝΙΚΩΝ\, ΕΠΑΓΓΕΛΜΑΤΙΚΩΝ & ΛΟΙΠΩΝ ΣΥΝΕΔΡΙΩΝ\n\n• Η είσοδος επιτρέπεται αποκλειστικά και μόνο σε όσους επιδεικνύουν α) πιστοποιητικό εμβολιασμού\, β) πιστοποιητικό νόσησης\n• Οι επισκέπτες προσέρχονται μόνο κατόπιν ηλεκτρονικής προεγγραφής.\n• Υποχρεωτική η χρήση μάσκας για όλους ανεξαιρέτως καθ΄ όλη τη διάρκεια παραμονής τους στους στεγασμένους χώρους του εκθεσιακού κέντρου / ξενοδοχείου.\n• Τήρηση απόστασης ενάμιση (1\,5) μέτρου σε όλους τους χώρους του συνεδρίου.\n\n\n\n\n\n\nRegistration Form\nAbstract Submission Form\nLive Streaming\n\n\n\n\n \n\n\n\n\n\n \n\n\n\n 
URL:https://tmg.gr/en/event/12o-panellinio-sinedrio-sakcharodis-diavitis-sinnosirotites-metavolika-nosimata-stin-epochi-tis-pandimias-covid-19/
LOCATION:Δωδώνης 33\, Ιωάννινα\, 452 21\, Ελλάδα
ATTACH;FMTTYPE=application/pdf:https://tmg.gr/en/wp-content/uploads/2022/03/12thDIAVITIS-QRP.pdf
END:VEVENT
END:VCALENDAR