BEGIN:VCALENDAR
VERSION:2.0
PRODID:-//The MasterMind Group - Οργάνωση Ιατρικών συνεδρίων και επιστημονικών εκδηλώσεων - Σύγχρονη Ιατρική Εκπαίδευση | Organizing your success... - ECPv4.0.4//NONSGML v1.0//EN
CALSCALE:GREGORIAN
METHOD:PUBLISH
X-WR-CALNAME:The MasterMind Group - Οργάνωση Ιατρικών συνεδρίων και επιστημονικών εκδηλώσεων - Σύγχρονη Ιατρική Εκπαίδευση | Organizing your success...
X-ORIGINAL-URL:https://tmg.gr
X-WR-CALDESC:Events for The MasterMind Group - Οργάνωση Ιατρικών συνεδρίων και επιστημονικών εκδηλώσεων - Σύγχρονη Ιατρική Εκπαίδευση | Organizing your success...
BEGIN:VEVENT
DTSTART;VALUE=DATE:20170616
DTEND;VALUE=DATE:20170618
DTSTAMP:20260420T210912
CREATED:20170309
LAST-MODIFIED:20170615
UID:13389-1497571200-1497830399@tmg.gr
SUMMARY:13ο ΕΤΗΣΙΟ ΣΥΝΕΔΡΙΟ ΕΛΛΗΝΙΚΟΥ ΚΟΛΛΕΓΙΟΥ ΚΑΡΔΙΟΛΟΓΙΑΣ
DESCRIPTION:Θα χορηγηθούν 13 Μόρια Συνεχιζόμενης\nΙατρικής Εκπαίδευσης (CME Credits)\n\n\n\n\n\n    \n\n\n\n\nΗ εγγραφή στο συνέδριο μέσω ηλεκτρονικής υποβολής (on-line registration) έχει ολοκληρωθεί.\nΟι εγγραφές μπορούν να πραγματοποιηθούν\, πλέον\, μόνο επιτόπου στη Γραμματεία του Συνεδρίου.\n● Τελικό Πρόγραμμα\n● Μέσα Προβολής\nΧαιρετισμός Προέδρου\nΑγαπητοί/ες συνάδελφοι\,\nΜε ιδιαίτερη χαρά σας προσκαλώ στο 13ο κατά σειρά Ετήσιο Συνέδριο του Ελληνικού Κολλεγίου Καρδιολογίας\, το οποίο θα διεξαχθεί στην Αθήνα\, στο ξενοδοχείο Αμαλία\, από 16 έως 18 Ιουνίου 2017.\n\nΤα επιτεύγματα των τελευταίων ετών στην Καρδιολογία είναι πολλά και οι περαιτέρω προκλήσεις ακόμη μεγαλύτερες. Το Ελληνικό Κολλέγιο Καρδιολογίας\, πιστό στον ιδρυτικό και καταστατικό του ρόλο\, καταβάλλει και θα εξακολουθήσει να καταβάλλει κάθε προσπάθεια προκειμένου να μεταλαμπαδεύσει τις νέες γνώσεις στον Έλληνα καρδιολόγο\, τόσο τον ειδικευμένο όσο και τον ειδικευόμενο.\n\nΤο πρόγραμμα του Συνεδρίου και φέτος θα είναι καινοτόμο\, με εισηγήσεις επάνω σε επίκαιρα καρδιολογικά θέματα (Αρρυθμίες\, Καρδιαγγειακή Απεικόνιση\, Βαλβιδοπάθειες\, Επεμβατική Καρδιολογία\, Προληπτική Καρδιολογία\, Καρδιακή Ανεπάρκεια & Αιφνίδιος Θάνατος) και θα ολοκληρωθεί με ανάλυση δύσκολων Κλινικών Περιστατικών.\n\nΜε αυτές τις σκέψεις και με τη βεβαιότητα ότι η παρουσία σας και η συμμετοχή σας αποτελούν την καλύτερη εγγύηση για την επιτυχία του Συνεδρίου\, σας περιμένουμε για ένα εποικοδομητικό εκπαιδευτικό τριήμερο.\n\nΜε συναδελφικούς χαιρετισμούς\,\n\nΧαράλαμπος Καρβούνης\nΚαθηγητής Καρδιολογίας Α.Π.Θ.\nΠρόεδρος Ελληνικού Κολλεγίου Καρδιολογίας
URL:https://tmg.gr/event/13o-etisio-sinedrio-ellinikou-kollegiou-kardiologias/
LOCATION:Λεωφ. Βασιλίσσης Αμαλίας 10\, Αθήνα\, Αττικής\, 105 57\, Ελλάδα
ATTACH;FMTTYPE=application/pdf:https://tmg.gr/wp-content/uploads/2017/06/13-Annual-Cardiological-Congress_FProg_pd9-6-17.pdf
END:VEVENT
END:VCALENDAR