BEGIN:VCALENDAR
VERSION:2.0
PRODID:-//The MasterMind Group - Οργάνωση Ιατρικών συνεδρίων και επιστημονικών εκδηλώσεων - Σύγχρονη Ιατρική Εκπαίδευση | Organizing your success... - ECPv4.0.4//NONSGML v1.0//EN
CALSCALE:GREGORIAN
METHOD:PUBLISH
X-WR-CALNAME:The MasterMind Group - Οργάνωση Ιατρικών συνεδρίων και επιστημονικών εκδηλώσεων - Σύγχρονη Ιατρική Εκπαίδευση | Organizing your success...
X-ORIGINAL-URL:https://tmg.gr
X-WR-CALDESC:Events for The MasterMind Group - Οργάνωση Ιατρικών συνεδρίων και επιστημονικών εκδηλώσεων - Σύγχρονη Ιατρική Εκπαίδευση | Organizing your success...
BEGIN:VEVENT
DTSTART;VALUE=DATE:20210528
DTEND;VALUE=DATE:20210529
DTSTAMP:20260424T133549
CREATED:20210208
LAST-MODIFIED:20210531
UID:19010-1622160000-1622332799@tmg.gr
SUMMARY:2η Επιστημονική Διημερίδα της Καρδιολογικής & Αγγειοχειρουργικής Κλινικής\, ΓΝΑ ΚΑΤ\, 2021
DESCRIPTION:Στην 2η Επιστημονική Διημερίδα της Καρδιολογικής & Αγγειοχειρουργικής Κλινικής\, ΓΝΑ ΚΑΤ\, 2021\, κύριο μέλημά μας είναι η απαρέγκλιτη τήρηση όλων των κανόνων υγιεινής και η λήψη μέτρων για την διασφάλιση της υγείας τόσο των εργαζομένων στους συνεδριακούς χώρους\, των συναδέλφων μας\, όσο και της δημόσιας υγείας γενικότερα.\nΣας ενημερώνουμε ότι έχουν παρθεί όλα τα προληπτικά μέτρα ασφαλείας μη μετάδοσης του COVID-19 που έχουμε λάβει μέχρι σήμερα από την Πολιτεία\, λαμβάνοντας υπόψη τις επίσημες οδηγίες και συστάσεις που έχουν δοθεί από το Υπουργείο Υγείας και τον ΕΟΔΥ.\n \n\n\n\n\n\n\n\n\n\n\n\n● Πρόγραμμα\n\n\n\n\n\n\n\n\n\n\n\n
URL:https://tmg.gr/event/3i-epistimoniki-diimerida-tis-kardiologikis-angiochirourgikis-klinikis-gna-kat-2020/
LOCATION:Χαρ. Τρικούπη 48\, Κηφισιά\, Αθήνα\, 14562
ATTACH;FMTTYPE=application/pdf:https://tmg.gr/wp-content/uploads/2021/02/KARDIA_AGGEIA_KAT-QRP.pdf
END:VEVENT
END:VCALENDAR