BEGIN:VCALENDAR
VERSION:2.0
PRODID:-//The MasterMind Group - Οργάνωση Ιατρικών συνεδρίων και επιστημονικών εκδηλώσεων - Σύγχρονη Ιατρική Εκπαίδευση | Organizing your success... - ECPv4.0.4//NONSGML v1.0//EN
CALSCALE:GREGORIAN
METHOD:PUBLISH
X-WR-CALNAME:The MasterMind Group - Οργάνωση Ιατρικών συνεδρίων και επιστημονικών εκδηλώσεων - Σύγχρονη Ιατρική Εκπαίδευση | Organizing your success...
X-ORIGINAL-URL:https://tmg.gr
X-WR-CALDESC:Events for The MasterMind Group - Οργάνωση Ιατρικών συνεδρίων και επιστημονικών εκδηλώσεων - Σύγχρονη Ιατρική Εκπαίδευση | Organizing your success...
BEGIN:VEVENT
DTSTART;VALUE=DATE:20220527
DTEND;VALUE=DATE:20220528
DTSTAMP:20260425T041238
CREATED:20220210
LAST-MODIFIED:20220629
UID:20634-1653609600-1653782399@tmg.gr
SUMMARY:3η Επιστημονική Διημερίδα της Καρδιολογικής & Αγγειοχειρουργικής Κλινικής\, ΓΝΑ ΚΑΤ\, 2022
DESCRIPTION:\n\nΜΕΤΡΑ ΠΡΟΣΤΑΣΙΑΣ ΥΒΡΙΔΙΚΩΝ ΕΠΙΣΤΗΜΟΝΙΚΩΝ\, ΕΠΑΓΓΕΛΜΑΤΙΚΩΝ & ΛΟΙΠΩΝ ΣΥΝΕΔΡΙΩΝ\n\n• Η χρήση μάσκας είναι υποχρεωτική για όλους ανεξαιρέτως καθ΄ όλη τη διάρκεια παραμονής τους στους στεγασμένους χώρους του εκθεσιακού κέντρου / ξενοδοχείου.\n\n\n \n\n\n\n\n\n\n\n\n\n\n\n \n\n
URL:https://tmg.gr/event/3i-epistimoniki-diimerida-tis-kardiologikis-angiochirourgikis-klinikis-gna-kat-2022/
LOCATION:Χαρ. Τρικούπη 48\, Κηφισιά\, Αθήνα\, 14562
ATTACH;FMTTYPE=application/pdf:https://tmg.gr/wp-content/uploads/2022/02/KARDIA_AGGEIA_KAT_Poster2022.pdf
END:VEVENT
END:VCALENDAR