BEGIN:VCALENDAR
VERSION:2.0
PRODID:-//The MasterMind Group - Οργάνωση Ιατρικών συνεδρίων και επιστημονικών εκδηλώσεων - Σύγχρονη Ιατρική Εκπαίδευση | Organizing your success... - ECPv4.0.4//NONSGML v1.0//EN
CALSCALE:GREGORIAN
METHOD:PUBLISH
X-WR-CALNAME:The MasterMind Group - Οργάνωση Ιατρικών συνεδρίων και επιστημονικών εκδηλώσεων - Σύγχρονη Ιατρική Εκπαίδευση | Organizing your success...
X-ORIGINAL-URL:https://tmg.gr
X-WR-CALDESC:Events for The MasterMind Group - Οργάνωση Ιατρικών συνεδρίων και επιστημονικών εκδηλώσεων - Σύγχρονη Ιατρική Εκπαίδευση | Organizing your success...
BEGIN:VEVENT
DTSTART;VALUE=DATE:20111217
DTEND;VALUE=DATE:20111217
DTSTAMP:20260420T111228
CREATED:20160601
LAST-MODIFIED:20111216
UID:11975-1324080000-1324166399@tmg.gr
SUMMARY:4ο Εκπαιδευτικό Σεμινάριο Οφθαλμολογίας
DESCRIPTION:4ο Εκπαιδευτικό Σεμινάριο Οφθαλμολογίας\n
URL:https://tmg.gr/event/4o-Ekpaideutiko-Seminario-Ofth-122/
LOCATION:Αθήνα - Θεσσαλονίκη\, Αθήνα - Θεσσαλονίκη\, Ελλάδα
ATTACH;FMTTYPE=image/jpeg:https://tmg.gr/wp-content/uploads/2015/11/EOI_PROG_16-18_12_2011-pdf.jpg
END:VEVENT
END:VCALENDAR