BEGIN:VCALENDAR
VERSION:2.0
PRODID:-//The MasterMind Group - Οργάνωση Ιατρικών συνεδρίων και επιστημονικών εκδηλώσεων - Σύγχρονη Ιατρική Εκπαίδευση | Organizing your success... - ECPv4.0.4//NONSGML v1.0//EN
CALSCALE:GREGORIAN
METHOD:PUBLISH
X-WR-CALNAME:The MasterMind Group - Οργάνωση Ιατρικών συνεδρίων και επιστημονικών εκδηλώσεων - Σύγχρονη Ιατρική Εκπαίδευση | Organizing your success...
X-ORIGINAL-URL:https://tmg.gr
X-WR-CALDESC:Events for The MasterMind Group - Οργάνωση Ιατρικών συνεδρίων και επιστημονικών εκδηλώσεων - Σύγχρονη Ιατρική Εκπαίδευση | Organizing your success...
BEGIN:VEVENT
DTSTART;VALUE=DATE:20190919
DTEND;VALUE=DATE:20190921
DTSTAMP:20260420T083007
CREATED:20190503
LAST-MODIFIED:20190918
UID:15231-1568851200-1569110399@tmg.gr
SUMMARY:7η Πανελλήνια Συνάντηση AIDS & Ηπατίτιδες
DESCRIPTION:Επίσημη ιστοσελίδα: www.aidshep2019.gr\n\n\n\n\n\n\n\nΑΝΑΚΟΙΝΩΣΗ\nΟι εγγραφές πλέον γίνονται μόνο επιτόπου στη Γραμματεία του Συνεδρίου.Η εγγραφή μέσω ηλεκτρονικής υποβολής (on-line registration) έκλεισε. \nΗ προθεσμία για την υποβολή περιλήψεων εργασιών έληξε.\n\n\n\n\nΔωρεάν Εγγραφή\nXoρήγηση πιστοποιητικού με 20 μόρια (credits)\nΣυνεχιζόμενης Ιατρικής Εκπαίδευσης (CME-CPD)\n●  Τελικό Πρόγραμμα\nΧαιρετισμός\nΑγαπητοί Συνάδελφοι\,\nΣε συνέχεια της επιτυχούς διεξαγωγής της 1ης\, 2ης\, 3ης\, 4ης\, 5ης & 6ης Πανελλήνιας Συνάντησης έχω την τιμή και τη χαρά να σας καλωσορίσω στην 7η Πανελλήνια Συνάντηση «AIDS & Ηπατίτιδες»\, η οποία διοργανώνεται\, μεταξύ άλλων\, από την Επιστημονική Εταιρεία Επιδημιολογίας\, Βιοστατιστικής & Προληπτικής Ιατρικής\, την Α΄ Παθολογική Κλινική του Πανεπιστημίου Αθηνών του Γ.Ν.Α. «Λαϊκό»\, την Γαστρεντερολογική Κλινική του Πανεπιστημίου Αθηνών του Γ.Ν.Α. «Λαϊκό»\, την Β΄ Παθολογική Κλινική του Πανεπιστημίου Αθηνών του Γ.Ν.Α. «Ιπποκράτειο»\, την Δ΄ Παθολογική Κλινική του Πανεπιστημίου Αθηνών του Π.Γ.Ν. «Αττικόν»\, την A΄ Κλινική Αφροδισίων & Δερματικών Νόσων του Πανεπιστημίου Αθηνών του Νοσοκομείου «Ανδρέας Συγγρός»\, το Τμήμα Νοσηλευτικής του Πανεπιστημίου Αθηνών\, την Παθολογική Κλινική - Τμήμα Λοιμώξεων του Πανεπιστημίου Πατρών του Γ.Ν. Πάτρας και το Εργαστήριο Υγιεινής\, Επιδημιολογίας & Ιατρικής Στατιστικής του Πανεπιστημίου Αθηνών.\nΗ επιστημονική Συνάντηση\, η οποία πραγματοποιείται από Πέμπτη 19 έως Σάββατο 21 Σεπτεμβρίου 2019\, στην Αθήνα\, στο Ξενοδοχείο Titania\, τελεί υπό την αιγίδα του Δήμου Αθηναίων.\nΣκοπός της 7ης Πανελλήνιας Συνάντησης «AIDS & Ηπατίτιδες» είναι η σφαιρική προσέγγιση του HIV/ AIDS και των ιογενών ηπατιτίδων στη χώρα μας\, αφιερώνοντας χρόνο για τα πραγματικά προβλήματα τα οποία απασχολούν επιστήμονες υγείας\, ασθενείς\, ευάλωτους πληθυσμούς\, αρχές δημόσιας υγείας και κοινό.\nΚατά τη διάρκεια του Συνεδρίου καταξιωμένοι συνάδελφοι θα αναπτύξουν τις πλέον σημαντικές εξελίξεις στην επιδημιολογία\, διάγνωση\, θεραπεία και την ολιστική πρόληψη και αντιμετώπιση των νοσημάτων αυτών. Το πρόγραμμα περιλαμβάνει στρογγυλά τραπέζια\, διαλέξεις\, ειδικές συνεδρίες\, δορυφορικές διαλέξεις και το φοιτητικό βήμα.\nΜε τη βεβαιότητα ότι η παρουσία και η ενεργός συμμετοχή σας αποτελούν την καλύτερη εγγύηση για την επιτυχία της Συνάντησής μας\, σας καλωσορίζουμε στην 7η Πανελλήνια Συνάντηση «AIDS & Ηπατίτιδες».\nΜε συναδελφικούς χαιρετισμούς\,\nΚαθηγητής Άγγελος Χατζάκης\nΠρόεδρος της Οργανωτικής Επιτροπής\nτης 7ης Πανελλήνιας Συνάντησης «AIDS & Ηπατίτιδες»
URL:https://tmg.gr/event/7i-panellinia-sinantisi-aids-ipatitides/
LOCATION:Πανεπιστημίου 52\, Αθήνα\, Αττικής\, 106 78\, Ελλάδα
ATTACH;FMTTYPE=application/pdf:https://tmg.gr/wp-content/uploads/2019/09/AIDSHEP2019_FP_18092019.pdf
END:VEVENT
END:VCALENDAR