BEGIN:VCALENDAR
VERSION:2.0
PRODID:-//The MasterMind Group - Οργάνωση Ιατρικών συνεδρίων και επιστημονικών εκδηλώσεων - Σύγχρονη Ιατρική Εκπαίδευση | Organizing your success... - ECPv4.0.4//NONSGML v1.0//EN
CALSCALE:GREGORIAN
METHOD:PUBLISH
X-WR-CALNAME:The MasterMind Group - Οργάνωση Ιατρικών συνεδρίων και επιστημονικών εκδηλώσεων - Σύγχρονη Ιατρική Εκπαίδευση | Organizing your success...
X-ORIGINAL-URL:https://tmg.gr
X-WR-CALDESC:Events for The MasterMind Group - Οργάνωση Ιατρικών συνεδρίων και επιστημονικών εκδηλώσεων - Σύγχρονη Ιατρική Εκπαίδευση | Organizing your success...
BEGIN:VEVENT
DTSTART;VALUE=DATE:20120211
DTEND;VALUE=DATE:20120211
DTSTAMP:20260420T040040
CREATED:20160601
LAST-MODIFIED:20120210
UID:11940-1328918400-1329004799@tmg.gr
SUMMARY:ΕΚΠΑΙΔΕΥΤΙΚΑ ΣΕΜΙΝΑΡΙΑ ΔΙΑΒΗΤΗ & ΜΕΤΑΒΟΛΙΚΑ ΝΟΣΗΜΑΤΑ
DESCRIPTION:
URL:https://tmg.gr/event/EKPAIDEYTIKA-SEMINARIA-DIABITI-90/
LOCATION:Αθήνα - Θεσσαλονίκη\, Αθήνα - Θεσσαλονίκη\, Ελλάδα
END:VEVENT
END:VCALENDAR