BEGIN:VCALENDAR
VERSION:2.0
PRODID:-//The MasterMind Group - Οργάνωση Ιατρικών συνεδρίων και επιστημονικών εκδηλώσεων - Σύγχρονη Ιατρική Εκπαίδευση | Organizing your success... - ECPv4.0.4//NONSGML v1.0//EN
CALSCALE:GREGORIAN
METHOD:PUBLISH
X-WR-CALNAME:The MasterMind Group - Οργάνωση Ιατρικών συνεδρίων και επιστημονικών εκδηλώσεων - Σύγχρονη Ιατρική Εκπαίδευση | Organizing your success...
X-ORIGINAL-URL:https://tmg.gr
X-WR-CALDESC:Events for The MasterMind Group - Οργάνωση Ιατρικών συνεδρίων και επιστημονικών εκδηλώσεων - Σύγχρονη Ιατρική Εκπαίδευση | Organizing your success...
BEGIN:VEVENT
DTSTART;VALUE=DATE:20210702
DTEND;VALUE=DATE:20210703
DTSTAMP:20260424T031558
CREATED:20210311
LAST-MODIFIED:20210705
UID:19211-1625184000-1625356799@tmg.gr
SUMMARY:CardioAthena 2021 - Συνέδριο Καρδιαγγειακής Ιατρικής
DESCRIPTION:  Στο CardioAthena 2021 - Συνέδριο Καρδιαγγειακής Ιατρικής\, κύριο μέλημά μας είναι η απαρέγκλιτη τήρηση όλων των κανόνων υγιεινής και η λήψη μέτρων για την διασφάλιση της υγείας τόσο των εργαζομένων στους συνεδριακούς χώρους\, των συναδέλφων μας\, όσο και της δημόσιας υγείας γενικότερα. Σας ενημερώνουμε ότι έχουν παρθεί όλα τα προληπτικά μέτρα ασφαλείας μη μετάδοσης του COVID-19 που έχουμε λάβει μέχρι σήμερα από την Πολιτεία\, λαμβάνοντας υπόψη τις επίσημες οδηγίες και συστάσεις που έχουν δοθεί από το Υπουργείο Υγείας και τον ΕΟΔΥ.\nΘα θέλαμε να σας ενημερώσουμε ότι για την Φυσική σας παρουσία στo Συνέδριο Cardio Athena 2021\, αρκεί η επίδειξη πιστοποιητικού εμβολιασμού (αν είσαστε εμβολιασμένοι)\, ή η επίδειξη βεβαίωσης αρνητικού PCR test ή rapid test (εγκεκριμένα αντιγονικά test). Οι διοργανωτές του Συνεδρίου έχουν φροντίσει να υπάρχει η δυνατότητα πραγματοποίησης self test (εγκεκριμένα αντιγονικά test) κατά την άφιξη σας στο ξενοδοχείο\, σε ειδικά διαμορφωμένο χώρο.\nΕπίσημη Ιστοσελίδα: www.cardioathena2021.gr\n\n\n\n\n\n\n\n\n\n\n\n \n● Πρόγραμμα \n \n\n \n\nXαιρετισμός\n\n \n\nΑγαπητοί συνάδελφοι\,\n\nΣας καλωσορίζουμε στο 17ο Συνέδριο Καρδιαγγειακής Ιατρικής CARDIO ATHENA 2021\, που διοργανώνει η Α΄ Καρδιολογική Κλινική & το Ομώνυμο Εργαστήριο του Πανεπιστημίου Αθηνών στις 2 και 3 Ιουλίου 2021\,\nυπό την αιγίδα της Ιατρικής Σχολής του Πανεπιστημίου Αθηνών και της Ελληνικής Καρδιολογικής Εταιρείας.\n\nΔεδομένων των πρωτόγνωρων συνθηκών που επιβάλλει η συνεχιζόμενη πανδημία\, το συνέδριο  θα λάβει χώρα  κατά υβριδικό τρόπο (φυσική παρουσία και διαδικτυακά). Είμαι βέβαιος πως ο υβριδικός τρόπος διεξαγωγής\nτου θα δώσει τη δυνατότητα συμμετοχής και παρακολούθησης σε περισσότερους συναδέλφους από όλη την Επικράτεια.\n\nTο CARDIO ATHENA αποτελεί διαχρονική ευκαιρία για ανταλλαγή καινοτόμων απόψεων σχετικά με τη διάγνωση\, την πρόληψη και τη θεραπεία των καρδιαγγειακών παθήσεων. Κατά τη διάρκεια των δύο αυτών ημερών\,\nθα έχουμε τη δυνατότητα να παρακολουθήσουμε συνεδρίες με συμμετοχή καταξιωμένων ομιλητών από την Ελλάδα και το εξωτερικό σε θεματολογία που καλύπτει το σύνολο των καρδιαγγειακών παθήσεων καθώς και\nτα καθημερινά διαφοροδιαγνωστικά και θεραπευτικά διλήμματα που αντιμετωπίζουν οι καρδιολόγοι εντός και εκτός του νοσοκομειακού περιβάλλοντος. Μέσω διαλέξεων\, στρογγυλών τραπεζιών\, αντιπαραθέσεων και\nδορυφορικών συμποσίων\, το επιστημονικό πρόγραμμα του συνεδρίου φιλοδοξεί να καλύψει όλες τις εξελίξεις και νέες προσεγγίσεις της σύγχρονης Καρδιολογίας.\n\nΜε χαρά σας περιμένουμε να λάβετε μέρος σε αυτό το σημαντικό επιστημονικό γεγονός.\n\n \n\n\n\nΚωνσταντίνος Τσιούφης\nΠρόεδρος Συνεδρίου\nΚαθηγητής\, Διευθυντής Α΄ Καρδιολογικής Κλινικής\nΠανεπιστημίου Αθηνών\nΓ.Ν.Α. «Ιπποκράτειο»\nΧαράλαμπος Βλαχόπουλος\nΣυμπρόεδρος Συνεδρίου\nΚαθηγητής\, Α΄ Καρδιολογική Κλινική\nΠανεπιστημίου Αθηνών\nΓ.Ν.Α. «Ιπποκράτειο»\n\n\n\n \n\n 
URL:https://tmg.gr/event/cardioathena-2021-sinedrio-kardiangiakis-iatrikis-3/
LOCATION:Vassileos Alexandrou 2\, Αθήνα\, Αθήνα\, 16121\, Ελλάδα
ATTACH;FMTTYPE=image/jpeg:https://tmg.gr/wp-content/uploads/2021/03/CardioAthena2021_-QRP_Page_1.jpeg
END:VEVENT
END:VCALENDAR