BEGIN:VCALENDAR
VERSION:2.0
PRODID:-//The MasterMind Group - Οργάνωση Ιατρικών συνεδρίων και επιστημονικών εκδηλώσεων - Σύγχρονη Ιατρική Εκπαίδευση | Organizing your success... - ECPv4.0.4//NONSGML v1.0//EN
CALSCALE:GREGORIAN
METHOD:PUBLISH
X-WR-CALNAME:The MasterMind Group - Οργάνωση Ιατρικών συνεδρίων και επιστημονικών εκδηλώσεων - Σύγχρονη Ιατρική Εκπαίδευση | Organizing your success...
X-ORIGINAL-URL:https://tmg.gr
X-WR-CALDESC:Events for The MasterMind Group - Οργάνωση Ιατρικών συνεδρίων και επιστημονικών εκδηλώσεων - Σύγχρονη Ιατρική Εκπαίδευση | Organizing your success...
BEGIN:VEVENT
DTSTART;VALUE=DATE:20170915
DTEND;VALUE=DATE:20170916
DTSTAMP:20260424T054021
CREATED:20170102
LAST-MODIFIED:20170913
UID:13244-1505433600-1505606399@tmg.gr
SUMMARY:Ελπί(δο)ς Καρδιολογική Διημερίδα «Φαρμακευτική Θεραπεία Καρδιαγγειακών Παθήσεων»
DESCRIPTION:\n\n\n\n\nΑΝΑΚΟΙΝΩΣΗ\nΟι εγγραφές πλέον γίνονται μόνο επιτόπου στη Γραμματεία του Συνεδρίου από την Παρασκευή\, 15 Σεπτεμβρίου στις 08:00πμ και μετά. Η εγγραφή μέσω ηλεκτρονικής υποβολής (on-line registration) έκλεισε. \n\n\n\n\n\n\n● Τελικό Πρόγραμμα\nΧαιρετισμός\nΑγαπητοί συνεργάτες\,\nΕκ μέρους της Οργανωτικής Επιτροπής της Ελπί(δο)ς Καρδιολογικής Διημερίδας\, έχω την τιμή και τη χαρά να σας προσκαλέσω να συμμετάσχετε για έκτη συνεχόμενη χρονιά στη Διημερίδα μας\, η οποία έχει ως κεντρικό θέμα «Φαρμακευτική Θεραπεία Καρδιαγγειακών Παθήσεων».\n\nΗ Διημερίδα διοργανώνεται από την Εταιρεία Μελέτης Καρδιαγγειακών Παθήσεων (Ε.ΜΕ.ΚΑ.Π.) με τη συνεργασία της Καρδιολογικής Κλινικής του Γ.Ν.Α. «Η Ελπίς» και πρόκειται να πραγματοποιηθεί Παρασκευή\, 15 και Σάββατο\, 16 Σεπτεμβρίου 2017\nστην Αθήνα\, στο ξενοδοχείο Divani Caravel.\n\nΜε τη βεβαιότητα ότι η ενεργός συμμετοχή σας αποτελούν την καλύτερη εγγύηση για την επιτυχία της Διημερίδας μας\, θα χαρούμε να σας καλωσορίσουμε και να γνωρίσουμε μαζί τις νεότερες εξελίξεις στο χώρο των Καρδιαγγειακών Παθήσεων.\nΜε εκτίμηση\,\nΔρ. Αθανάσιος Τρίκας\nΠρόεδρος Οργανωτικής Επιτροπής\nΣυντονιστής Διευθυντής Καρδιολογικής Κλινικής\,\nΓ.Ν.Α. «Η Ελπίς»
URL:https://tmg.gr/event/elpidos-kardiologiki-diimerida-farmakeftiki-therapia-kardiangiakon-pathiseon/
LOCATION:Vassileos Alexandrou 2\, Αθήνα\, Αθήνα\, 16121\, Ελλάδα
ATTACH;FMTTYPE=application/pdf:https://tmg.gr/wp-content/uploads/2017/09/Elpis2017-1-9_FinalProgramme.pdf
END:VEVENT
END:VCALENDAR