BEGIN:VCALENDAR
VERSION:2.0
PRODID:-//The MasterMind Group - Οργάνωση Ιατρικών συνεδρίων και επιστημονικών εκδηλώσεων - Σύγχρονη Ιατρική Εκπαίδευση | Organizing your success... - ECPv4.0.4//NONSGML v1.0//EN
CALSCALE:GREGORIAN
METHOD:PUBLISH
X-WR-CALNAME:The MasterMind Group - Οργάνωση Ιατρικών συνεδρίων και επιστημονικών εκδηλώσεων - Σύγχρονη Ιατρική Εκπαίδευση | Organizing your success...
X-ORIGINAL-URL:https://tmg.gr
X-WR-CALDESC:Events for The MasterMind Group - Οργάνωση Ιατρικών συνεδρίων και επιστημονικών εκδηλώσεων - Σύγχρονη Ιατρική Εκπαίδευση | Organizing your success...
BEGIN:VEVENT
DTSTART;VALUE=DATE:20210608
DTEND;VALUE=DATE:20210608
DTSTAMP:20260424T101339
CREATED:20210603
LAST-MODIFIED:20210615
UID:19584-1623110400-1623196799@tmg.gr
SUMMARY:Health Without Barriers - Εναρκτήρια Εκδήλωση
DESCRIPTION: \n\n \n\n\n\n\nVideo Gallery\n\n\n\n \n\n \n\n \tΠρόγραμμα\n\n \n\n \n\nHEALTH WITHOUT BARRIERS\n\n\n\nΠρόγραμμα: Active citizens fund\n\nΠοια είναι τα προβλήματα που αντιμετωπίζουν οι κρατούμενοι/-ες\nστην πρόσβασή τους στις υπηρεσίες υγείας; \n\nΤι χρειάζεται να αλλάξει;\n\nΟ Προμηθέας - Σύλλογος Ασθενών Ήπατος Ελλάδος και η Θετική Φωνή - Σύλλογος Οροθετικών Ελλάδος σας προσκαλούν στη διαδικτυακή εναρκτήρια εκδήλωση Έργου “Health Without Barriers”\, σχετικά με την υφιστάμενη κατάσταση της υγείας και τα λοιμώδη νοσήματα στα σωφρονιστικά καταστήματα της χώρας\, την πρόσβαση των κρατούμενων σε διαγνωστικές εξετάσεις και θεραπεία\, το στίγμα και τις διεκδικήσεις των ανθρωπίνων δικαιωμάτων τους.\n\nΟμιλητές/ήτριες:\n\n \tΓιώργος Καλαμίτσης\, Πρόεδρος Δ.Σ. Συλλόγου Ασθενών Ήπατος Ελλάδος «Προμηθέας»\n \tΝίκος Δέδες\, Πρόεδρος Συλλόγου Οροθετικών Ελλάδος «Θετική Φωνή»\n \tΣτέφη Μαίρη\, Διοικήτρια φυλακών Κορυδαλλού\n \tΒάνα Σύψα\, Επιδημιολόγος\, Αναπληρώτρια Καθηγήτρια Επιδημιολογίας και Ιατρικής Στατιστικής στην Ιατρική Σχολή στο Πανεπιστήμιο Αθηνών ΕΚΠΑ\n \tΑθανάσιος Θεοχάρης\, Πρόεδρος Οργανισμού Κατά των Ναρκωτικών - Ο.ΚΑ.ΝΑ.\n \tΣτέργιος Γεωργούλας\, Παθολόγος Ιατρός στον Αγ. Παύλο\, Φυλακές Κορυδαλλού\n \tΒασίλης Καταγής\, Κοινωνιολόγος - Συστημικός οικογενειακός θεραπευτής\, Επιστημονικός Υπεύθυνος Θεραπευτικού Προγράμματος ΚΕΘΕΑ ΕΝ ΔΡΑΣΕΙ\n \tΓιάννης Ιωαννίδης\, Αντιπρόεδρος της Εθνικής Επιτροπής για τα Δικαιώματα του Ανθρώπου\n \tΣπύρος Καρακίτσος\, Πρόεδρος Ομοσπονδίας Σωφρονιστικών Υπαλλήλων Ελλάδος\n \tΘωμάς Χαχάμης\, Διευθυντής του Καταστήματος Κράτησης Τρικάλων\n \tΒασιλική Αρτινοπούλου\, Πρόεδρος του Κεντρικού Επιστημονικού Συμβουλίου Φυλακών\, Καθηγήτρια Εγκληματολογίας\, Τμήμα Κοινωνιολογίας Πανεπιστημίου\,\nΠρόεδρος του Κεντρικού Επιστημονικού Συμβουλίου Φυλακών\, μέλος της SPT\, United Nations\n \tΣοφία Νικολάου\, Γενική Γραμματέας Αντεγκληματικής Πολιτικής\, Υπουργείο Προστασίας του Πολίτη\n \tΣπήλιος Μανωλακόπουλος\, Πρόεδρος Ελληνικής Εταιρείας Μελέτης του Ήπατος\n \tΠασχάλης Βαβελίδης\, Συντονιστής Δράσεων\, Σύλλογος Ασθενών Ήπατος Ελλάδος «Προμηθέας»\n \tΕλίζα Γκορόγια\, Υπεύθυνη Διεκδίκησης & Επικοινωνίας «Θετική Φωνή»\n\nΧαιρετισμοί:\n\n \tΓιώργος Καλαμίτσης\, Πρόεδρος Συλλόγου Ασθενών Ήπατος Ελλάδος «Προμηθέας»\, Φορέας Υλοποίησης του Έργου\n \tΝίκος Δέδες\, Πρόεδρος Συλλόγου Οροθετικών Ελλάδος «Θετική Φωνή»\, Εταίρος Έργου\n \tΧριστιάνα Κύρκου\, Διαχειρίστρια Προγραμμάτων Active citizens fund\n \tΣοφία Νικολάου\, Γενική Γραμματέας Αντεγκληματικής Πολιτικής\, Υπουργείο Προστασίας του Πολίτη\n\nΣυντονίζουν:\n\n \tΜαρία Μουδάτσου\, Forensic Psychologist\, Protection Expert\, Αντιπρόεδρος Δ.Σ. PRAKSIS\n\n\n \tΒαγγέλης Μάλλιος\, Δικηγόρος παρ’ Αρείω Πάγω (ειδ. Δημόσιο Δίκαιο\, Ανθρώπινα Δικαιώματα\, Δίκαιο Εκπαίδευσης και Υγείας)\n \tΈφη Λαμπροπούλου\, Καθηγήτρια Εγκληματολογίας\, Τμήμα Κοινωνιολογίας Παντείου Πανεπιστημίου\, Μέλος Κεντρικού Επιστημονικού Συμβουλίου Φυλακών\n\n Το έργο “Health Without Barriers” υλοποιείται στο πλαίσιο του προγράμματος Active citizens fund\, με φορέα υλοποίησης τον Προμηθέα - Σύλλογο Ασθενών Ήπατος Ελλάδος & εταίρο Έργου τη Θετική Φωνή - Σύλλογο Οροθετικών Ελλάδος. Το πρόγραμμα Active citizens fund\, ύψους €12εκ\, χρηματοδοτείται από την Ισλανδία\, το Λιχτενστάιν και τη Νορβηγία και είναι μέρος του χρηματοδοτικού μηχανισμού του Ευρωπαϊκού Οικονομικού Χώρου (ΕΟΧ) περιόδου 2014 – 2021\, γνωστού ως EEA Grants. Το πρόγραμμα στοχεύει στην ενδυνάμωση και την ενίσχυση της βιωσιμότητας της κοινωνίας των πολιτών και στην ανάδειξη του ρόλου της στην προαγωγή των δημοκρατικών διαδικασιών\, στην ενίσχυση της συμμετοχής των πολιτών στα κοινά και στην προάσπιση των ανθρωπίνων δικαιωμάτων. Τη διαχείριση της επιχορήγησης του προγράμματος Active citizens fund για την Ελλάδα έχουν αναλάβει από κοινού το Ίδρυμα Μποδοσάκη και το SolidarityNow. Διαβάστε περισσότερα εδώ: www.activecitizensfund.gr.\n\n
URL:https://tmg.gr/event/health-without-barriers-enarktiria-ekdilosi/
LOCATION:Ελλάδα
ATTACH;FMTTYPE=image/jpeg:https://tmg.gr/wp-content/uploads/2021/06/Health_Without_Barriers_Save_the_Date-1.jpg
ORGANIZER;CN="The%20MasterMind%20Group":MAILTO:info@tmg.gr
END:VEVENT
END:VCALENDAR