BEGIN:VCALENDAR
VERSION:2.0
PRODID:-//The MasterMind Group - Οργάνωση Ιατρικών συνεδρίων και επιστημονικών εκδηλώσεων - Σύγχρονη Ιατρική Εκπαίδευση | Organizing your success... - ECPv4.0.4//NONSGML v1.0//EN
CALSCALE:GREGORIAN
METHOD:PUBLISH
X-WR-CALNAME:The MasterMind Group - Οργάνωση Ιατρικών συνεδρίων και επιστημονικών εκδηλώσεων - Σύγχρονη Ιατρική Εκπαίδευση | Organizing your success...
X-ORIGINAL-URL:https://tmg.gr
X-WR-CALDESC:Events for The MasterMind Group - Οργάνωση Ιατρικών συνεδρίων και επιστημονικών εκδηλώσεων - Σύγχρονη Ιατρική Εκπαίδευση | Organizing your success...
BEGIN:VEVENT
DTSTART;VALUE=DATE:20210709
DTEND;VALUE=DATE:20210710
DTSTAMP:20260424T044501
CREATED:20210209
LAST-MODIFIED:20210729
UID:19020-1625788800-1625961599@tmg.gr
SUMMARY:Καρδιά σε Προχωρημένη Ανεπάρκεια : Σύγχρονες Θεραπευτικές Δράσεις - Προοπτικές
DESCRIPTION:Στο 1o Συνέδριο Καρδιά σε Προχωρημένη Ανεπάρκεια : Σύγχρονες Θεραπευτικές Δράσεις - Προοπτικές\, κύριο μέλημά μας είναι η απαρέγκλιτη τήρηση όλων των κανόνων υγιεινής και η λήψη μέτρων για την διασφάλιση της υγείας τόσο των εργαζομένων στους συνεδριακούς χώρους\, των συναδέλφων μας\, όσο και της δημόσιας υγείας.\nΣας ενημερώνουμε ότι έχουν ληφθεί όλα τα προληπτικά μέτρα ασφαλείας μη μετάδοσης του COVID-19 που έχουν ανακοινωθεί μέχρι σήμερα ως επίσημες οδηγίες και συστάσεις από το Υπουργείο Υγείας και τον ΕΟΔΥ.\nANAKOIΝΩΣΗ:\nΝέες Ημερομηνίες: 9-10 Ιουλίου 2021\n\n\n\n\n\nVideo Gallery\n\n\n\n\nΧορηγούνται 15 Μόρια Συνεχιζόμενης Ιατρικής Εκπαίδευσης από τον Πανελλήνιο Ιατρικό Σύλλογο\n\n● Πρόγραμμα\n\n\n \n\nΧαιρετισμός\n\n \n\nΜε ιδιαίτερη χαρά αλλά και συνείδηση της μεγάλης μας ευθύνης επιτρέψτε μας να σας καλωσορίσουμε στο 1ο  Συνέδριο Προχωρημένης Καρδιακής Ανεπάρκειας με τίτλο «Καρδιά σε Προχωρημένη Ανεπάρκεια: Σύγχρονες Θεραπευτικές Δράσεις - Προοπτικές» που διοργανώνει το Ωνάσειο Καρδιοχειρουργικό Κέντρο και που θα διεξαχθεί στην Αθήνα (ξενοδοχείο Divani Caravel) στις 9 και 10 Ιουλίου 2021.\n\nΟι ραγδαίες εξελίξεις στη φαρμακευτική\, “ηλεκτρική” και επεμβατική θεραπεία της καρδιακής ανεπάρκειας\, η τεχνολογική έκρηξη στην προσωρινή και μόνιμη μηχανική υποστήριξη στην καρδιογενή καταπληξία και στο προχωρημένο στάδιο του συνδρόμου\, οι καινοτόμες τεχνικές στην απεικόνιση\, ο κομβικός ρόλος των Μονάδων Εντατικής Θεραπείας\, οι νέες μέθοδοι προστασίας του λαμβανομένου οργάνου\, η νέα ανοσοκατασταλτική πολιτική\, οι αναδυόμενες μοριακές μέθοδοι ανίχνευσης των απορρίψεων\, η αύξηση των συνδυασμένων μεταμοσχεύσεων καρδιάς με άλλα όργανα\, η αδήριτη ανάγκη για αύξηση της δωρεάς οργάνων στη χώρα μας\, η ευαίσθητη διαχείριση του τελικού σταδίου του συνδρόμου “απαιτούν” διαρκή ενημέρωση όχι μόνον των ειδικών της καρδιακής ανεπάρκειας αλλά του συνόλου των ασχολουμένων με την καρδιά για την ολοκληρωμένη αντιμετώπιση της ευαίσθητης αυτής κατηγορίας ασθενών\, των οποίων ο αριθμός βαίνει συνεχώς αυξανόμενος.\n\nΠαράλληλα\, “απαιτείται” εγρήγορση και της πολιτείας μιας και οι ασθενείς με την προχωρημένη καρδιακή ανεπάρκεια και τις επανειλημμένες εισαγωγές στο νοσοκομείο\, πέραν της αυτονόητης ιατρικής αναγκαιότητας\, αντιπροσωπεύουν και μία σοβαρή κοινωνικο-οικονομική πρόκληση στα συστήματα υγείας.\n\nΤο Συνέδριο μας θα μας δώσει την ευκαιρία να μετέχουμε της νέας γνώσης που κατακλύζει τον χώρο της προχωρημένης καρδιακής ανεπάρκειας με τρόπο διαδραστικό\, μιας και η προσπάθειά μας\, κατά το μέτρο του δυνατού\, είναι να αναπτυχθούν οι πιο σύγχρονες απόψεις για την πρόληψη\, την διάγνωση και την θεραπεία του συνδρόμου στην προχωρημένη του μορφή από ένα εξαίρετο επιτελείο προέδρων\, ομιλητών και σχολιαστών τόσο από τη χώρα μας όσο και από τη διεθνή καρδιολογική κοινότητα.\n\nΠαράλληλα\, στο Συνέδριό μας θα αποτυπωθεί\, και η διαχρονική προσπάθεια όλων μας για την δημιουργία Πανελληνίου Δικτύου διαχείρισης ασθενών με προχωρημένη καρδιακή ανεπάρκεια\, το οποίο\, μέσα από τη συνεργασία καρδιολογικών κλινικών από όλη τη χώρα\, θα διευκολύνει την έγκαιρη και πιο πλήρη αντιμετώπιση του ολοένα αυξανόμενου αυτού πληθυσμού.\n\nΚαλούμε όλους τους λειτουργούς της υγείας\, που αντιμετωπίζουν καθημερινά τον σύνθετο ασθενή με καρδιακή ανεπάρκεια και ιδιαίτερα στην προχωρημένη της μορφή\, να αγκαλιάσουν την προσπάθεια μας και να συμμετάσχουν ενεργά στις εργασίες του Συνεδρίου μας με τρόπο εποικοδομητικό\, αξιοποιώντας τις εξαιρετικές ευκαιρίες διακίνησης γνώσης και ανταλλαγής απόψεων που θα τους παρουσιασθούν.\n\n \nΜε πολλή εκτίμηση και ιδιαίτερη τιμή\,\nΣταμάτης Αδαμόπουλος\nΠρόεδρος Συνεδρίου\nΔιευθυντής Μονάδας Καρδιακής Ανεπάρκειας\n& Μονάδας Μεταμοσχεύσεων Καρδιάς\nΩνάσειο Καρδιοχειρουργικό Κέντρο\n \n\n\n\n \n\n\n\n\n\n\n\n\n\n\n\n\n\n\n\n 
URL:https://tmg.gr/event/kardia-se-prochorimeni-aneparkia-sigchrones-therapeftikes-drasis-prooptikes/
LOCATION:Vassileos Alexandrou 2\, Αθήνα\, Αθήνα\, 16121\, Ελλάδα
ATTACH;FMTTYPE=application/pdf:https://tmg.gr/wp-content/uploads/2021/02/Cardiology_Onaseio_Poster-5.pdf
END:VEVENT
END:VCALENDAR