BEGIN:VCALENDAR
VERSION:2.0
PRODID:-//The MasterMind Group - Οργάνωση Ιατρικών συνεδρίων και επιστημονικών εκδηλώσεων - Σύγχρονη Ιατρική Εκπαίδευση | Organizing your success... - ECPv4.0.4//NONSGML v1.0//EN
CALSCALE:GREGORIAN
METHOD:PUBLISH
X-WR-CALNAME:The MasterMind Group - Οργάνωση Ιατρικών συνεδρίων και επιστημονικών εκδηλώσεων - Σύγχρονη Ιατρική Εκπαίδευση | Organizing your success...
X-ORIGINAL-URL:https://tmg.gr
X-WR-CALDESC:Events for The MasterMind Group - Οργάνωση Ιατρικών συνεδρίων και επιστημονικών εκδηλώσεων - Σύγχρονη Ιατρική Εκπαίδευση | Organizing your success...
BEGIN:VEVENT
DTSTART;VALUE=DATE:20250207
DTEND;VALUE=DATE:20250209
DTSTAMP:20260422T003407
CREATED:20241106
LAST-MODIFIED:20250319
UID:24410-1738886400-1739145599@tmg.gr
SUMMARY:Καρκίνος του Πνεύμονα - Από την πρόληψη στη διάγνωση και τη βέλτιστη αντιμετώπιση
DESCRIPTION:\n\n\n\n\n\n \n\n \n\n \n\n \n\n\n\n \n\n \n\n \n\n\n\n\n \n\n\n\n\n\n \n\n\n\n\n\n\n\n\n\n
URL:https://tmg.gr/event/karkinos-tou-pnevmona-apo-tin-prolipsi-sti-diagnosi-ke-ti-veltisti-antimetopisi-2/
LOCATION:Λαγκαδά 13\, Θεσσαλονίκη\, 546 29\, Ελλάδα
ATTACH;FMTTYPE=application/pdf:https://tmg.gr/wp-content/uploads/2024/11/LungCancer2025-QRP.pdf
END:VEVENT
END:VCALENDAR