BEGIN:VCALENDAR
VERSION:2.0
PRODID:-//The MasterMind Group - Οργάνωση Ιατρικών συνεδρίων και επιστημονικών εκδηλώσεων - Σύγχρονη Ιατρική Εκπαίδευση | Organizing your success... - ECPv4.0.4//NONSGML v1.0//EN
CALSCALE:GREGORIAN
METHOD:PUBLISH
X-WR-CALNAME:The MasterMind Group - Οργάνωση Ιατρικών συνεδρίων και επιστημονικών εκδηλώσεων - Σύγχρονη Ιατρική Εκπαίδευση | Organizing your success...
X-ORIGINAL-URL:https://tmg.gr
X-WR-CALDESC:Events for The MasterMind Group - Οργάνωση Ιατρικών συνεδρίων και επιστημονικών εκδηλώσεων - Σύγχρονη Ιατρική Εκπαίδευση | Organizing your success...
BEGIN:VEVENT
DTSTART;VALUE=DATE:20230407
DTEND;VALUE=DATE:20230409
DTSTAMP:20260424T153645
CREATED:20220915
LAST-MODIFIED:20230314
UID:21637-1680825600-1681084799@tmg.gr
SUMMARY:Μεσσηνιακές Ημέρες Ασκληπιού 2023
DESCRIPTION: \n\n\n\n\n \n\n\n\n\n\n \n\n \n\n \n\n \n\n 
URL:https://tmg.gr/event/messiniakes-imeres-asklipiou-2023/
LOCATION:Αριστομένους 33\, Καλαμάτα\, Αθήνα\, 241 00
ATTACH;FMTTYPE=application/pdf:https://tmg.gr/wp-content/uploads/2022/09/6ESKALAMATA-QRP-1.pdf
ORGANIZER;CN="The%20MasterMind%20Group":MAILTO:info@tmg.gr
END:VEVENT
END:VCALENDAR