BEGIN:VCALENDAR
VERSION:2.0
PRODID:-//The MasterMind Group - Οργάνωση Ιατρικών συνεδρίων και επιστημονικών εκδηλώσεων - Σύγχρονη Ιατρική Εκπαίδευση | Organizing your success... - ECPv4.0.4//NONSGML v1.0//EN
CALSCALE:GREGORIAN
METHOD:PUBLISH
X-WR-CALNAME:The MasterMind Group - Οργάνωση Ιατρικών συνεδρίων και επιστημονικών εκδηλώσεων - Σύγχρονη Ιατρική Εκπαίδευση | Organizing your success...
X-ORIGINAL-URL:https://tmg.gr
X-WR-CALDESC:Events for The MasterMind Group - Οργάνωση Ιατρικών συνεδρίων και επιστημονικών εκδηλώσεων - Σύγχρονη Ιατρική Εκπαίδευση | Organizing your success...
BEGIN:VEVENT
DTSTART;VALUE=DATE:20201208
DTEND;VALUE=DATE:20201208
DTSTAMP:20260422T183318
CREATED:20201103
LAST-MODIFIED:20210119
UID:17880-1607385600-1607471999@tmg.gr
SUMMARY:Webinar «ΥΠΕΡΤΑΣΗ - ΣΑΚΧΑΡΩΔΗΣ ΔΙΑΒΗΤΗΣ - ΑΙΜΑΤΟΛΟΓΙΑ\, ΣΤΗΝ ΕΠΟΧΗ ΤΗΣ ΝΟΣΟΥ COVID-19» 2020
DESCRIPTION:ΕΥΧΑΡΙΣΤΗΡΙΑ ΕΠΙΣΤΟΛΗ ΕΚ ΜΕΡΟΥΣ ΠΡΟΕΔΡΟΥ\, κας Μ. ΠΑΓΩΝΗ\n[waiting name="webinar-covid19-2020"]\n\n\n\n\n Video Gallery\n \n\n\n\n\n\n\n\n● Πρόγραμμα\nΔωρεάν Εγγραφή\n\n\nΧαιρετισμός\nΑγαπητοί Συνάδελφοι\,\n\nΗ Εταιρεία Παθολογίας Ελλάδος\, εναρμονισμένη στις εξελίξεις\, συνεχίζει το έργο της διοργανώνοντας την διαδικτυακή συνάντηση με τίτλο «Υπέρταση | Σακχαρώδης Διαβήτης | Αιματολογία στην εποχή της νόσου Covid-19».\nΟι εισηγητές μας\, καταξιωμένοι επιστήμονες\, θα μας ενημερώσουν για τα σημερινά δεδομένα της πανδημίας και θα δώσουν οδηγίες για την αντιμετώπιση των ασθενών αυτών στο μέλλον.\n\nΜε εκτίμηση\,\n\nΜατίνα Παγώνη\n\nΠρόεδρος Δ.Σ. Εταιρείας Παθολογίας Ελλάδος (Ε.Π.Ε.)\nΣυντονίστρια Διευθύντρια Γ΄ Παθολογικής Κλινικής\, Γ.Ν.Α. «Γ. Γεννηματάς»\nΕπιστημονικά Υπεύθυνη Λιπιδαιμικού Ιατρείου\, Γ.Ν.Α. «Γ. Γεννηματάς»\nΠρόεδρος Επιστημονικού Συμβουλίου Γ.Ν.Α. «Γ. Γεννηματάς»\nΠρόεδρος Ανωτάτου Πειθαρχικού Π.Ι.Σ.\nΠρόεδρος ΕΙΝΑΠ\nΑντιπρόεδρος ΟΕΝΓΕ\n\n\n\n\n\n\n\n\n\n\n\n\n\n\n\n\n\n\n\n\n\n
URL:https://tmg.gr/event/webinar-ipertasi-lipidia-ematologia-2020-eteria-pathologias-ellados/
LOCATION:Ελλάδα
ATTACH;FMTTYPE=application/pdf:https://tmg.gr/wp-content/uploads/2020/11/Webinar_Covid19_2020_Program2.pdf
ORGANIZER;CN="The%20MasterMind%20Group":MAILTO:info@tmg.gr
END:VEVENT
END:VCALENDAR