BEGIN:VCALENDAR
VERSION:2.0
PRODID:-//The MasterMind Group - Οργάνωση Ιατρικών συνεδρίων και επιστημονικών εκδηλώσεων - Σύγχρονη Ιατρική Εκπαίδευση | Organizing your success... - ECPv4.0.4//NONSGML v1.0//EN
CALSCALE:GREGORIAN
METHOD:PUBLISH
X-WR-CALNAME:The MasterMind Group - Οργάνωση Ιατρικών συνεδρίων και επιστημονικών εκδηλώσεων - Σύγχρονη Ιατρική Εκπαίδευση | Organizing your success...
X-ORIGINAL-URL:https://tmg.gr
X-WR-CALDESC:Events for The MasterMind Group - Οργάνωση Ιατρικών συνεδρίων και επιστημονικών εκδηλώσεων - Σύγχρονη Ιατρική Εκπαίδευση | Organizing your success...
BEGIN:VEVENT
DTSTART;VALUE=DATE:20160701
DTEND;VALUE=DATE:20160701
DTSTAMP:20260425T174412
CREATED:20160601
LAST-MODIFIED:20161021
UID:12129-1467331200-1467417599@tmg.gr
SUMMARY:ΕΚΕΙ ΠΟΥ Η ΦΙΛΟΣΟΦΙΑ ΚΑ Η ΤΕΧΝΗ ΣΥΝΑΝΤΟΥΝ ΤΗΝ ΚΑΡΔΙΟΛΟΓΙΑ.  ΤΙ ΝΕΟΤΕΡΟ ΣΤΗΝ ΚΑΡΔΙΟΛΟΓΙΑ
DESCRIPTION:           \n\n● Τελικό Πρόγραμμα\n\n● Μέσα Προβολής\n\n● Πακέτο Διαμονής\n\n \nΧαιρετισμός Προέδρου\nΑγαπητοί Σύνεδροι\,\n\nΜε ιδιαίτερη χαρά σας προσκαλούμε στην 2η Επιστημονική Εκδήλωση που θα πραγματοποιηθεί από το Ίδρυμα Καρδιαγγειακής Έρευνας και Eπιμόρφωσης (ΚΑΡΔΙΑ) σε συνεργασία με την Α΄ Πανεπιστημιακή Καρδιολογική Κλινική υπό την αιγίδα της Ιατρικής Σχολής του Πανεπιστημίου Αθηνών\, με θέμα:\n\n«Εκεί που η Φιλοσοφία και η Τέχνη συναντούν την Καρδιολογία. Τι νεότερο στην Καρδιολογία».\n\nΗ εκδήλωση πραγματοποιείται 1-3 Ιουλίου 2016 στο ξενοδοχείο ΑΜΑΛΙΑ\, στο Ναύπλιο. Σκοπός της είναι να ενημερώσει για τις νεότερες εξελίξεις σε τομείς που σχετίζονται με την διάγνωση και θεραπεία των καρδιαγγειακών παθήσεων. Επίσης\, θα παρουσιαστούν οι νεότερες εξελίξεις στους παράγοντες κινδύνου και πρόληψης της Στεφανιαίας Νόσου με έμφαση στη διατροφή και την υγεία.\n\nΚαινοτομία αυτής της επιστημονικής εκδήλωσης αποτελεί η προσπάθεια κατάδειξης της αλληλεπίδρασης μεταξύ της ιατρικής και ειδικότερα της καρδιολογίας και της τέχνης\, της λογοτεχνίας\, της οικονομίας και της φυσικής επιστήμης καθώς και η σχέση μεταξύ των φιλοσοφικών αναζητήσεων και ιατρικών προβλημάτων. Παράλληλα\, γίνεται ειδική αναφορά στη στενή σχέση της καρδιολογίας με άλλες ειδικότητες σε ερευνητικό και κλινικό επίπεδο.\n\nΗ εκδήλωση αυτή απευθύνεται σε όλους του καρδιολόγους\, καθώς και σε άλλες ειδικότητες που εμπλέκονται στην αντιμετώπιση των προδιαθεσικών καρδιαγγειακών παραγόντων κινδύνου και της αθηροσκλήρωσης. Επιδιώκει να παρουσιάσει όχι μόνο τις σύγχρονες εξελίξεις στην Καρδιολογία\, αλλά και στοχασμούς διανόησης\, φιλοσοφίας και υπερφυσικής αναζήτησης. Είναι γνωστό\, άλλωστε\, ότι ο ευρύτερος χώρος της Κορινθίας και Αργολίδας αποτελούσε κατά την αρχαιότητα λίκνο πολιτισμού\, τέχνης και επιστήμης.\n\nΠιστεύω ότι η ενεργός συμμετοχή σας θα μας τιμήσει και θα αποτελέσει κριτήριο για την επιτυχία της.\n\nΟ Πρόεδρος της Οργανωτικής Επιτροπής\n\nΔημήτρης Τούσουλης\n\nΚαθηγητής Καρδιολογίας\nΔιευθυντής Α’ Πανεπιστημιακής Καρδιολογικής Κλινικής\n\n \n\n 
URL:https://tmg.gr/event/ekei-poy-i-filosofia-ka-i-tech-343/
LOCATION:Ναύπλιο\, Άργος\, Ελλάδα
ATTACH;FMTTYPE=image/jpeg:https://tmg.gr/wp-content/uploads/2016/04/cardiophilosophy_poster-pdf.jpg
END:VEVENT
END:VCALENDAR