BEGIN:VCALENDAR
VERSION:2.0
PRODID:-//The MasterMind Group - Οργάνωση Ιατρικών συνεδρίων και επιστημονικών εκδηλώσεων - Σύγχρονη Ιατρική Εκπαίδευση | Organizing your success... - ECPv4.0.4//NONSGML v1.0//EN
CALSCALE:GREGORIAN
METHOD:PUBLISH
X-WR-CALNAME:The MasterMind Group - Οργάνωση Ιατρικών συνεδρίων και επιστημονικών εκδηλώσεων - Σύγχρονη Ιατρική Εκπαίδευση | Organizing your success...
X-ORIGINAL-URL:https://tmg.gr
X-WR-CALDESC:Events for The MasterMind Group - Οργάνωση Ιατρικών συνεδρίων και επιστημονικών εκδηλώσεων - Σύγχρονη Ιατρική Εκπαίδευση | Organizing your success...
BEGIN:VEVENT
DTSTART;VALUE=DATE:20160716
DTEND;VALUE=DATE:20160716
DTSTAMP:20260424T212246
CREATED:20160601
LAST-MODIFIED:20161021
UID:12149-1468627200-1468713599@tmg.gr
SUMMARY:4ο Μετεκπαιδευτικό Σεμινάριο στις Κλινικές Δοκιμές 2016
DESCRIPTION:\n\n● Αθήνα - Θεσσαλονίκη\n4o Κύκλος Μετεκπαιδευτικών Σεμιναρίων στις Κλινικές Δοκιμές\n\n
URL:https://tmg.gr/event/4o-metekpaideutiko-seminario-s-374/
LOCATION:Αθήνα - Θεσσαλονίκη\, Αθήνα - Θεσσαλονίκη\, Ελλάδα
ATTACH;FMTTYPE=image/jpeg:https://tmg.gr/wp-content/uploads/2016/06/ct_2015_ap-pdf.jpg
END:VEVENT
END:VCALENDAR