BEGIN:VCALENDAR
VERSION:2.0
PRODID:-//The MasterMind Group - Οργάνωση Ιατρικών συνεδρίων και επιστημονικών εκδηλώσεων - Σύγχρονη Ιατρική Εκπαίδευση | Organizing your success... - ECPv4.0.4//NONSGML v1.0//EN
CALSCALE:GREGORIAN
METHOD:PUBLISH
X-WR-CALNAME:The MasterMind Group - Οργάνωση Ιατρικών συνεδρίων και επιστημονικών εκδηλώσεων - Σύγχρονη Ιατρική Εκπαίδευση | Organizing your success...
X-ORIGINAL-URL:https://tmg.gr
X-WR-CALDESC:Events for The MasterMind Group - Οργάνωση Ιατρικών συνεδρίων και επιστημονικών εκδηλώσεων - Σύγχρονη Ιατρική Εκπαίδευση | Organizing your success...
BEGIN:VEVENT
DTSTART;VALUE=DATE:20211008
DTEND;VALUE=DATE:20211010
DTSTAMP:20260423T125539
CREATED:20210218
LAST-MODIFIED:20211011
UID:19052-1633651200-1633910399@tmg.gr
SUMMARY:24o Καρδιολογικό Συνέδριο Κεντρικής Ελλάδος
DESCRIPTION:  Στο 24o Καρδιολογικό Συνέδριο Κεντρικής Ελλάδος\, κύριο μέλημά μας είναι η απαρέγκλιτη τήρηση όλων των κανόνων υγιεινής και η λήψη μέτρων για την διασφάλιση της υγείας τόσο των εργαζομένων στους συνεδριακούς χώρους\, των συναδέλφων μας\, όσο και της δημόσιας υγείας.\nΣας ενημερώνουμε ότι έχουν ληφθεί όλα τα προληπτικά μέτρα ασφαλείας μη μετάδοσης της COVID-19 που έχουν ανακοινωθεί μέχρι σήμερα ως επίσημες οδηγίες και συστάσεις από το Υπουργείο Υγείας και τον ΕΟΔΥ.\n\n\nΜΕΤΡΑ ΠΡΟΣΤΑΣΙΑΣ ΥΒΡΙΔΙΚΩΝ ΕΠΙΣΤΗΜΟΝΙΚΩΝ\, ΕΠΑΓΓΕΛΜΑΤΙΚΩΝ & ΛΟΙΠΩΝ ΣΥΝΕΔΡΙΩΝ\n\n• Η είσοδος επιτρέπεται αποκλειστικά και μόνο σε όσους επιδεικνύουν:\nα) πιστοποιητικό εμβολιασμού\, β) πιστοποιητικό νόσησης\n• Οι επισκέπτες προσέρχονται μόνο κατόπιν ηλεκτρονικής προεγγραφής.\n• Υποχρεωτική η χρήση μάσκας για όλους ανεξαιρέτως καθ΄ όλη τη διάρκεια παραμονής τους στους στεγασμένους χώρους του εκθεσιακού κέντρου / ξενοδοχείου.\n• Τήρηση απόστασης ενάμιση (1\,5) μέτρου σε όλους τους χώρους του συνεδρίου.\n\n\n\n\n\n\n\n \n\n\n\n\n\n\n\n\n \n\n \n\n \t\n\n \tΠρόγραμμα\n\n\n\n \n\n \n\n
URL:https://tmg.gr/event/24o-kardiologiko-sinedrio-kentrikis-ellados-2/
LOCATION:19\, Παπαναστασίου Street\, Λάρισα\, Λάρισα\, 412 22\, Ελλάδα
ATTACH;FMTTYPE=application/pdf:https://tmg.gr/wp-content/uploads/2021/02/24thCardiologicalCongress-QRP.pdf
ORGANIZER;CN="The%20MasterMind%20Group":MAILTO:info@tmg.gr
END:VEVENT
BEGIN:VEVENT
DTSTART;VALUE=DATE:20211008
DTEND;VALUE=DATE:20211010
DTSTAMP:20260423T125539
CREATED:20210701
LAST-MODIFIED:20211124
UID:19688-1633651200-1633910399@tmg.gr
SUMMARY:Eξελίξεις στη Δερματολογία & Αφροδισιολογία 2021
DESCRIPTION:  Στο Συνέδριο "Eξελίξεις στη Δερματολογία & Αφροδισιολογία 2021"\, κύριο μέλημά μας είναι η απαρέγκλιτη τήρηση όλων των κανόνων υγιεινής και η λήψη μέτρων για την διασφάλιση της υγείας τόσο των εργαζομένων στους συνεδριακούς χώρους\, των συναδέλφων μας\, όσο και της δημόσιας υγείας.\nΣας ενημερώνουμε ότι έχουν ληφθεί όλα τα προληπτικά μέτρα ασφαλείας μη μετάδοσης της COVID-19 που έχουν ανακοινωθεί μέχρι σήμερα ως επίσημες οδηγίες και συστάσεις από το Υπουργείο Υγείας και τον ΕΟΔΥ.\n\n\nΜΕΤΡΑ ΠΡΟΣΤΑΣΙΑΣ ΥΒΡΙΔΙΚΩΝ ΕΠΙΣΤΗΜΟΝΙΚΩΝ\, ΕΠΑΓΓΕΛΜΑΤΙΚΩΝ & ΛΟΙΠΩΝ ΣΥΝΕΔΡΙΩΝ\n\n• Η είσοδος επιτρέπεται αποκλειστικά και μόνο σε όσους επιδεικνύουν:\nα) πιστοποιητικό εμβολιασμού\, β) πιστοποιητικό νόσησης\n• Οι επισκέπτες προσέρχονται μόνο κατόπιν ηλεκτρονικής προεγγραφής.\n• Υποχρεωτική η χρήση μάσκας για όλους ανεξαιρέτως καθ΄ όλη τη διάρκεια παραμονής τους στους στεγασμένους χώρους του εκθεσιακού κέντρου / ξενοδοχείου.\n• Τήρηση απόστασης ενάμιση (1\,5) μέτρου σε όλους τους χώρους του συνεδρίου.\n\n\n\n\n\n\n\nVideo Gallery\n\n\n\n\n\n \n\n \tΠρόγραμμα\n\n\n\n\n\n\n\n\n\n\n\n\n\n\n\n\n \n\n 
URL:https://tmg.gr/event/exelixis-sti-dermatologia-afrodisiologia-2021/
LOCATION:Πλατεία Κανάρη\, Ερμούπολη \, Σύρος\, Λάρισα\, 841 00\, Ελλάδα
ATTACH;FMTTYPE=image/png:https://tmg.gr/wp-content/uploads/2021/07/Dermatology_35x50cm_POSTER_Page_1.png
ORGANIZER;CN="The%20MasterMind%20Group":MAILTO:info@tmg.gr
END:VEVENT
END:VCALENDAR