BEGIN:VCALENDAR
VERSION:2.0
PRODID:-//The MasterMind Group - Οργάνωση Ιατρικών συνεδρίων και επιστημονικών εκδηλώσεων - Σύγχρονη Ιατρική Εκπαίδευση | Organizing your success... - ECPv4.0.4//NONSGML v1.0//EN
CALSCALE:GREGORIAN
METHOD:PUBLISH
X-WR-CALNAME:The MasterMind Group - Οργάνωση Ιατρικών συνεδρίων και επιστημονικών εκδηλώσεων - Σύγχρονη Ιατρική Εκπαίδευση | Organizing your success...
X-ORIGINAL-URL:https://tmg.gr
X-WR-CALDESC:Events for The MasterMind Group - Οργάνωση Ιατρικών συνεδρίων και επιστημονικών εκδηλώσεων - Σύγχρονη Ιατρική Εκπαίδευση | Organizing your success...
BEGIN:VEVENT
DTSTART;VALUE=DATE:20220916
DTEND;VALUE=DATE:20220917
DTSTAMP:20260419T173206
CREATED:20220203
LAST-MODIFIED:20230102
UID:20567-1663286400-1663459199@tmg.gr
SUMMARY:Ελπί(δο)ς Καρδιολογική Διημερίδα - Καρδιακή ανεπάρκεια και συννοσηρότητες: Διαγνωστική προσπέλαση και θεραπευτικές επιλογές
DESCRIPTION: \n\n\n\n\n\n \n\n\n\n \n\n\n\n\n\n\n \n\n\n\n\n\n\n\n\n\n\n\n\n\n\n \n\n\n\n \n\nΧαιρετισμός\n\n \n\nΑγαπητοί συνάδελφοι\,\n\nΕκ μέρους της Οργανωτικής Επιτροπής της Ελπί(δο)ς Καρδιολογικής Διημερίδας\, έχω την τιμή και τη χαρά να σας προσκαλέσω να συμμετάσχετε για ενδέκατη συνεχόμενη χρονιά στο Συνέδριο μας\, το οποίο έχει ως κεντρικό θέμα «Καρδιακή ανεπάρκεια και συννοσηρότητες: Διαγνωστική προσπέλαση και θεραπευτικές επιλογές».\n\nΤο Συνέδριο διοργανώνεται από την Εταιρεία Μελέτης Καρδιαγγειακών Παθήσεων (Ε.ΜΕ.ΚΑ.Π.) με τη συνεργασία της Καρδιολογικής Κλινικής του Γ.Ν.Α. «Η Ελπίς» και πρόκειται να πραγματοποιηθεί 16 και 17 Σεπτεμβρίου 2022 στην Αθήνα\, στο ξενοδοχείο Divani Caravel.\n\nΜε τις πιο θερμές ευχαριστίες για το ενδιαφέρον σας και με τη βεβαιότητα ότι η ενεργός συμμετοχή σας αποτελεί την καλύτερη εγγύηση για την επιτυχία του Συνεδρίου μας\, θα χαρούμε να σας καλωσορίσουμε και να γνωρίσουμε μαζί τις νεότερες εξελίξεις στο χώρο της Καρδιακής Ανεπάρκειας.\n\nΜε εκτίμηση\,\n\nΔρ. Αθανάσιος Τρίκας\nΠρόεδρος Οργανωτικής Επιτροπής\nΣυντονιστής Διευθυντής Καρδιολογικής Κλινικής\, Γ.Ν.Α. «Η Ελπίς»\nΑν. Καθηγητής Ιατρικής Σχολής Πανεπιστημίου Αθηνών
URL:https://tmg.gr/event/elpidos-kardiologiki-diimerida-kardiaki-aneparkia-ke-sinnosirotites-diagnostiki-prospelasi-ke-therapeftikes-epiloges/
LOCATION:Vassileos Alexandrou 2\, Αθήνα\, Αθήνα\, 16121\, Ελλάδα
ATTACH;FMTTYPE=application/pdf:https://tmg.gr/wp-content/uploads/2022/02/ELPIS2022-QRP.pdf
ORGANIZER;CN="The%20MasterMind%20Group":MAILTO:info@tmg.gr
END:VEVENT
BEGIN:VEVENT
DTSTART;VALUE=DATE:20220916
DTEND;VALUE=DATE:20220918
DTSTAMP:20260419T173206
CREATED:20220401
LAST-MODIFIED:20221123
UID:20855-1663286400-1663545599@tmg.gr
SUMMARY:Πανελλήνιο Συνέδριο -Ταξιδεύοντας με τα Καρδιομεταβολικά Νοσήματα στον κόσμο του Σακχαρώδη Διαβήτη
DESCRIPTION:\n\n\n\n\n \n\n \n\n\n\n\n\n\n\n\n \n\n\n\n \n\n\n\n\n\n\n\n\n\n\n\n\n\n\n \n\nΧαιρετισμός\n\n \n\nΑγαπητοί συνάδελφοι\,\n\nΣας προσκαλούμε στο 1ο Πανελλήνιο Συνέδριο «Ταξιδεύοντας με τα Καρδιομεταβολικά Νοσήματα στον κόσμο του Σακχαρώδη Διαβήτη Διαβήτη που διοργανώνει η Ελληνική εταιρεία Ταξιδιωτικής (Γεωγραφικής & Τροπικής) Ιατρικής στις 16-18 Σεπτεμβρίου 2022\, στο Ναύπλιο.\n\nΕίμαστε βέβαιοι πως ο υβριδικός τρόπος διεξαγωγής του θα δώσει τη δυνατότητα συμμετοχής και παρακολούθησης σε περισσότερους συναδέλφους από όλη την Επικράτεια.\n\nΤο Συνέδριο απευθύνεται σε όλους τους λειτουργούς υγείας που έχουν ιδιαίτερο ενδιαφέρον για τα καρδιομεταβολικά νοσήματα και αποτελεί μια ευκαιρία για ανταλλαγή καινοτόμων απόψεων σχετικά με τη διάγνωση\, την πρόληψη και τη θεραπεία των καρδιομεταβολικών νοσημάτων σε ασθενείς με σακχαρώδη διαβήτη. Κατά τη διάρκεια των τριών αυτών ημερών μέσω διαλέξεων\, στρογγυλών τραπεζιών\, αντιπαραθέσεων και δορυφορικών συμποσίων\, το επιστημονικό πρόγραμμα του συνεδρίου φιλοδοξεί να καλύψει όλες τις εξελίξεις και νέες προσεγγίσεις στο πεδίο αυτών των νοσημάτων καθώς και τα καθημερινά διαφοροδιαγνωστικά και θεραπευτικά διλήμματα που αντιμετωπίζουμε εντός και εκτός του νοσοκομειακού περιβάλλοντος.\n\nΜε χαρά σας περιμένουμε να λάβετε μέρος σε αυτό το σημαντικό επιστημονικό γεγονός.\n\n \n\nΜε βαθιά εκτίμηση\,\n\nΟ Πρόεδρος της Οργανωτικής Επιτροπής                     Ο Πρόεδρος της Επιστημονικής Επιτροπής\n\nΒασίλης Τσιμιχόδημος                                                Δρ. Αναστάσιος Κουτσοβασίλης\nΑναπληρωτής Καθηγητής Παθολογίας                          Επ. Α’ Παθολόγος - Διαβητολόγος\n\n 
URL:https://tmg.gr/event/panellinio-sinedrio-taxidevontas-me-to-diaviti-ston-kosmo-ton-kardiometavolikon-nosimaton/
LOCATION:Αμαλίας\, Ναύπλιο\, Αργολίδας\, 21 100\, Ελλάδα
ATTACH;FMTTYPE=application/pdf:https://tmg.gr/wp-content/uploads/2022/04/EETI_Congress_Poster-1.pdf
ORGANIZER;CN="The%20MasterMind%20Group":MAILTO:info@tmg.gr
END:VEVENT
END:VCALENDAR